BEGIN:VCALENDAR
VERSION:2.0
PRODID:-//Town of Petrolia - ECPv6.15.14//NONSGML v1.0//EN
CALSCALE:GREGORIAN
METHOD:PUBLISH
X-WR-CALNAME:Town of Petrolia
X-ORIGINAL-URL:https://visitpetrolia.ca
X-WR-CALDESC:Events for Town of Petrolia
REFRESH-INTERVAL;VALUE=DURATION:PT1H
X-Robots-Tag:noindex
X-PUBLISHED-TTL:PT1H
BEGIN:VTIMEZONE
TZID:America/Toronto
BEGIN:DAYLIGHT
TZOFFSETFROM:-0500
TZOFFSETTO:-0400
TZNAME:EDT
DTSTART:20180311T070000
END:DAYLIGHT
BEGIN:STANDARD
TZOFFSETFROM:-0400
TZOFFSETTO:-0500
TZNAME:EST
DTSTART:20181104T060000
END:STANDARD
BEGIN:DAYLIGHT
TZOFFSETFROM:-0500
TZOFFSETTO:-0400
TZNAME:EDT
DTSTART:20190310T070000
END:DAYLIGHT
BEGIN:STANDARD
TZOFFSETFROM:-0400
TZOFFSETTO:-0500
TZNAME:EST
DTSTART:20191103T060000
END:STANDARD
BEGIN:DAYLIGHT
TZOFFSETFROM:-0500
TZOFFSETTO:-0400
TZNAME:EDT
DTSTART:20200308T070000
END:DAYLIGHT
BEGIN:STANDARD
TZOFFSETFROM:-0400
TZOFFSETTO:-0500
TZNAME:EST
DTSTART:20201101T060000
END:STANDARD
END:VTIMEZONE
BEGIN:VEVENT
DTSTART;TZID=America/Toronto:20190716T140000
DTEND;TZID=America/Toronto:20190716T170000
DTSTAMP:20260419T074814
CREATED:20190705T185148Z
LAST-MODIFIED:20190705T185552Z
UID:10014082-1563285600-1563296400@visitpetrolia.ca
SUMMARY:MURDER FOR TWO
DESCRIPTION:JOIN THE FUN AND DISCOVER WHODUNNIT \nBook and music by JOE KINOSIAN\nBook and lyrics by KELLEN BLAIR \nStarring ALEX BAERG & MARK PAYNE \nEveryone is a suspect in this hilarious musical murder mystery with a twist: One actor investigates the crime. The other plays all of the suspects – and both while playing the piano! One fateful night a famous novelist is killed…fatally. With a real detective nowhere to be found\, a small town officer has the chance to prove his sleuthing skills. Multitalented VPP favourites Mark Payne and Alex Baerg are sure to put the ‘laughter’ in ‘manslaughter.’
URL:https://visitpetrolia.ca/event/murder-for-two/2019-07-16/
LOCATION:Victoria Hall\, 411 Greenfield Street\, Petrolia\, ON\, N0N1R0\, Canada
CATEGORIES:Victoria Playhouse
ATTACH;FMTTYPE=image/jpeg:https://visitpetrolia.ca/wp-content/uploads/2019/07/m42square-2.jpg
END:VEVENT
BEGIN:VEVENT
DTSTART;TZID=America/Toronto:20190717T140000
DTEND;TZID=America/Toronto:20190717T170000
DTSTAMP:20260419T074814
CREATED:20190705T185148Z
LAST-MODIFIED:20190705T185552Z
UID:10014083-1563372000-1563382800@visitpetrolia.ca
SUMMARY:MURDER FOR TWO
DESCRIPTION:JOIN THE FUN AND DISCOVER WHODUNNIT \nBook and music by JOE KINOSIAN\nBook and lyrics by KELLEN BLAIR \nStarring ALEX BAERG & MARK PAYNE \nEveryone is a suspect in this hilarious musical murder mystery with a twist: One actor investigates the crime. The other plays all of the suspects – and both while playing the piano! One fateful night a famous novelist is killed…fatally. With a real detective nowhere to be found\, a small town officer has the chance to prove his sleuthing skills. Multitalented VPP favourites Mark Payne and Alex Baerg are sure to put the ‘laughter’ in ‘manslaughter.’
URL:https://visitpetrolia.ca/event/murder-for-two/2019-07-17/
LOCATION:Victoria Hall\, 411 Greenfield Street\, Petrolia\, ON\, N0N1R0\, Canada
CATEGORIES:Victoria Playhouse
ATTACH;FMTTYPE=image/jpeg:https://visitpetrolia.ca/wp-content/uploads/2019/07/m42square-2.jpg
END:VEVENT
BEGIN:VEVENT
DTSTART;TZID=America/Toronto:20190718T140000
DTEND;TZID=America/Toronto:20190718T170000
DTSTAMP:20260419T074814
CREATED:20190705T185148Z
LAST-MODIFIED:20190705T185552Z
UID:10014084-1563458400-1563469200@visitpetrolia.ca
SUMMARY:MURDER FOR TWO
DESCRIPTION:JOIN THE FUN AND DISCOVER WHODUNNIT \nBook and music by JOE KINOSIAN\nBook and lyrics by KELLEN BLAIR \nStarring ALEX BAERG & MARK PAYNE \nEveryone is a suspect in this hilarious musical murder mystery with a twist: One actor investigates the crime. The other plays all of the suspects – and both while playing the piano! One fateful night a famous novelist is killed…fatally. With a real detective nowhere to be found\, a small town officer has the chance to prove his sleuthing skills. Multitalented VPP favourites Mark Payne and Alex Baerg are sure to put the ‘laughter’ in ‘manslaughter.’
URL:https://visitpetrolia.ca/event/murder-for-two/2019-07-18/
LOCATION:Victoria Hall\, 411 Greenfield Street\, Petrolia\, ON\, N0N1R0\, Canada
CATEGORIES:Victoria Playhouse
ATTACH;FMTTYPE=image/jpeg:https://visitpetrolia.ca/wp-content/uploads/2019/07/m42square-2.jpg
END:VEVENT
BEGIN:VEVENT
DTSTART;TZID=America/Toronto:20190719T140000
DTEND;TZID=America/Toronto:20190719T170000
DTSTAMP:20260419T074814
CREATED:20190705T185148Z
LAST-MODIFIED:20190705T185552Z
UID:10014085-1563544800-1563555600@visitpetrolia.ca
SUMMARY:MURDER FOR TWO
DESCRIPTION:JOIN THE FUN AND DISCOVER WHODUNNIT \nBook and music by JOE KINOSIAN\nBook and lyrics by KELLEN BLAIR \nStarring ALEX BAERG & MARK PAYNE \nEveryone is a suspect in this hilarious musical murder mystery with a twist: One actor investigates the crime. The other plays all of the suspects – and both while playing the piano! One fateful night a famous novelist is killed…fatally. With a real detective nowhere to be found\, a small town officer has the chance to prove his sleuthing skills. Multitalented VPP favourites Mark Payne and Alex Baerg are sure to put the ‘laughter’ in ‘manslaughter.’
URL:https://visitpetrolia.ca/event/murder-for-two/2019-07-19/
LOCATION:Victoria Hall\, 411 Greenfield Street\, Petrolia\, ON\, N0N1R0\, Canada
CATEGORIES:Victoria Playhouse
ATTACH;FMTTYPE=image/jpeg:https://visitpetrolia.ca/wp-content/uploads/2019/07/m42square-2.jpg
END:VEVENT
BEGIN:VEVENT
DTSTART;TZID=America/Toronto:20190720T073000
DTEND;TZID=America/Toronto:20190720T120000
DTSTAMP:20260419T074814
CREATED:20190705T192152Z
LAST-MODIFIED:20190717T163730Z
UID:10014093-1563607800-1563624000@visitpetrolia.ca
SUMMARY:Farmers Market
DESCRIPTION:
URL:https://visitpetrolia.ca/event/petrolia-farmers-market/2019-07-20/
LOCATION:Petrolia Library\, 4200 Petrolia Line\, Petrolia\, Ontario\, N0N1R0\, Canada
CATEGORIES:Farmers Market
END:VEVENT
BEGIN:VEVENT
DTSTART;TZID=America/Toronto:20190720T193000
DTEND;TZID=America/Toronto:20190720T223000
DTSTAMP:20260419T074814
CREATED:20251216T202812Z
LAST-MODIFIED:20251216T202812Z
UID:10014088-1563651000-1563661800@visitpetrolia.ca
SUMMARY:MURDER FOR TWO
DESCRIPTION:JOIN THE FUN AND DISCOVER WHODUNNIT \nBook and music by JOE KINOSIAN\nBook and lyrics by KELLEN BLAIR \nStarring ALEX BAERG & MARK PAYNE \nEveryone is a suspect in this hilarious musical murder mystery with a twist: One actor investigates the crime. The other plays all of the suspects – and both while playing the piano! One fateful night a famous novelist is killed…fatally. With a real detective nowhere to be found\, a small town officer has the chance to prove his sleuthing skills. Multitalented VPP favourites Mark Payne and Alex Baerg are sure to put the ‘laughter’ in ‘manslaughter.’
URL:https://visitpetrolia.ca/event/murder-for-two/2019-07-20/
LOCATION:Victoria Hall\, 411 Greenfield Street\, Petrolia\, ON\, N0N1R0\, Canada
CATEGORIES:Victoria Playhouse
ATTACH;FMTTYPE=image/jpeg:https://visitpetrolia.ca/wp-content/uploads/2019/07/m42square-2.jpg
END:VEVENT
END:VCALENDAR