BEGIN:VCALENDAR
VERSION:2.0
PRODID:-//Town of Petrolia - ECPv6.15.14//NONSGML v1.0//EN
CALSCALE:GREGORIAN
METHOD:PUBLISH
X-WR-CALNAME:Town of Petrolia
X-ORIGINAL-URL:https://visitpetrolia.ca
X-WR-CALDESC:Events for Town of Petrolia
REFRESH-INTERVAL;VALUE=DURATION:PT1H
X-Robots-Tag:noindex
X-PUBLISHED-TTL:PT1H
BEGIN:VTIMEZONE
TZID:America/Toronto
BEGIN:DAYLIGHT
TZOFFSETFROM:-0500
TZOFFSETTO:-0400
TZNAME:EDT
DTSTART:20230312T070000
END:DAYLIGHT
BEGIN:STANDARD
TZOFFSETFROM:-0400
TZOFFSETTO:-0500
TZNAME:EST
DTSTART:20231105T060000
END:STANDARD
BEGIN:DAYLIGHT
TZOFFSETFROM:-0500
TZOFFSETTO:-0400
TZNAME:EDT
DTSTART:20240310T070000
END:DAYLIGHT
BEGIN:STANDARD
TZOFFSETFROM:-0400
TZOFFSETTO:-0500
TZNAME:EST
DTSTART:20241103T060000
END:STANDARD
BEGIN:DAYLIGHT
TZOFFSETFROM:-0500
TZOFFSETTO:-0400
TZNAME:EDT
DTSTART:20250309T070000
END:DAYLIGHT
BEGIN:STANDARD
TZOFFSETFROM:-0400
TZOFFSETTO:-0500
TZNAME:EST
DTSTART:20251102T060000
END:STANDARD
END:VTIMEZONE
BEGIN:VEVENT
DTSTART;TZID=America/Toronto:20241209T190000
DTEND;TZID=America/Toronto:20241209T203000
DTSTAMP:20260424T011132
CREATED:20240328T203232Z
LAST-MODIFIED:20240328T203232Z
UID:10014999-1733770800-1733776200@visitpetrolia.ca
SUMMARY:Monday Night Trivia
DESCRIPTION:Real Deal Trivia’s Matt McNeill is back hosting with high energy and thought provoking questions. \nAwesome prizes for 1st\, 2nd\, and 3rd place winners! Players also have an additional chance to win a door prize ($100 gift certificate from one of the great RealDeal Trivia sponsors). \nGet your team together and book your standing reservation for 7pm on Mondays.
URL:https://visitpetrolia.ca/event/monday-night-trivia/2024-12-09/
LOCATION:Black Gold Brewery\, 395 Fletcher St.\, Petrolia\, Ontario\, N0N1R0\, Canada
ATTACH;FMTTYPE=image/jpeg:https://visitpetrolia.ca/wp-content/uploads/2024/03/mondaynighttrivia.jpeg
ORGANIZER;CN="Black Gold Brewery":MAILTO:info@blackgold.beer
END:VEVENT
BEGIN:VEVENT
DTSTART;TZID=America/Toronto:20241203T183000
DTEND;TZID=America/Toronto:20241203T203000
DTSTAMP:20260424T011132
CREATED:20240328T203251Z
LAST-MODIFIED:20240328T203251Z
UID:10014960-1733250600-1733257800@visitpetrolia.ca
SUMMARY:Meat Raffles
DESCRIPTION:Kiwanis Club of Petrolia and Area are hosting their weekly Meat Raffles at Black Gold Brewery every Tuesday evening! \nThere are 4 draws per night at 7:00pm\, 7:30pm\, 8:00pm and 8:30pm. Ticket sales start at 6:30pm. Tickets are $2 each or 3 for $5. \nThe first ticket drawn is a $30 meat package and the 2nd ticket drawn is a $5 Black Gold Brewery gift card.
URL:https://visitpetrolia.ca/event/meat-raffles/2024-12-03/
LOCATION:Black Gold Brewery\, 395 Fletcher St.\, Petrolia\, Ontario\, N0N1R0\, Canada
ATTACH;FMTTYPE=image/png:https://visitpetrolia.ca/wp-content/uploads/2024/03/meat_raffles.png
ORGANIZER;CN="Black Gold Brewery":MAILTO:info@blackgold.beer
END:VEVENT
BEGIN:VEVENT
DTSTART;TZID=America/Toronto:20241202T190000
DTEND;TZID=America/Toronto:20241202T203000
DTSTAMP:20260424T011132
CREATED:20240328T203232Z
LAST-MODIFIED:20240328T203232Z
UID:10014998-1733166000-1733171400@visitpetrolia.ca
SUMMARY:Monday Night Trivia
DESCRIPTION:Real Deal Trivia’s Matt McNeill is back hosting with high energy and thought provoking questions. \nAwesome prizes for 1st\, 2nd\, and 3rd place winners! Players also have an additional chance to win a door prize ($100 gift certificate from one of the great RealDeal Trivia sponsors). \nGet your team together and book your standing reservation for 7pm on Mondays.
URL:https://visitpetrolia.ca/event/monday-night-trivia/2024-12-02/
LOCATION:Black Gold Brewery\, 395 Fletcher St.\, Petrolia\, Ontario\, N0N1R0\, Canada
ATTACH;FMTTYPE=image/jpeg:https://visitpetrolia.ca/wp-content/uploads/2024/03/mondaynighttrivia.jpeg
ORGANIZER;CN="Black Gold Brewery":MAILTO:info@blackgold.beer
END:VEVENT
BEGIN:VEVENT
DTSTART;TZID=America/Toronto:20241126T183000
DTEND;TZID=America/Toronto:20241126T203000
DTSTAMP:20260424T011132
CREATED:20240328T203251Z
LAST-MODIFIED:20240328T203251Z
UID:10014959-1732645800-1732653000@visitpetrolia.ca
SUMMARY:Meat Raffles
DESCRIPTION:Kiwanis Club of Petrolia and Area are hosting their weekly Meat Raffles at Black Gold Brewery every Tuesday evening! \nThere are 4 draws per night at 7:00pm\, 7:30pm\, 8:00pm and 8:30pm. Ticket sales start at 6:30pm. Tickets are $2 each or 3 for $5. \nThe first ticket drawn is a $30 meat package and the 2nd ticket drawn is a $5 Black Gold Brewery gift card.
URL:https://visitpetrolia.ca/event/meat-raffles/2024-11-26/
LOCATION:Black Gold Brewery\, 395 Fletcher St.\, Petrolia\, Ontario\, N0N1R0\, Canada
ATTACH;FMTTYPE=image/png:https://visitpetrolia.ca/wp-content/uploads/2024/03/meat_raffles.png
ORGANIZER;CN="Black Gold Brewery":MAILTO:info@blackgold.beer
END:VEVENT
BEGIN:VEVENT
DTSTART;TZID=America/Toronto:20241125T190000
DTEND;TZID=America/Toronto:20241125T203000
DTSTAMP:20260424T011132
CREATED:20240328T203232Z
LAST-MODIFIED:20240328T203232Z
UID:10014997-1732561200-1732566600@visitpetrolia.ca
SUMMARY:Monday Night Trivia
DESCRIPTION:Real Deal Trivia’s Matt McNeill is back hosting with high energy and thought provoking questions. \nAwesome prizes for 1st\, 2nd\, and 3rd place winners! Players also have an additional chance to win a door prize ($100 gift certificate from one of the great RealDeal Trivia sponsors). \nGet your team together and book your standing reservation for 7pm on Mondays.
URL:https://visitpetrolia.ca/event/monday-night-trivia/2024-11-25/
LOCATION:Black Gold Brewery\, 395 Fletcher St.\, Petrolia\, Ontario\, N0N1R0\, Canada
ATTACH;FMTTYPE=image/jpeg:https://visitpetrolia.ca/wp-content/uploads/2024/03/mondaynighttrivia.jpeg
ORGANIZER;CN="Black Gold Brewery":MAILTO:info@blackgold.beer
END:VEVENT
BEGIN:VEVENT
DTSTART;TZID=America/Toronto:20241119T183000
DTEND;TZID=America/Toronto:20241119T203000
DTSTAMP:20260424T011132
CREATED:20240328T203251Z
LAST-MODIFIED:20240328T203251Z
UID:10014958-1732041000-1732048200@visitpetrolia.ca
SUMMARY:Meat Raffles
DESCRIPTION:Kiwanis Club of Petrolia and Area are hosting their weekly Meat Raffles at Black Gold Brewery every Tuesday evening! \nThere are 4 draws per night at 7:00pm\, 7:30pm\, 8:00pm and 8:30pm. Ticket sales start at 6:30pm. Tickets are $2 each or 3 for $5. \nThe first ticket drawn is a $30 meat package and the 2nd ticket drawn is a $5 Black Gold Brewery gift card.
URL:https://visitpetrolia.ca/event/meat-raffles/2024-11-19/
LOCATION:Black Gold Brewery\, 395 Fletcher St.\, Petrolia\, Ontario\, N0N1R0\, Canada
ATTACH;FMTTYPE=image/png:https://visitpetrolia.ca/wp-content/uploads/2024/03/meat_raffles.png
ORGANIZER;CN="Black Gold Brewery":MAILTO:info@blackgold.beer
END:VEVENT
BEGIN:VEVENT
DTSTART;TZID=America/Toronto:20241118T190000
DTEND;TZID=America/Toronto:20241118T203000
DTSTAMP:20260424T011132
CREATED:20240328T203232Z
LAST-MODIFIED:20240328T203232Z
UID:10014996-1731956400-1731961800@visitpetrolia.ca
SUMMARY:Monday Night Trivia
DESCRIPTION:Real Deal Trivia’s Matt McNeill is back hosting with high energy and thought provoking questions. \nAwesome prizes for 1st\, 2nd\, and 3rd place winners! Players also have an additional chance to win a door prize ($100 gift certificate from one of the great RealDeal Trivia sponsors). \nGet your team together and book your standing reservation for 7pm on Mondays.
URL:https://visitpetrolia.ca/event/monday-night-trivia/2024-11-18/
LOCATION:Black Gold Brewery\, 395 Fletcher St.\, Petrolia\, Ontario\, N0N1R0\, Canada
ATTACH;FMTTYPE=image/jpeg:https://visitpetrolia.ca/wp-content/uploads/2024/03/mondaynighttrivia.jpeg
ORGANIZER;CN="Black Gold Brewery":MAILTO:info@blackgold.beer
END:VEVENT
BEGIN:VEVENT
DTSTART;TZID=America/Toronto:20241112T183000
DTEND;TZID=America/Toronto:20241112T203000
DTSTAMP:20260424T011132
CREATED:20240328T203251Z
LAST-MODIFIED:20240328T203251Z
UID:10014957-1731436200-1731443400@visitpetrolia.ca
SUMMARY:Meat Raffles
DESCRIPTION:Kiwanis Club of Petrolia and Area are hosting their weekly Meat Raffles at Black Gold Brewery every Tuesday evening! \nThere are 4 draws per night at 7:00pm\, 7:30pm\, 8:00pm and 8:30pm. Ticket sales start at 6:30pm. Tickets are $2 each or 3 for $5. \nThe first ticket drawn is a $30 meat package and the 2nd ticket drawn is a $5 Black Gold Brewery gift card.
URL:https://visitpetrolia.ca/event/meat-raffles/2024-11-12/
LOCATION:Black Gold Brewery\, 395 Fletcher St.\, Petrolia\, Ontario\, N0N1R0\, Canada
ATTACH;FMTTYPE=image/png:https://visitpetrolia.ca/wp-content/uploads/2024/03/meat_raffles.png
ORGANIZER;CN="Black Gold Brewery":MAILTO:info@blackgold.beer
END:VEVENT
BEGIN:VEVENT
DTSTART;TZID=America/Toronto:20241111T190000
DTEND;TZID=America/Toronto:20241111T203000
DTSTAMP:20260424T011132
CREATED:20240328T203232Z
LAST-MODIFIED:20240328T203232Z
UID:10014995-1731351600-1731357000@visitpetrolia.ca
SUMMARY:Monday Night Trivia
DESCRIPTION:Real Deal Trivia’s Matt McNeill is back hosting with high energy and thought provoking questions. \nAwesome prizes for 1st\, 2nd\, and 3rd place winners! Players also have an additional chance to win a door prize ($100 gift certificate from one of the great RealDeal Trivia sponsors). \nGet your team together and book your standing reservation for 7pm on Mondays.
URL:https://visitpetrolia.ca/event/monday-night-trivia/2024-11-11/
LOCATION:Black Gold Brewery\, 395 Fletcher St.\, Petrolia\, Ontario\, N0N1R0\, Canada
ATTACH;FMTTYPE=image/jpeg:https://visitpetrolia.ca/wp-content/uploads/2024/03/mondaynighttrivia.jpeg
ORGANIZER;CN="Black Gold Brewery":MAILTO:info@blackgold.beer
END:VEVENT
BEGIN:VEVENT
DTSTART;TZID=America/Toronto:20241105T183000
DTEND;TZID=America/Toronto:20241105T203000
DTSTAMP:20260424T011132
CREATED:20240328T203251Z
LAST-MODIFIED:20240328T203251Z
UID:10014956-1730831400-1730838600@visitpetrolia.ca
SUMMARY:Meat Raffles
DESCRIPTION:Kiwanis Club of Petrolia and Area are hosting their weekly Meat Raffles at Black Gold Brewery every Tuesday evening! \nThere are 4 draws per night at 7:00pm\, 7:30pm\, 8:00pm and 8:30pm. Ticket sales start at 6:30pm. Tickets are $2 each or 3 for $5. \nThe first ticket drawn is a $30 meat package and the 2nd ticket drawn is a $5 Black Gold Brewery gift card.
URL:https://visitpetrolia.ca/event/meat-raffles/2024-11-05/
LOCATION:Black Gold Brewery\, 395 Fletcher St.\, Petrolia\, Ontario\, N0N1R0\, Canada
ATTACH;FMTTYPE=image/png:https://visitpetrolia.ca/wp-content/uploads/2024/03/meat_raffles.png
ORGANIZER;CN="Black Gold Brewery":MAILTO:info@blackgold.beer
END:VEVENT
BEGIN:VEVENT
DTSTART;TZID=America/Toronto:20241104T190000
DTEND;TZID=America/Toronto:20241104T203000
DTSTAMP:20260424T011132
CREATED:20240328T203232Z
LAST-MODIFIED:20240328T203232Z
UID:10014994-1730746800-1730752200@visitpetrolia.ca
SUMMARY:Monday Night Trivia
DESCRIPTION:Real Deal Trivia’s Matt McNeill is back hosting with high energy and thought provoking questions. \nAwesome prizes for 1st\, 2nd\, and 3rd place winners! Players also have an additional chance to win a door prize ($100 gift certificate from one of the great RealDeal Trivia sponsors). \nGet your team together and book your standing reservation for 7pm on Mondays.
URL:https://visitpetrolia.ca/event/monday-night-trivia/2024-11-04/
LOCATION:Black Gold Brewery\, 395 Fletcher St.\, Petrolia\, Ontario\, N0N1R0\, Canada
ATTACH;FMTTYPE=image/jpeg:https://visitpetrolia.ca/wp-content/uploads/2024/03/mondaynighttrivia.jpeg
ORGANIZER;CN="Black Gold Brewery":MAILTO:info@blackgold.beer
END:VEVENT
BEGIN:VEVENT
DTSTART;TZID=America/Toronto:20241029T183000
DTEND;TZID=America/Toronto:20241029T203000
DTSTAMP:20260424T011132
CREATED:20240328T203251Z
LAST-MODIFIED:20240328T203251Z
UID:10014955-1730226600-1730233800@visitpetrolia.ca
SUMMARY:Meat Raffles
DESCRIPTION:Kiwanis Club of Petrolia and Area are hosting their weekly Meat Raffles at Black Gold Brewery every Tuesday evening! \nThere are 4 draws per night at 7:00pm\, 7:30pm\, 8:00pm and 8:30pm. Ticket sales start at 6:30pm. Tickets are $2 each or 3 for $5. \nThe first ticket drawn is a $30 meat package and the 2nd ticket drawn is a $5 Black Gold Brewery gift card.
URL:https://visitpetrolia.ca/event/meat-raffles/2024-10-29/
LOCATION:Black Gold Brewery\, 395 Fletcher St.\, Petrolia\, Ontario\, N0N1R0\, Canada
ATTACH;FMTTYPE=image/png:https://visitpetrolia.ca/wp-content/uploads/2024/03/meat_raffles.png
ORGANIZER;CN="Black Gold Brewery":MAILTO:info@blackgold.beer
END:VEVENT
BEGIN:VEVENT
DTSTART;TZID=America/Toronto:20241028T190000
DTEND;TZID=America/Toronto:20241028T203000
DTSTAMP:20260424T011132
CREATED:20240328T203232Z
LAST-MODIFIED:20240328T203232Z
UID:10014993-1730142000-1730147400@visitpetrolia.ca
SUMMARY:Monday Night Trivia
DESCRIPTION:Real Deal Trivia’s Matt McNeill is back hosting with high energy and thought provoking questions. \nAwesome prizes for 1st\, 2nd\, and 3rd place winners! Players also have an additional chance to win a door prize ($100 gift certificate from one of the great RealDeal Trivia sponsors). \nGet your team together and book your standing reservation for 7pm on Mondays.
URL:https://visitpetrolia.ca/event/monday-night-trivia/2024-10-28/
LOCATION:Black Gold Brewery\, 395 Fletcher St.\, Petrolia\, Ontario\, N0N1R0\, Canada
ATTACH;FMTTYPE=image/jpeg:https://visitpetrolia.ca/wp-content/uploads/2024/03/mondaynighttrivia.jpeg
ORGANIZER;CN="Black Gold Brewery":MAILTO:info@blackgold.beer
END:VEVENT
BEGIN:VEVENT
DTSTART;TZID=America/Toronto:20241022T183000
DTEND;TZID=America/Toronto:20241022T203000
DTSTAMP:20260424T011132
CREATED:20240328T203251Z
LAST-MODIFIED:20240328T203251Z
UID:10014954-1729621800-1729629000@visitpetrolia.ca
SUMMARY:Meat Raffles
DESCRIPTION:Kiwanis Club of Petrolia and Area are hosting their weekly Meat Raffles at Black Gold Brewery every Tuesday evening! \nThere are 4 draws per night at 7:00pm\, 7:30pm\, 8:00pm and 8:30pm. Ticket sales start at 6:30pm. Tickets are $2 each or 3 for $5. \nThe first ticket drawn is a $30 meat package and the 2nd ticket drawn is a $5 Black Gold Brewery gift card.
URL:https://visitpetrolia.ca/event/meat-raffles/2024-10-22/
LOCATION:Black Gold Brewery\, 395 Fletcher St.\, Petrolia\, Ontario\, N0N1R0\, Canada
ATTACH;FMTTYPE=image/png:https://visitpetrolia.ca/wp-content/uploads/2024/03/meat_raffles.png
ORGANIZER;CN="Black Gold Brewery":MAILTO:info@blackgold.beer
END:VEVENT
BEGIN:VEVENT
DTSTART;TZID=America/Toronto:20241021T190000
DTEND;TZID=America/Toronto:20241021T203000
DTSTAMP:20260424T011132
CREATED:20240328T203232Z
LAST-MODIFIED:20240328T203232Z
UID:10014992-1729537200-1729542600@visitpetrolia.ca
SUMMARY:Monday Night Trivia
DESCRIPTION:Real Deal Trivia’s Matt McNeill is back hosting with high energy and thought provoking questions. \nAwesome prizes for 1st\, 2nd\, and 3rd place winners! Players also have an additional chance to win a door prize ($100 gift certificate from one of the great RealDeal Trivia sponsors). \nGet your team together and book your standing reservation for 7pm on Mondays.
URL:https://visitpetrolia.ca/event/monday-night-trivia/2024-10-21/
LOCATION:Black Gold Brewery\, 395 Fletcher St.\, Petrolia\, Ontario\, N0N1R0\, Canada
ATTACH;FMTTYPE=image/jpeg:https://visitpetrolia.ca/wp-content/uploads/2024/03/mondaynighttrivia.jpeg
ORGANIZER;CN="Black Gold Brewery":MAILTO:info@blackgold.beer
END:VEVENT
BEGIN:VEVENT
DTSTART;TZID=America/Toronto:20241015T183000
DTEND;TZID=America/Toronto:20241015T203000
DTSTAMP:20260424T011132
CREATED:20240328T203251Z
LAST-MODIFIED:20240328T203251Z
UID:10014953-1729017000-1729024200@visitpetrolia.ca
SUMMARY:Meat Raffles
DESCRIPTION:Kiwanis Club of Petrolia and Area are hosting their weekly Meat Raffles at Black Gold Brewery every Tuesday evening! \nThere are 4 draws per night at 7:00pm\, 7:30pm\, 8:00pm and 8:30pm. Ticket sales start at 6:30pm. Tickets are $2 each or 3 for $5. \nThe first ticket drawn is a $30 meat package and the 2nd ticket drawn is a $5 Black Gold Brewery gift card.
URL:https://visitpetrolia.ca/event/meat-raffles/2024-10-15/
LOCATION:Black Gold Brewery\, 395 Fletcher St.\, Petrolia\, Ontario\, N0N1R0\, Canada
ATTACH;FMTTYPE=image/png:https://visitpetrolia.ca/wp-content/uploads/2024/03/meat_raffles.png
ORGANIZER;CN="Black Gold Brewery":MAILTO:info@blackgold.beer
END:VEVENT
BEGIN:VEVENT
DTSTART;TZID=America/Toronto:20241014T190000
DTEND;TZID=America/Toronto:20241014T203000
DTSTAMP:20260424T011132
CREATED:20240328T203232Z
LAST-MODIFIED:20240328T203232Z
UID:10014991-1728932400-1728937800@visitpetrolia.ca
SUMMARY:Monday Night Trivia
DESCRIPTION:Real Deal Trivia’s Matt McNeill is back hosting with high energy and thought provoking questions. \nAwesome prizes for 1st\, 2nd\, and 3rd place winners! Players also have an additional chance to win a door prize ($100 gift certificate from one of the great RealDeal Trivia sponsors). \nGet your team together and book your standing reservation for 7pm on Mondays.
URL:https://visitpetrolia.ca/event/monday-night-trivia/2024-10-14/
LOCATION:Black Gold Brewery\, 395 Fletcher St.\, Petrolia\, Ontario\, N0N1R0\, Canada
ATTACH;FMTTYPE=image/jpeg:https://visitpetrolia.ca/wp-content/uploads/2024/03/mondaynighttrivia.jpeg
ORGANIZER;CN="Black Gold Brewery":MAILTO:info@blackgold.beer
END:VEVENT
BEGIN:VEVENT
DTSTART;TZID=America/Toronto:20241008T183000
DTEND;TZID=America/Toronto:20241008T203000
DTSTAMP:20260424T011132
CREATED:20240328T203251Z
LAST-MODIFIED:20240328T203251Z
UID:10014952-1728412200-1728419400@visitpetrolia.ca
SUMMARY:Meat Raffles
DESCRIPTION:Kiwanis Club of Petrolia and Area are hosting their weekly Meat Raffles at Black Gold Brewery every Tuesday evening! \nThere are 4 draws per night at 7:00pm\, 7:30pm\, 8:00pm and 8:30pm. Ticket sales start at 6:30pm. Tickets are $2 each or 3 for $5. \nThe first ticket drawn is a $30 meat package and the 2nd ticket drawn is a $5 Black Gold Brewery gift card.
URL:https://visitpetrolia.ca/event/meat-raffles/2024-10-08/
LOCATION:Black Gold Brewery\, 395 Fletcher St.\, Petrolia\, Ontario\, N0N1R0\, Canada
ATTACH;FMTTYPE=image/png:https://visitpetrolia.ca/wp-content/uploads/2024/03/meat_raffles.png
ORGANIZER;CN="Black Gold Brewery":MAILTO:info@blackgold.beer
END:VEVENT
BEGIN:VEVENT
DTSTART;TZID=America/Toronto:20241007T190000
DTEND;TZID=America/Toronto:20241007T203000
DTSTAMP:20260424T011132
CREATED:20240328T203232Z
LAST-MODIFIED:20240328T203232Z
UID:10014990-1728327600-1728333000@visitpetrolia.ca
SUMMARY:Monday Night Trivia
DESCRIPTION:Real Deal Trivia’s Matt McNeill is back hosting with high energy and thought provoking questions. \nAwesome prizes for 1st\, 2nd\, and 3rd place winners! Players also have an additional chance to win a door prize ($100 gift certificate from one of the great RealDeal Trivia sponsors). \nGet your team together and book your standing reservation for 7pm on Mondays.
URL:https://visitpetrolia.ca/event/monday-night-trivia/2024-10-07/
LOCATION:Black Gold Brewery\, 395 Fletcher St.\, Petrolia\, Ontario\, N0N1R0\, Canada
ATTACH;FMTTYPE=image/jpeg:https://visitpetrolia.ca/wp-content/uploads/2024/03/mondaynighttrivia.jpeg
ORGANIZER;CN="Black Gold Brewery":MAILTO:info@blackgold.beer
END:VEVENT
BEGIN:VEVENT
DTSTART;TZID=America/Toronto:20241001T183000
DTEND;TZID=America/Toronto:20241001T203000
DTSTAMP:20260424T011132
CREATED:20240328T203251Z
LAST-MODIFIED:20240328T203251Z
UID:10014951-1727807400-1727814600@visitpetrolia.ca
SUMMARY:Meat Raffles
DESCRIPTION:Kiwanis Club of Petrolia and Area are hosting their weekly Meat Raffles at Black Gold Brewery every Tuesday evening! \nThere are 4 draws per night at 7:00pm\, 7:30pm\, 8:00pm and 8:30pm. Ticket sales start at 6:30pm. Tickets are $2 each or 3 for $5. \nThe first ticket drawn is a $30 meat package and the 2nd ticket drawn is a $5 Black Gold Brewery gift card.
URL:https://visitpetrolia.ca/event/meat-raffles/2024-10-01/
LOCATION:Black Gold Brewery\, 395 Fletcher St.\, Petrolia\, Ontario\, N0N1R0\, Canada
ATTACH;FMTTYPE=image/png:https://visitpetrolia.ca/wp-content/uploads/2024/03/meat_raffles.png
ORGANIZER;CN="Black Gold Brewery":MAILTO:info@blackgold.beer
END:VEVENT
BEGIN:VEVENT
DTSTART;TZID=America/Toronto:20240930T190000
DTEND;TZID=America/Toronto:20240930T203000
DTSTAMP:20260424T011132
CREATED:20240328T203232Z
LAST-MODIFIED:20240328T203232Z
UID:10014989-1727722800-1727728200@visitpetrolia.ca
SUMMARY:Monday Night Trivia
DESCRIPTION:Real Deal Trivia’s Matt McNeill is back hosting with high energy and thought provoking questions. \nAwesome prizes for 1st\, 2nd\, and 3rd place winners! Players also have an additional chance to win a door prize ($100 gift certificate from one of the great RealDeal Trivia sponsors). \nGet your team together and book your standing reservation for 7pm on Mondays.
URL:https://visitpetrolia.ca/event/monday-night-trivia/2024-09-30/
LOCATION:Black Gold Brewery\, 395 Fletcher St.\, Petrolia\, Ontario\, N0N1R0\, Canada
ATTACH;FMTTYPE=image/jpeg:https://visitpetrolia.ca/wp-content/uploads/2024/03/mondaynighttrivia.jpeg
ORGANIZER;CN="Black Gold Brewery":MAILTO:info@blackgold.beer
END:VEVENT
BEGIN:VEVENT
DTSTART;TZID=America/Toronto:20240924T183000
DTEND;TZID=America/Toronto:20240924T203000
DTSTAMP:20260424T011132
CREATED:20240328T203251Z
LAST-MODIFIED:20240328T203251Z
UID:10014950-1727202600-1727209800@visitpetrolia.ca
SUMMARY:Meat Raffles
DESCRIPTION:Kiwanis Club of Petrolia and Area are hosting their weekly Meat Raffles at Black Gold Brewery every Tuesday evening! \nThere are 4 draws per night at 7:00pm\, 7:30pm\, 8:00pm and 8:30pm. Ticket sales start at 6:30pm. Tickets are $2 each or 3 for $5. \nThe first ticket drawn is a $30 meat package and the 2nd ticket drawn is a $5 Black Gold Brewery gift card.
URL:https://visitpetrolia.ca/event/meat-raffles/2024-09-24/
LOCATION:Black Gold Brewery\, 395 Fletcher St.\, Petrolia\, Ontario\, N0N1R0\, Canada
ATTACH;FMTTYPE=image/png:https://visitpetrolia.ca/wp-content/uploads/2024/03/meat_raffles.png
ORGANIZER;CN="Black Gold Brewery":MAILTO:info@blackgold.beer
END:VEVENT
BEGIN:VEVENT
DTSTART;TZID=America/Toronto:20240923T190000
DTEND;TZID=America/Toronto:20240923T203000
DTSTAMP:20260424T011132
CREATED:20240328T203232Z
LAST-MODIFIED:20240328T203232Z
UID:10014988-1727118000-1727123400@visitpetrolia.ca
SUMMARY:Monday Night Trivia
DESCRIPTION:Real Deal Trivia’s Matt McNeill is back hosting with high energy and thought provoking questions. \nAwesome prizes for 1st\, 2nd\, and 3rd place winners! Players also have an additional chance to win a door prize ($100 gift certificate from one of the great RealDeal Trivia sponsors). \nGet your team together and book your standing reservation for 7pm on Mondays.
URL:https://visitpetrolia.ca/event/monday-night-trivia/2024-09-23/
LOCATION:Black Gold Brewery\, 395 Fletcher St.\, Petrolia\, Ontario\, N0N1R0\, Canada
ATTACH;FMTTYPE=image/jpeg:https://visitpetrolia.ca/wp-content/uploads/2024/03/mondaynighttrivia.jpeg
ORGANIZER;CN="Black Gold Brewery":MAILTO:info@blackgold.beer
END:VEVENT
BEGIN:VEVENT
DTSTART;TZID=America/Toronto:20240917T183000
DTEND;TZID=America/Toronto:20240917T203000
DTSTAMP:20260424T011132
CREATED:20240328T203251Z
LAST-MODIFIED:20240328T203251Z
UID:10014949-1726597800-1726605000@visitpetrolia.ca
SUMMARY:Meat Raffles
DESCRIPTION:Kiwanis Club of Petrolia and Area are hosting their weekly Meat Raffles at Black Gold Brewery every Tuesday evening! \nThere are 4 draws per night at 7:00pm\, 7:30pm\, 8:00pm and 8:30pm. Ticket sales start at 6:30pm. Tickets are $2 each or 3 for $5. \nThe first ticket drawn is a $30 meat package and the 2nd ticket drawn is a $5 Black Gold Brewery gift card.
URL:https://visitpetrolia.ca/event/meat-raffles/2024-09-17/
LOCATION:Black Gold Brewery\, 395 Fletcher St.\, Petrolia\, Ontario\, N0N1R0\, Canada
ATTACH;FMTTYPE=image/png:https://visitpetrolia.ca/wp-content/uploads/2024/03/meat_raffles.png
ORGANIZER;CN="Black Gold Brewery":MAILTO:info@blackgold.beer
END:VEVENT
BEGIN:VEVENT
DTSTART;TZID=America/Toronto:20240916T190000
DTEND;TZID=America/Toronto:20240916T203000
DTSTAMP:20260424T011132
CREATED:20240328T203232Z
LAST-MODIFIED:20240328T203232Z
UID:10014987-1726513200-1726518600@visitpetrolia.ca
SUMMARY:Monday Night Trivia
DESCRIPTION:Real Deal Trivia’s Matt McNeill is back hosting with high energy and thought provoking questions. \nAwesome prizes for 1st\, 2nd\, and 3rd place winners! Players also have an additional chance to win a door prize ($100 gift certificate from one of the great RealDeal Trivia sponsors). \nGet your team together and book your standing reservation for 7pm on Mondays.
URL:https://visitpetrolia.ca/event/monday-night-trivia/2024-09-16/
LOCATION:Black Gold Brewery\, 395 Fletcher St.\, Petrolia\, Ontario\, N0N1R0\, Canada
ATTACH;FMTTYPE=image/jpeg:https://visitpetrolia.ca/wp-content/uploads/2024/03/mondaynighttrivia.jpeg
ORGANIZER;CN="Black Gold Brewery":MAILTO:info@blackgold.beer
END:VEVENT
BEGIN:VEVENT
DTSTART;TZID=America/Toronto:20240910T183000
DTEND;TZID=America/Toronto:20240910T203000
DTSTAMP:20260424T011132
CREATED:20240328T203251Z
LAST-MODIFIED:20240328T203251Z
UID:10014948-1725993000-1726000200@visitpetrolia.ca
SUMMARY:Meat Raffles
DESCRIPTION:Kiwanis Club of Petrolia and Area are hosting their weekly Meat Raffles at Black Gold Brewery every Tuesday evening! \nThere are 4 draws per night at 7:00pm\, 7:30pm\, 8:00pm and 8:30pm. Ticket sales start at 6:30pm. Tickets are $2 each or 3 for $5. \nThe first ticket drawn is a $30 meat package and the 2nd ticket drawn is a $5 Black Gold Brewery gift card.
URL:https://visitpetrolia.ca/event/meat-raffles/2024-09-10/
LOCATION:Black Gold Brewery\, 395 Fletcher St.\, Petrolia\, Ontario\, N0N1R0\, Canada
ATTACH;FMTTYPE=image/png:https://visitpetrolia.ca/wp-content/uploads/2024/03/meat_raffles.png
ORGANIZER;CN="Black Gold Brewery":MAILTO:info@blackgold.beer
END:VEVENT
BEGIN:VEVENT
DTSTART;TZID=America/Toronto:20240909T190000
DTEND;TZID=America/Toronto:20240909T203000
DTSTAMP:20260424T011132
CREATED:20240328T203232Z
LAST-MODIFIED:20240328T203232Z
UID:10014986-1725908400-1725913800@visitpetrolia.ca
SUMMARY:Monday Night Trivia
DESCRIPTION:Real Deal Trivia’s Matt McNeill is back hosting with high energy and thought provoking questions. \nAwesome prizes for 1st\, 2nd\, and 3rd place winners! Players also have an additional chance to win a door prize ($100 gift certificate from one of the great RealDeal Trivia sponsors). \nGet your team together and book your standing reservation for 7pm on Mondays.
URL:https://visitpetrolia.ca/event/monday-night-trivia/2024-09-09/
LOCATION:Black Gold Brewery\, 395 Fletcher St.\, Petrolia\, Ontario\, N0N1R0\, Canada
ATTACH;FMTTYPE=image/jpeg:https://visitpetrolia.ca/wp-content/uploads/2024/03/mondaynighttrivia.jpeg
ORGANIZER;CN="Black Gold Brewery":MAILTO:info@blackgold.beer
END:VEVENT
BEGIN:VEVENT
DTSTART;TZID=America/Toronto:20240903T183000
DTEND;TZID=America/Toronto:20240903T203000
DTSTAMP:20260424T011132
CREATED:20240328T203251Z
LAST-MODIFIED:20240328T203251Z
UID:10014947-1725388200-1725395400@visitpetrolia.ca
SUMMARY:Meat Raffles
DESCRIPTION:Kiwanis Club of Petrolia and Area are hosting their weekly Meat Raffles at Black Gold Brewery every Tuesday evening! \nThere are 4 draws per night at 7:00pm\, 7:30pm\, 8:00pm and 8:30pm. Ticket sales start at 6:30pm. Tickets are $2 each or 3 for $5. \nThe first ticket drawn is a $30 meat package and the 2nd ticket drawn is a $5 Black Gold Brewery gift card.
URL:https://visitpetrolia.ca/event/meat-raffles/2024-09-03/
LOCATION:Black Gold Brewery\, 395 Fletcher St.\, Petrolia\, Ontario\, N0N1R0\, Canada
ATTACH;FMTTYPE=image/png:https://visitpetrolia.ca/wp-content/uploads/2024/03/meat_raffles.png
ORGANIZER;CN="Black Gold Brewery":MAILTO:info@blackgold.beer
END:VEVENT
BEGIN:VEVENT
DTSTART;TZID=America/Toronto:20240902T190000
DTEND;TZID=America/Toronto:20240902T203000
DTSTAMP:20260424T011132
CREATED:20240328T203232Z
LAST-MODIFIED:20240328T203232Z
UID:10014985-1725303600-1725309000@visitpetrolia.ca
SUMMARY:Monday Night Trivia
DESCRIPTION:Real Deal Trivia’s Matt McNeill is back hosting with high energy and thought provoking questions. \nAwesome prizes for 1st\, 2nd\, and 3rd place winners! Players also have an additional chance to win a door prize ($100 gift certificate from one of the great RealDeal Trivia sponsors). \nGet your team together and book your standing reservation for 7pm on Mondays.
URL:https://visitpetrolia.ca/event/monday-night-trivia/2024-09-02/
LOCATION:Black Gold Brewery\, 395 Fletcher St.\, Petrolia\, Ontario\, N0N1R0\, Canada
ATTACH;FMTTYPE=image/jpeg:https://visitpetrolia.ca/wp-content/uploads/2024/03/mondaynighttrivia.jpeg
ORGANIZER;CN="Black Gold Brewery":MAILTO:info@blackgold.beer
END:VEVENT
BEGIN:VEVENT
DTSTART;TZID=America/Toronto:20240827T183000
DTEND;TZID=America/Toronto:20240827T203000
DTSTAMP:20260424T011132
CREATED:20240328T203251Z
LAST-MODIFIED:20240328T203251Z
UID:10014946-1724783400-1724790600@visitpetrolia.ca
SUMMARY:Meat Raffles
DESCRIPTION:Kiwanis Club of Petrolia and Area are hosting their weekly Meat Raffles at Black Gold Brewery every Tuesday evening! \nThere are 4 draws per night at 7:00pm\, 7:30pm\, 8:00pm and 8:30pm. Ticket sales start at 6:30pm. Tickets are $2 each or 3 for $5. \nThe first ticket drawn is a $30 meat package and the 2nd ticket drawn is a $5 Black Gold Brewery gift card.
URL:https://visitpetrolia.ca/event/meat-raffles/2024-08-27/
LOCATION:Black Gold Brewery\, 395 Fletcher St.\, Petrolia\, Ontario\, N0N1R0\, Canada
ATTACH;FMTTYPE=image/png:https://visitpetrolia.ca/wp-content/uploads/2024/03/meat_raffles.png
ORGANIZER;CN="Black Gold Brewery":MAILTO:info@blackgold.beer
END:VEVENT
END:VCALENDAR