BEGIN:VCALENDAR
VERSION:2.0
PRODID:-//Town of Petrolia - ECPv6.15.14//NONSGML v1.0//EN
CALSCALE:GREGORIAN
METHOD:PUBLISH
X-ORIGINAL-URL:https://visitpetrolia.ca
X-WR-CALDESC:Events for Town of Petrolia
REFRESH-INTERVAL;VALUE=DURATION:PT1H
X-Robots-Tag:noindex
X-PUBLISHED-TTL:PT1H
BEGIN:VTIMEZONE
TZID:America/Toronto
BEGIN:DAYLIGHT
TZOFFSETFROM:-0500
TZOFFSETTO:-0400
TZNAME:EDT
DTSTART:20230312T070000
END:DAYLIGHT
BEGIN:STANDARD
TZOFFSETFROM:-0400
TZOFFSETTO:-0500
TZNAME:EST
DTSTART:20231105T060000
END:STANDARD
BEGIN:DAYLIGHT
TZOFFSETFROM:-0500
TZOFFSETTO:-0400
TZNAME:EDT
DTSTART:20240310T070000
END:DAYLIGHT
BEGIN:STANDARD
TZOFFSETFROM:-0400
TZOFFSETTO:-0500
TZNAME:EST
DTSTART:20241103T060000
END:STANDARD
BEGIN:DAYLIGHT
TZOFFSETFROM:-0500
TZOFFSETTO:-0400
TZNAME:EDT
DTSTART:20250309T070000
END:DAYLIGHT
BEGIN:STANDARD
TZOFFSETFROM:-0400
TZOFFSETTO:-0500
TZNAME:EST
DTSTART:20251102T060000
END:STANDARD
END:VTIMEZONE
BEGIN:VEVENT
DTSTART;TZID=America/Toronto:20240910T183000
DTEND;TZID=America/Toronto:20240910T203000
DTSTAMP:20260424T080023
CREATED:20240328T203251Z
LAST-MODIFIED:20240328T203251Z
UID:10014948-1725993000-1726000200@visitpetrolia.ca
SUMMARY:Meat Raffles
DESCRIPTION:Kiwanis Club of Petrolia and Area are hosting their weekly Meat Raffles at Black Gold Brewery every Tuesday evening! \nThere are 4 draws per night at 7:00pm\, 7:30pm\, 8:00pm and 8:30pm. Ticket sales start at 6:30pm. Tickets are $2 each or 3 for $5. \nThe first ticket drawn is a $30 meat package and the 2nd ticket drawn is a $5 Black Gold Brewery gift card.
URL:https://visitpetrolia.ca/event/meat-raffles/2024-09-10/
LOCATION:Black Gold Brewery\, 395 Fletcher St.\, Petrolia\, Ontario\, N0N1R0\, Canada
ATTACH;FMTTYPE=image/png:https://visitpetrolia.ca/wp-content/uploads/2024/03/meat_raffles.png
ORGANIZER;CN="Black Gold Brewery":MAILTO:info@blackgold.beer
END:VEVENT
BEGIN:VEVENT
DTSTART;TZID=America/Toronto:20240909T190000
DTEND;TZID=America/Toronto:20240909T203000
DTSTAMP:20260424T080023
CREATED:20240328T203232Z
LAST-MODIFIED:20240328T203232Z
UID:10014986-1725908400-1725913800@visitpetrolia.ca
SUMMARY:Monday Night Trivia
DESCRIPTION:Real Deal Trivia’s Matt McNeill is back hosting with high energy and thought provoking questions. \nAwesome prizes for 1st\, 2nd\, and 3rd place winners! Players also have an additional chance to win a door prize ($100 gift certificate from one of the great RealDeal Trivia sponsors). \nGet your team together and book your standing reservation for 7pm on Mondays.
URL:https://visitpetrolia.ca/event/monday-night-trivia/2024-09-09/
LOCATION:Black Gold Brewery\, 395 Fletcher St.\, Petrolia\, Ontario\, N0N1R0\, Canada
ATTACH;FMTTYPE=image/jpeg:https://visitpetrolia.ca/wp-content/uploads/2024/03/mondaynighttrivia.jpeg
ORGANIZER;CN="Black Gold Brewery":MAILTO:info@blackgold.beer
END:VEVENT
BEGIN:VEVENT
DTSTART;TZID=America/Toronto:20240903T183000
DTEND;TZID=America/Toronto:20240903T203000
DTSTAMP:20260424T080023
CREATED:20240328T203251Z
LAST-MODIFIED:20240328T203251Z
UID:10014947-1725388200-1725395400@visitpetrolia.ca
SUMMARY:Meat Raffles
DESCRIPTION:Kiwanis Club of Petrolia and Area are hosting their weekly Meat Raffles at Black Gold Brewery every Tuesday evening! \nThere are 4 draws per night at 7:00pm\, 7:30pm\, 8:00pm and 8:30pm. Ticket sales start at 6:30pm. Tickets are $2 each or 3 for $5. \nThe first ticket drawn is a $30 meat package and the 2nd ticket drawn is a $5 Black Gold Brewery gift card.
URL:https://visitpetrolia.ca/event/meat-raffles/2024-09-03/
LOCATION:Black Gold Brewery\, 395 Fletcher St.\, Petrolia\, Ontario\, N0N1R0\, Canada
ATTACH;FMTTYPE=image/png:https://visitpetrolia.ca/wp-content/uploads/2024/03/meat_raffles.png
ORGANIZER;CN="Black Gold Brewery":MAILTO:info@blackgold.beer
END:VEVENT
BEGIN:VEVENT
DTSTART;TZID=America/Toronto:20240902T190000
DTEND;TZID=America/Toronto:20240902T203000
DTSTAMP:20260424T080023
CREATED:20240328T203232Z
LAST-MODIFIED:20240328T203232Z
UID:10014985-1725303600-1725309000@visitpetrolia.ca
SUMMARY:Monday Night Trivia
DESCRIPTION:Real Deal Trivia’s Matt McNeill is back hosting with high energy and thought provoking questions. \nAwesome prizes for 1st\, 2nd\, and 3rd place winners! Players also have an additional chance to win a door prize ($100 gift certificate from one of the great RealDeal Trivia sponsors). \nGet your team together and book your standing reservation for 7pm on Mondays.
URL:https://visitpetrolia.ca/event/monday-night-trivia/2024-09-02/
LOCATION:Black Gold Brewery\, 395 Fletcher St.\, Petrolia\, Ontario\, N0N1R0\, Canada
ATTACH;FMTTYPE=image/jpeg:https://visitpetrolia.ca/wp-content/uploads/2024/03/mondaynighttrivia.jpeg
ORGANIZER;CN="Black Gold Brewery":MAILTO:info@blackgold.beer
END:VEVENT
BEGIN:VEVENT
DTSTART;TZID=America/Toronto:20240827T183000
DTEND;TZID=America/Toronto:20240827T203000
DTSTAMP:20260424T080023
CREATED:20240328T203251Z
LAST-MODIFIED:20240328T203251Z
UID:10014946-1724783400-1724790600@visitpetrolia.ca
SUMMARY:Meat Raffles
DESCRIPTION:Kiwanis Club of Petrolia and Area are hosting their weekly Meat Raffles at Black Gold Brewery every Tuesday evening! \nThere are 4 draws per night at 7:00pm\, 7:30pm\, 8:00pm and 8:30pm. Ticket sales start at 6:30pm. Tickets are $2 each or 3 for $5. \nThe first ticket drawn is a $30 meat package and the 2nd ticket drawn is a $5 Black Gold Brewery gift card.
URL:https://visitpetrolia.ca/event/meat-raffles/2024-08-27/
LOCATION:Black Gold Brewery\, 395 Fletcher St.\, Petrolia\, Ontario\, N0N1R0\, Canada
ATTACH;FMTTYPE=image/png:https://visitpetrolia.ca/wp-content/uploads/2024/03/meat_raffles.png
ORGANIZER;CN="Black Gold Brewery":MAILTO:info@blackgold.beer
END:VEVENT
BEGIN:VEVENT
DTSTART;TZID=America/Toronto:20240826T190000
DTEND;TZID=America/Toronto:20240826T203000
DTSTAMP:20260424T080023
CREATED:20240328T203232Z
LAST-MODIFIED:20240328T203232Z
UID:10014984-1724698800-1724704200@visitpetrolia.ca
SUMMARY:Monday Night Trivia
DESCRIPTION:Real Deal Trivia’s Matt McNeill is back hosting with high energy and thought provoking questions. \nAwesome prizes for 1st\, 2nd\, and 3rd place winners! Players also have an additional chance to win a door prize ($100 gift certificate from one of the great RealDeal Trivia sponsors). \nGet your team together and book your standing reservation for 7pm on Mondays.
URL:https://visitpetrolia.ca/event/monday-night-trivia/2024-08-26/
LOCATION:Black Gold Brewery\, 395 Fletcher St.\, Petrolia\, Ontario\, N0N1R0\, Canada
ATTACH;FMTTYPE=image/jpeg:https://visitpetrolia.ca/wp-content/uploads/2024/03/mondaynighttrivia.jpeg
ORGANIZER;CN="Black Gold Brewery":MAILTO:info@blackgold.beer
END:VEVENT
BEGIN:VEVENT
DTSTART;TZID=America/Toronto:20240820T183000
DTEND;TZID=America/Toronto:20240820T203000
DTSTAMP:20260424T080023
CREATED:20240328T203251Z
LAST-MODIFIED:20240328T203251Z
UID:10014945-1724178600-1724185800@visitpetrolia.ca
SUMMARY:Meat Raffles
DESCRIPTION:Kiwanis Club of Petrolia and Area are hosting their weekly Meat Raffles at Black Gold Brewery every Tuesday evening! \nThere are 4 draws per night at 7:00pm\, 7:30pm\, 8:00pm and 8:30pm. Ticket sales start at 6:30pm. Tickets are $2 each or 3 for $5. \nThe first ticket drawn is a $30 meat package and the 2nd ticket drawn is a $5 Black Gold Brewery gift card.
URL:https://visitpetrolia.ca/event/meat-raffles/2024-08-20/
LOCATION:Black Gold Brewery\, 395 Fletcher St.\, Petrolia\, Ontario\, N0N1R0\, Canada
ATTACH;FMTTYPE=image/png:https://visitpetrolia.ca/wp-content/uploads/2024/03/meat_raffles.png
ORGANIZER;CN="Black Gold Brewery":MAILTO:info@blackgold.beer
END:VEVENT
BEGIN:VEVENT
DTSTART;TZID=America/Toronto:20240819T190000
DTEND;TZID=America/Toronto:20240819T203000
DTSTAMP:20260424T080023
CREATED:20240328T203232Z
LAST-MODIFIED:20240328T203232Z
UID:10014983-1724094000-1724099400@visitpetrolia.ca
SUMMARY:Monday Night Trivia
DESCRIPTION:Real Deal Trivia’s Matt McNeill is back hosting with high energy and thought provoking questions. \nAwesome prizes for 1st\, 2nd\, and 3rd place winners! Players also have an additional chance to win a door prize ($100 gift certificate from one of the great RealDeal Trivia sponsors). \nGet your team together and book your standing reservation for 7pm on Mondays.
URL:https://visitpetrolia.ca/event/monday-night-trivia/2024-08-19/
LOCATION:Black Gold Brewery\, 395 Fletcher St.\, Petrolia\, Ontario\, N0N1R0\, Canada
ATTACH;FMTTYPE=image/jpeg:https://visitpetrolia.ca/wp-content/uploads/2024/03/mondaynighttrivia.jpeg
ORGANIZER;CN="Black Gold Brewery":MAILTO:info@blackgold.beer
END:VEVENT
BEGIN:VEVENT
DTSTART;TZID=America/Toronto:20240813T183000
DTEND;TZID=America/Toronto:20240813T203000
DTSTAMP:20260424T080023
CREATED:20240328T203251Z
LAST-MODIFIED:20240328T203251Z
UID:10014944-1723573800-1723581000@visitpetrolia.ca
SUMMARY:Meat Raffles
DESCRIPTION:Kiwanis Club of Petrolia and Area are hosting their weekly Meat Raffles at Black Gold Brewery every Tuesday evening! \nThere are 4 draws per night at 7:00pm\, 7:30pm\, 8:00pm and 8:30pm. Ticket sales start at 6:30pm. Tickets are $2 each or 3 for $5. \nThe first ticket drawn is a $30 meat package and the 2nd ticket drawn is a $5 Black Gold Brewery gift card.
URL:https://visitpetrolia.ca/event/meat-raffles/2024-08-13/
LOCATION:Black Gold Brewery\, 395 Fletcher St.\, Petrolia\, Ontario\, N0N1R0\, Canada
ATTACH;FMTTYPE=image/png:https://visitpetrolia.ca/wp-content/uploads/2024/03/meat_raffles.png
ORGANIZER;CN="Black Gold Brewery":MAILTO:info@blackgold.beer
END:VEVENT
BEGIN:VEVENT
DTSTART;TZID=America/Toronto:20240812T190000
DTEND;TZID=America/Toronto:20240812T203000
DTSTAMP:20260424T080023
CREATED:20240328T203232Z
LAST-MODIFIED:20240328T203232Z
UID:10014982-1723489200-1723494600@visitpetrolia.ca
SUMMARY:Monday Night Trivia
DESCRIPTION:Real Deal Trivia’s Matt McNeill is back hosting with high energy and thought provoking questions. \nAwesome prizes for 1st\, 2nd\, and 3rd place winners! Players also have an additional chance to win a door prize ($100 gift certificate from one of the great RealDeal Trivia sponsors). \nGet your team together and book your standing reservation for 7pm on Mondays.
URL:https://visitpetrolia.ca/event/monday-night-trivia/2024-08-12/
LOCATION:Black Gold Brewery\, 395 Fletcher St.\, Petrolia\, Ontario\, N0N1R0\, Canada
ATTACH;FMTTYPE=image/jpeg:https://visitpetrolia.ca/wp-content/uploads/2024/03/mondaynighttrivia.jpeg
ORGANIZER;CN="Black Gold Brewery":MAILTO:info@blackgold.beer
END:VEVENT
BEGIN:VEVENT
DTSTART;TZID=America/Toronto:20240806T183000
DTEND;TZID=America/Toronto:20240806T203000
DTSTAMP:20260424T080023
CREATED:20240328T203251Z
LAST-MODIFIED:20240328T203251Z
UID:10014943-1722969000-1722976200@visitpetrolia.ca
SUMMARY:Meat Raffles
DESCRIPTION:Kiwanis Club of Petrolia and Area are hosting their weekly Meat Raffles at Black Gold Brewery every Tuesday evening! \nThere are 4 draws per night at 7:00pm\, 7:30pm\, 8:00pm and 8:30pm. Ticket sales start at 6:30pm. Tickets are $2 each or 3 for $5. \nThe first ticket drawn is a $30 meat package and the 2nd ticket drawn is a $5 Black Gold Brewery gift card.
URL:https://visitpetrolia.ca/event/meat-raffles/2024-08-06/
LOCATION:Black Gold Brewery\, 395 Fletcher St.\, Petrolia\, Ontario\, N0N1R0\, Canada
ATTACH;FMTTYPE=image/png:https://visitpetrolia.ca/wp-content/uploads/2024/03/meat_raffles.png
ORGANIZER;CN="Black Gold Brewery":MAILTO:info@blackgold.beer
END:VEVENT
BEGIN:VEVENT
DTSTART;TZID=America/Toronto:20240805T190000
DTEND;TZID=America/Toronto:20240805T203000
DTSTAMP:20260424T080023
CREATED:20240328T203232Z
LAST-MODIFIED:20240328T203232Z
UID:10014981-1722884400-1722889800@visitpetrolia.ca
SUMMARY:Monday Night Trivia
DESCRIPTION:Real Deal Trivia’s Matt McNeill is back hosting with high energy and thought provoking questions. \nAwesome prizes for 1st\, 2nd\, and 3rd place winners! Players also have an additional chance to win a door prize ($100 gift certificate from one of the great RealDeal Trivia sponsors). \nGet your team together and book your standing reservation for 7pm on Mondays.
URL:https://visitpetrolia.ca/event/monday-night-trivia/2024-08-05/
LOCATION:Black Gold Brewery\, 395 Fletcher St.\, Petrolia\, Ontario\, N0N1R0\, Canada
ATTACH;FMTTYPE=image/jpeg:https://visitpetrolia.ca/wp-content/uploads/2024/03/mondaynighttrivia.jpeg
ORGANIZER;CN="Black Gold Brewery":MAILTO:info@blackgold.beer
END:VEVENT
BEGIN:VEVENT
DTSTART;TZID=America/Toronto:20240730T183000
DTEND;TZID=America/Toronto:20240730T203000
DTSTAMP:20260424T080023
CREATED:20240328T203251Z
LAST-MODIFIED:20240328T203251Z
UID:10014942-1722364200-1722371400@visitpetrolia.ca
SUMMARY:Meat Raffles
DESCRIPTION:Kiwanis Club of Petrolia and Area are hosting their weekly Meat Raffles at Black Gold Brewery every Tuesday evening! \nThere are 4 draws per night at 7:00pm\, 7:30pm\, 8:00pm and 8:30pm. Ticket sales start at 6:30pm. Tickets are $2 each or 3 for $5. \nThe first ticket drawn is a $30 meat package and the 2nd ticket drawn is a $5 Black Gold Brewery gift card.
URL:https://visitpetrolia.ca/event/meat-raffles/2024-07-30/
LOCATION:Black Gold Brewery\, 395 Fletcher St.\, Petrolia\, Ontario\, N0N1R0\, Canada
ATTACH;FMTTYPE=image/png:https://visitpetrolia.ca/wp-content/uploads/2024/03/meat_raffles.png
ORGANIZER;CN="Black Gold Brewery":MAILTO:info@blackgold.beer
END:VEVENT
BEGIN:VEVENT
DTSTART;TZID=America/Toronto:20240729T190000
DTEND;TZID=America/Toronto:20240729T203000
DTSTAMP:20260424T080023
CREATED:20240328T203232Z
LAST-MODIFIED:20240328T203232Z
UID:10014980-1722279600-1722285000@visitpetrolia.ca
SUMMARY:Monday Night Trivia
DESCRIPTION:Real Deal Trivia’s Matt McNeill is back hosting with high energy and thought provoking questions. \nAwesome prizes for 1st\, 2nd\, and 3rd place winners! Players also have an additional chance to win a door prize ($100 gift certificate from one of the great RealDeal Trivia sponsors). \nGet your team together and book your standing reservation for 7pm on Mondays.
URL:https://visitpetrolia.ca/event/monday-night-trivia/2024-07-29/
LOCATION:Black Gold Brewery\, 395 Fletcher St.\, Petrolia\, Ontario\, N0N1R0\, Canada
ATTACH;FMTTYPE=image/jpeg:https://visitpetrolia.ca/wp-content/uploads/2024/03/mondaynighttrivia.jpeg
ORGANIZER;CN="Black Gold Brewery":MAILTO:info@blackgold.beer
END:VEVENT
BEGIN:VEVENT
DTSTART;TZID=America/Toronto:20240723T183000
DTEND;TZID=America/Toronto:20240723T203000
DTSTAMP:20260424T080023
CREATED:20240328T203251Z
LAST-MODIFIED:20240328T203251Z
UID:10014941-1721759400-1721766600@visitpetrolia.ca
SUMMARY:Meat Raffles
DESCRIPTION:Kiwanis Club of Petrolia and Area are hosting their weekly Meat Raffles at Black Gold Brewery every Tuesday evening! \nThere are 4 draws per night at 7:00pm\, 7:30pm\, 8:00pm and 8:30pm. Ticket sales start at 6:30pm. Tickets are $2 each or 3 for $5. \nThe first ticket drawn is a $30 meat package and the 2nd ticket drawn is a $5 Black Gold Brewery gift card.
URL:https://visitpetrolia.ca/event/meat-raffles/2024-07-23/
LOCATION:Black Gold Brewery\, 395 Fletcher St.\, Petrolia\, Ontario\, N0N1R0\, Canada
ATTACH;FMTTYPE=image/png:https://visitpetrolia.ca/wp-content/uploads/2024/03/meat_raffles.png
ORGANIZER;CN="Black Gold Brewery":MAILTO:info@blackgold.beer
END:VEVENT
BEGIN:VEVENT
DTSTART;TZID=America/Toronto:20240722T190000
DTEND;TZID=America/Toronto:20240722T203000
DTSTAMP:20260424T080023
CREATED:20240328T203232Z
LAST-MODIFIED:20240328T203232Z
UID:10014979-1721674800-1721680200@visitpetrolia.ca
SUMMARY:Monday Night Trivia
DESCRIPTION:Real Deal Trivia’s Matt McNeill is back hosting with high energy and thought provoking questions. \nAwesome prizes for 1st\, 2nd\, and 3rd place winners! Players also have an additional chance to win a door prize ($100 gift certificate from one of the great RealDeal Trivia sponsors). \nGet your team together and book your standing reservation for 7pm on Mondays.
URL:https://visitpetrolia.ca/event/monday-night-trivia/2024-07-22/
LOCATION:Black Gold Brewery\, 395 Fletcher St.\, Petrolia\, Ontario\, N0N1R0\, Canada
ATTACH;FMTTYPE=image/jpeg:https://visitpetrolia.ca/wp-content/uploads/2024/03/mondaynighttrivia.jpeg
ORGANIZER;CN="Black Gold Brewery":MAILTO:info@blackgold.beer
END:VEVENT
BEGIN:VEVENT
DTSTART;TZID=America/Toronto:20240716T183000
DTEND;TZID=America/Toronto:20240716T203000
DTSTAMP:20260424T080023
CREATED:20240328T203251Z
LAST-MODIFIED:20240328T203251Z
UID:10014940-1721154600-1721161800@visitpetrolia.ca
SUMMARY:Meat Raffles
DESCRIPTION:Kiwanis Club of Petrolia and Area are hosting their weekly Meat Raffles at Black Gold Brewery every Tuesday evening! \nThere are 4 draws per night at 7:00pm\, 7:30pm\, 8:00pm and 8:30pm. Ticket sales start at 6:30pm. Tickets are $2 each or 3 for $5. \nThe first ticket drawn is a $30 meat package and the 2nd ticket drawn is a $5 Black Gold Brewery gift card.
URL:https://visitpetrolia.ca/event/meat-raffles/2024-07-16/
LOCATION:Black Gold Brewery\, 395 Fletcher St.\, Petrolia\, Ontario\, N0N1R0\, Canada
ATTACH;FMTTYPE=image/png:https://visitpetrolia.ca/wp-content/uploads/2024/03/meat_raffles.png
ORGANIZER;CN="Black Gold Brewery":MAILTO:info@blackgold.beer
END:VEVENT
BEGIN:VEVENT
DTSTART;TZID=America/Toronto:20240715T190000
DTEND;TZID=America/Toronto:20240715T203000
DTSTAMP:20260424T080023
CREATED:20240328T203232Z
LAST-MODIFIED:20240328T203232Z
UID:10014978-1721070000-1721075400@visitpetrolia.ca
SUMMARY:Monday Night Trivia
DESCRIPTION:Real Deal Trivia’s Matt McNeill is back hosting with high energy and thought provoking questions. \nAwesome prizes for 1st\, 2nd\, and 3rd place winners! Players also have an additional chance to win a door prize ($100 gift certificate from one of the great RealDeal Trivia sponsors). \nGet your team together and book your standing reservation for 7pm on Mondays.
URL:https://visitpetrolia.ca/event/monday-night-trivia/2024-07-15/
LOCATION:Black Gold Brewery\, 395 Fletcher St.\, Petrolia\, Ontario\, N0N1R0\, Canada
ATTACH;FMTTYPE=image/jpeg:https://visitpetrolia.ca/wp-content/uploads/2024/03/mondaynighttrivia.jpeg
ORGANIZER;CN="Black Gold Brewery":MAILTO:info@blackgold.beer
END:VEVENT
BEGIN:VEVENT
DTSTART;TZID=America/Toronto:20240709T183000
DTEND;TZID=America/Toronto:20240709T203000
DTSTAMP:20260424T080023
CREATED:20240328T203251Z
LAST-MODIFIED:20240328T203251Z
UID:10014939-1720549800-1720557000@visitpetrolia.ca
SUMMARY:Meat Raffles
DESCRIPTION:Kiwanis Club of Petrolia and Area are hosting their weekly Meat Raffles at Black Gold Brewery every Tuesday evening! \nThere are 4 draws per night at 7:00pm\, 7:30pm\, 8:00pm and 8:30pm. Ticket sales start at 6:30pm. Tickets are $2 each or 3 for $5. \nThe first ticket drawn is a $30 meat package and the 2nd ticket drawn is a $5 Black Gold Brewery gift card.
URL:https://visitpetrolia.ca/event/meat-raffles/2024-07-09/
LOCATION:Black Gold Brewery\, 395 Fletcher St.\, Petrolia\, Ontario\, N0N1R0\, Canada
ATTACH;FMTTYPE=image/png:https://visitpetrolia.ca/wp-content/uploads/2024/03/meat_raffles.png
ORGANIZER;CN="Black Gold Brewery":MAILTO:info@blackgold.beer
END:VEVENT
BEGIN:VEVENT
DTSTART;TZID=America/Toronto:20240708T190000
DTEND;TZID=America/Toronto:20240708T203000
DTSTAMP:20260424T080023
CREATED:20240328T203232Z
LAST-MODIFIED:20240328T203232Z
UID:10014977-1720465200-1720470600@visitpetrolia.ca
SUMMARY:Monday Night Trivia
DESCRIPTION:Real Deal Trivia’s Matt McNeill is back hosting with high energy and thought provoking questions. \nAwesome prizes for 1st\, 2nd\, and 3rd place winners! Players also have an additional chance to win a door prize ($100 gift certificate from one of the great RealDeal Trivia sponsors). \nGet your team together and book your standing reservation for 7pm on Mondays.
URL:https://visitpetrolia.ca/event/monday-night-trivia/2024-07-08/
LOCATION:Black Gold Brewery\, 395 Fletcher St.\, Petrolia\, Ontario\, N0N1R0\, Canada
ATTACH;FMTTYPE=image/jpeg:https://visitpetrolia.ca/wp-content/uploads/2024/03/mondaynighttrivia.jpeg
ORGANIZER;CN="Black Gold Brewery":MAILTO:info@blackgold.beer
END:VEVENT
BEGIN:VEVENT
DTSTART;TZID=America/Toronto:20240702T183000
DTEND;TZID=America/Toronto:20240702T203000
DTSTAMP:20260424T080023
CREATED:20240328T203251Z
LAST-MODIFIED:20240328T203251Z
UID:10014938-1719945000-1719952200@visitpetrolia.ca
SUMMARY:Meat Raffles
DESCRIPTION:Kiwanis Club of Petrolia and Area are hosting their weekly Meat Raffles at Black Gold Brewery every Tuesday evening! \nThere are 4 draws per night at 7:00pm\, 7:30pm\, 8:00pm and 8:30pm. Ticket sales start at 6:30pm. Tickets are $2 each or 3 for $5. \nThe first ticket drawn is a $30 meat package and the 2nd ticket drawn is a $5 Black Gold Brewery gift card.
URL:https://visitpetrolia.ca/event/meat-raffles/2024-07-02/
LOCATION:Black Gold Brewery\, 395 Fletcher St.\, Petrolia\, Ontario\, N0N1R0\, Canada
ATTACH;FMTTYPE=image/png:https://visitpetrolia.ca/wp-content/uploads/2024/03/meat_raffles.png
ORGANIZER;CN="Black Gold Brewery":MAILTO:info@blackgold.beer
END:VEVENT
BEGIN:VEVENT
DTSTART;TZID=America/Toronto:20240701T190000
DTEND;TZID=America/Toronto:20240701T203000
DTSTAMP:20260424T080023
CREATED:20240328T203232Z
LAST-MODIFIED:20240328T203232Z
UID:10014976-1719860400-1719865800@visitpetrolia.ca
SUMMARY:Monday Night Trivia
DESCRIPTION:Real Deal Trivia’s Matt McNeill is back hosting with high energy and thought provoking questions. \nAwesome prizes for 1st\, 2nd\, and 3rd place winners! Players also have an additional chance to win a door prize ($100 gift certificate from one of the great RealDeal Trivia sponsors). \nGet your team together and book your standing reservation for 7pm on Mondays.
URL:https://visitpetrolia.ca/event/monday-night-trivia/2024-07-01/
LOCATION:Black Gold Brewery\, 395 Fletcher St.\, Petrolia\, Ontario\, N0N1R0\, Canada
ATTACH;FMTTYPE=image/jpeg:https://visitpetrolia.ca/wp-content/uploads/2024/03/mondaynighttrivia.jpeg
ORGANIZER;CN="Black Gold Brewery":MAILTO:info@blackgold.beer
END:VEVENT
BEGIN:VEVENT
DTSTART;TZID=America/Toronto:20240625T183000
DTEND;TZID=America/Toronto:20240625T203000
DTSTAMP:20260424T080023
CREATED:20240328T203251Z
LAST-MODIFIED:20240328T203251Z
UID:10014937-1719340200-1719347400@visitpetrolia.ca
SUMMARY:Meat Raffles
DESCRIPTION:Kiwanis Club of Petrolia and Area are hosting their weekly Meat Raffles at Black Gold Brewery every Tuesday evening! \nThere are 4 draws per night at 7:00pm\, 7:30pm\, 8:00pm and 8:30pm. Ticket sales start at 6:30pm. Tickets are $2 each or 3 for $5. \nThe first ticket drawn is a $30 meat package and the 2nd ticket drawn is a $5 Black Gold Brewery gift card.
URL:https://visitpetrolia.ca/event/meat-raffles/2024-06-25/
LOCATION:Black Gold Brewery\, 395 Fletcher St.\, Petrolia\, Ontario\, N0N1R0\, Canada
ATTACH;FMTTYPE=image/png:https://visitpetrolia.ca/wp-content/uploads/2024/03/meat_raffles.png
ORGANIZER;CN="Black Gold Brewery":MAILTO:info@blackgold.beer
END:VEVENT
BEGIN:VEVENT
DTSTART;TZID=America/Toronto:20240624T190000
DTEND;TZID=America/Toronto:20240624T203000
DTSTAMP:20260424T080023
CREATED:20240328T203232Z
LAST-MODIFIED:20240328T203232Z
UID:10014975-1719255600-1719261000@visitpetrolia.ca
SUMMARY:Monday Night Trivia
DESCRIPTION:Real Deal Trivia’s Matt McNeill is back hosting with high energy and thought provoking questions. \nAwesome prizes for 1st\, 2nd\, and 3rd place winners! Players also have an additional chance to win a door prize ($100 gift certificate from one of the great RealDeal Trivia sponsors). \nGet your team together and book your standing reservation for 7pm on Mondays.
URL:https://visitpetrolia.ca/event/monday-night-trivia/2024-06-24/
LOCATION:Black Gold Brewery\, 395 Fletcher St.\, Petrolia\, Ontario\, N0N1R0\, Canada
ATTACH;FMTTYPE=image/jpeg:https://visitpetrolia.ca/wp-content/uploads/2024/03/mondaynighttrivia.jpeg
ORGANIZER;CN="Black Gold Brewery":MAILTO:info@blackgold.beer
END:VEVENT
BEGIN:VEVENT
DTSTART;TZID=America/Toronto:20240618T183000
DTEND;TZID=America/Toronto:20240618T203000
DTSTAMP:20260424T080023
CREATED:20240328T203251Z
LAST-MODIFIED:20240328T203251Z
UID:10014936-1718735400-1718742600@visitpetrolia.ca
SUMMARY:Meat Raffles
DESCRIPTION:Kiwanis Club of Petrolia and Area are hosting their weekly Meat Raffles at Black Gold Brewery every Tuesday evening! \nThere are 4 draws per night at 7:00pm\, 7:30pm\, 8:00pm and 8:30pm. Ticket sales start at 6:30pm. Tickets are $2 each or 3 for $5. \nThe first ticket drawn is a $30 meat package and the 2nd ticket drawn is a $5 Black Gold Brewery gift card.
URL:https://visitpetrolia.ca/event/meat-raffles/2024-06-18/
LOCATION:Black Gold Brewery\, 395 Fletcher St.\, Petrolia\, Ontario\, N0N1R0\, Canada
ATTACH;FMTTYPE=image/png:https://visitpetrolia.ca/wp-content/uploads/2024/03/meat_raffles.png
ORGANIZER;CN="Black Gold Brewery":MAILTO:info@blackgold.beer
END:VEVENT
BEGIN:VEVENT
DTSTART;TZID=America/Toronto:20240617T190000
DTEND;TZID=America/Toronto:20240617T203000
DTSTAMP:20260424T080023
CREATED:20240328T203232Z
LAST-MODIFIED:20240328T203232Z
UID:10014974-1718650800-1718656200@visitpetrolia.ca
SUMMARY:Monday Night Trivia
DESCRIPTION:Real Deal Trivia’s Matt McNeill is back hosting with high energy and thought provoking questions. \nAwesome prizes for 1st\, 2nd\, and 3rd place winners! Players also have an additional chance to win a door prize ($100 gift certificate from one of the great RealDeal Trivia sponsors). \nGet your team together and book your standing reservation for 7pm on Mondays.
URL:https://visitpetrolia.ca/event/monday-night-trivia/2024-06-17/
LOCATION:Black Gold Brewery\, 395 Fletcher St.\, Petrolia\, Ontario\, N0N1R0\, Canada
ATTACH;FMTTYPE=image/jpeg:https://visitpetrolia.ca/wp-content/uploads/2024/03/mondaynighttrivia.jpeg
ORGANIZER;CN="Black Gold Brewery":MAILTO:info@blackgold.beer
END:VEVENT
BEGIN:VEVENT
DTSTART;TZID=America/Toronto:20240611T183000
DTEND;TZID=America/Toronto:20240611T203000
DTSTAMP:20260424T080023
CREATED:20240328T203251Z
LAST-MODIFIED:20240328T203251Z
UID:10014935-1718130600-1718137800@visitpetrolia.ca
SUMMARY:Meat Raffles
DESCRIPTION:Kiwanis Club of Petrolia and Area are hosting their weekly Meat Raffles at Black Gold Brewery every Tuesday evening! \nThere are 4 draws per night at 7:00pm\, 7:30pm\, 8:00pm and 8:30pm. Ticket sales start at 6:30pm. Tickets are $2 each or 3 for $5. \nThe first ticket drawn is a $30 meat package and the 2nd ticket drawn is a $5 Black Gold Brewery gift card.
URL:https://visitpetrolia.ca/event/meat-raffles/2024-06-11/
LOCATION:Black Gold Brewery\, 395 Fletcher St.\, Petrolia\, Ontario\, N0N1R0\, Canada
ATTACH;FMTTYPE=image/png:https://visitpetrolia.ca/wp-content/uploads/2024/03/meat_raffles.png
ORGANIZER;CN="Black Gold Brewery":MAILTO:info@blackgold.beer
END:VEVENT
BEGIN:VEVENT
DTSTART;TZID=America/Toronto:20240610T190000
DTEND;TZID=America/Toronto:20240610T203000
DTSTAMP:20260424T080023
CREATED:20240328T203232Z
LAST-MODIFIED:20240328T203232Z
UID:10014973-1718046000-1718051400@visitpetrolia.ca
SUMMARY:Monday Night Trivia
DESCRIPTION:Real Deal Trivia’s Matt McNeill is back hosting with high energy and thought provoking questions. \nAwesome prizes for 1st\, 2nd\, and 3rd place winners! Players also have an additional chance to win a door prize ($100 gift certificate from one of the great RealDeal Trivia sponsors). \nGet your team together and book your standing reservation for 7pm on Mondays.
URL:https://visitpetrolia.ca/event/monday-night-trivia/2024-06-10/
LOCATION:Black Gold Brewery\, 395 Fletcher St.\, Petrolia\, Ontario\, N0N1R0\, Canada
ATTACH;FMTTYPE=image/jpeg:https://visitpetrolia.ca/wp-content/uploads/2024/03/mondaynighttrivia.jpeg
ORGANIZER;CN="Black Gold Brewery":MAILTO:info@blackgold.beer
END:VEVENT
BEGIN:VEVENT
DTSTART;TZID=America/Toronto:20240604T183000
DTEND;TZID=America/Toronto:20240604T203000
DTSTAMP:20260424T080023
CREATED:20240328T203251Z
LAST-MODIFIED:20240328T203251Z
UID:10014934-1717525800-1717533000@visitpetrolia.ca
SUMMARY:Meat Raffles
DESCRIPTION:Kiwanis Club of Petrolia and Area are hosting their weekly Meat Raffles at Black Gold Brewery every Tuesday evening! \nThere are 4 draws per night at 7:00pm\, 7:30pm\, 8:00pm and 8:30pm. Ticket sales start at 6:30pm. Tickets are $2 each or 3 for $5. \nThe first ticket drawn is a $30 meat package and the 2nd ticket drawn is a $5 Black Gold Brewery gift card.
URL:https://visitpetrolia.ca/event/meat-raffles/2024-06-04/
LOCATION:Black Gold Brewery\, 395 Fletcher St.\, Petrolia\, Ontario\, N0N1R0\, Canada
ATTACH;FMTTYPE=image/png:https://visitpetrolia.ca/wp-content/uploads/2024/03/meat_raffles.png
ORGANIZER;CN="Black Gold Brewery":MAILTO:info@blackgold.beer
END:VEVENT
BEGIN:VEVENT
DTSTART;TZID=America/Toronto:20240603T190000
DTEND;TZID=America/Toronto:20240603T203000
DTSTAMP:20260424T080023
CREATED:20240328T203232Z
LAST-MODIFIED:20240328T203232Z
UID:10014972-1717441200-1717446600@visitpetrolia.ca
SUMMARY:Monday Night Trivia
DESCRIPTION:Real Deal Trivia’s Matt McNeill is back hosting with high energy and thought provoking questions. \nAwesome prizes for 1st\, 2nd\, and 3rd place winners! Players also have an additional chance to win a door prize ($100 gift certificate from one of the great RealDeal Trivia sponsors). \nGet your team together and book your standing reservation for 7pm on Mondays.
URL:https://visitpetrolia.ca/event/monday-night-trivia/2024-06-03/
LOCATION:Black Gold Brewery\, 395 Fletcher St.\, Petrolia\, Ontario\, N0N1R0\, Canada
ATTACH;FMTTYPE=image/jpeg:https://visitpetrolia.ca/wp-content/uploads/2024/03/mondaynighttrivia.jpeg
ORGANIZER;CN="Black Gold Brewery":MAILTO:info@blackgold.beer
END:VEVENT
END:VCALENDAR