BEGIN:VCALENDAR
VERSION:2.0
PRODID:-//Town of Petrolia - ECPv6.15.14//NONSGML v1.0//EN
CALSCALE:GREGORIAN
METHOD:PUBLISH
X-ORIGINAL-URL:https://visitpetrolia.ca
X-WR-CALDESC:Events for Town of Petrolia
REFRESH-INTERVAL;VALUE=DURATION:PT1H
X-Robots-Tag:noindex
X-PUBLISHED-TTL:PT1H
BEGIN:VTIMEZONE
TZID:America/Toronto
BEGIN:DAYLIGHT
TZOFFSETFROM:-0500
TZOFFSETTO:-0400
TZNAME:EDT
DTSTART:20240310T070000
END:DAYLIGHT
BEGIN:STANDARD
TZOFFSETFROM:-0400
TZOFFSETTO:-0500
TZNAME:EST
DTSTART:20241103T060000
END:STANDARD
BEGIN:DAYLIGHT
TZOFFSETFROM:-0500
TZOFFSETTO:-0400
TZNAME:EDT
DTSTART:20250309T070000
END:DAYLIGHT
BEGIN:STANDARD
TZOFFSETFROM:-0400
TZOFFSETTO:-0500
TZNAME:EST
DTSTART:20251102T060000
END:STANDARD
BEGIN:DAYLIGHT
TZOFFSETFROM:-0500
TZOFFSETTO:-0400
TZNAME:EDT
DTSTART:20260308T070000
END:DAYLIGHT
BEGIN:STANDARD
TZOFFSETFROM:-0400
TZOFFSETTO:-0500
TZNAME:EST
DTSTART:20261101T060000
END:STANDARD
END:VTIMEZONE
BEGIN:VEVENT
DTSTART;TZID=America/Toronto:20251120T180000
DTEND;TZID=America/Toronto:20251120T200000
DTSTAMP:20260425T162355
CREATED:20250130T145014Z
LAST-MODIFIED:20250130T145014Z
UID:10015458-1763661600-1763668800@visitpetrolia.ca
SUMMARY:Lion's Meat Raffle
DESCRIPTION:
URL:https://visitpetrolia.ca/event/lions-meat-raffle/2025-11-20/
LOCATION:Bull Wheel Bar  & Grill\, 4196 Petrolia Line\, Petrolia\, ON\, N0N1R0
END:VEVENT
BEGIN:VEVENT
DTSTART;TZID=America/Toronto:20251113T180000
DTEND;TZID=America/Toronto:20251113T200000
DTSTAMP:20260425T162355
CREATED:20250130T145014Z
LAST-MODIFIED:20250130T145014Z
UID:10015457-1763056800-1763064000@visitpetrolia.ca
SUMMARY:Lion's Meat Raffle
DESCRIPTION:
URL:https://visitpetrolia.ca/event/lions-meat-raffle/2025-11-13/
LOCATION:Bull Wheel Bar  & Grill\, 4196 Petrolia Line\, Petrolia\, ON\, N0N1R0
END:VEVENT
BEGIN:VEVENT
DTSTART;TZID=America/Toronto:20251112T180000
DTEND;TZID=America/Toronto:20251112T210000
DTSTAMP:20260425T162355
CREATED:20250130T144833Z
LAST-MODIFIED:20250130T144833Z
UID:10015414-1762970400-1762981200@visitpetrolia.ca
SUMMARY:Petrolia Lions Gift Card Bingo
DESCRIPTION:
URL:https://visitpetrolia.ca/event/petrolia-lions-gift-card-bingo/2025-11-12/
LOCATION:Lions Hall\, 451 Huggart St\, Petrolia\, Ontario\, N0N1R0\, Canada
ATTACH;FMTTYPE=image/jpeg:https://visitpetrolia.ca/wp-content/uploads/2025/01/474531427_10170761330325302_3834986101704707881_n.jpg
END:VEVENT
BEGIN:VEVENT
DTSTART;TZID=America/Toronto:20251106T180000
DTEND;TZID=America/Toronto:20251106T200000
DTSTAMP:20260425T162355
CREATED:20250130T145014Z
LAST-MODIFIED:20250130T145014Z
UID:10015456-1762452000-1762459200@visitpetrolia.ca
SUMMARY:Lion's Meat Raffle
DESCRIPTION:
URL:https://visitpetrolia.ca/event/lions-meat-raffle/2025-11-06/
LOCATION:Bull Wheel Bar  & Grill\, 4196 Petrolia Line\, Petrolia\, ON\, N0N1R0
END:VEVENT
BEGIN:VEVENT
DTSTART;TZID=America/Toronto:20251030T180000
DTEND;TZID=America/Toronto:20251030T200000
DTSTAMP:20260425T162355
CREATED:20250130T145014Z
LAST-MODIFIED:20250130T145014Z
UID:10015455-1761847200-1761854400@visitpetrolia.ca
SUMMARY:Lion's Meat Raffle
DESCRIPTION:
URL:https://visitpetrolia.ca/event/lions-meat-raffle/2025-10-30/
LOCATION:Bull Wheel Bar  & Grill\, 4196 Petrolia Line\, Petrolia\, ON\, N0N1R0
END:VEVENT
BEGIN:VEVENT
DTSTART;TZID=America/Toronto:20251023T180000
DTEND;TZID=America/Toronto:20251023T200000
DTSTAMP:20260425T162355
CREATED:20250130T145014Z
LAST-MODIFIED:20250130T145014Z
UID:10015454-1761242400-1761249600@visitpetrolia.ca
SUMMARY:Lion's Meat Raffle
DESCRIPTION:
URL:https://visitpetrolia.ca/event/lions-meat-raffle/2025-10-23/
LOCATION:Bull Wheel Bar  & Grill\, 4196 Petrolia Line\, Petrolia\, ON\, N0N1R0
END:VEVENT
BEGIN:VEVENT
DTSTART;TZID=America/Toronto:20251016T180000
DTEND;TZID=America/Toronto:20251016T200000
DTSTAMP:20260425T162355
CREATED:20250130T145014Z
LAST-MODIFIED:20250130T145014Z
UID:10015453-1760637600-1760644800@visitpetrolia.ca
SUMMARY:Lion's Meat Raffle
DESCRIPTION:
URL:https://visitpetrolia.ca/event/lions-meat-raffle/2025-10-16/
LOCATION:Bull Wheel Bar  & Grill\, 4196 Petrolia Line\, Petrolia\, ON\, N0N1R0
END:VEVENT
BEGIN:VEVENT
DTSTART;TZID=America/Toronto:20251009T180000
DTEND;TZID=America/Toronto:20251009T200000
DTSTAMP:20260425T162355
CREATED:20250130T145014Z
LAST-MODIFIED:20250130T145014Z
UID:10015452-1760032800-1760040000@visitpetrolia.ca
SUMMARY:Lion's Meat Raffle
DESCRIPTION:
URL:https://visitpetrolia.ca/event/lions-meat-raffle/2025-10-09/
LOCATION:Bull Wheel Bar  & Grill\, 4196 Petrolia Line\, Petrolia\, ON\, N0N1R0
END:VEVENT
BEGIN:VEVENT
DTSTART;TZID=America/Toronto:20251008T180000
DTEND;TZID=America/Toronto:20251008T210000
DTSTAMP:20260425T162355
CREATED:20250130T144833Z
LAST-MODIFIED:20250130T144833Z
UID:10015413-1759946400-1759957200@visitpetrolia.ca
SUMMARY:Petrolia Lions Gift Card Bingo
DESCRIPTION:
URL:https://visitpetrolia.ca/event/petrolia-lions-gift-card-bingo/2025-10-08/
LOCATION:Lions Hall\, 451 Huggart St\, Petrolia\, Ontario\, N0N1R0\, Canada
ATTACH;FMTTYPE=image/jpeg:https://visitpetrolia.ca/wp-content/uploads/2025/01/474531427_10170761330325302_3834986101704707881_n.jpg
END:VEVENT
BEGIN:VEVENT
DTSTART;TZID=America/Toronto:20251005T080000
DTEND;TZID=America/Toronto:20251005T170000
DTSTAMP:20260425T162355
CREATED:20250130T145229Z
LAST-MODIFIED:20250204T184109Z
UID:10015466-1759651200-1759683600@visitpetrolia.ca
SUMMARY:LEO's Stuff the Bus
DESCRIPTION:
URL:https://visitpetrolia.ca/event/leos-stuff-the-bus-2/2025-10-05/
LOCATION:Heidi’s Your Independent Grocer\, Petrolia\, Canada
END:VEVENT
BEGIN:VEVENT
DTSTART;TZID=America/Toronto:20251004T080000
DTEND;TZID=America/Toronto:20251004T170000
DTSTAMP:20260425T162355
CREATED:20250130T145229Z
LAST-MODIFIED:20250204T184109Z
UID:10015465-1759564800-1759597200@visitpetrolia.ca
SUMMARY:LEO's Stuff the Bus
DESCRIPTION:
URL:https://visitpetrolia.ca/event/leos-stuff-the-bus-2/2025-10-04/
LOCATION:Heidi’s Your Independent Grocer\, Petrolia\, Canada
END:VEVENT
BEGIN:VEVENT
DTSTART;TZID=America/Toronto:20251002T180000
DTEND;TZID=America/Toronto:20251002T200000
DTSTAMP:20260425T162355
CREATED:20250130T145014Z
LAST-MODIFIED:20250130T145014Z
UID:10015451-1759428000-1759435200@visitpetrolia.ca
SUMMARY:Lion's Meat Raffle
DESCRIPTION:
URL:https://visitpetrolia.ca/event/lions-meat-raffle/2025-10-02/
LOCATION:Bull Wheel Bar  & Grill\, 4196 Petrolia Line\, Petrolia\, ON\, N0N1R0
END:VEVENT
BEGIN:VEVENT
DTSTART;TZID=America/Toronto:20250925T180000
DTEND;TZID=America/Toronto:20250925T200000
DTSTAMP:20260425T162355
CREATED:20250130T145014Z
LAST-MODIFIED:20250130T145014Z
UID:10015450-1758823200-1758830400@visitpetrolia.ca
SUMMARY:Lion's Meat Raffle
DESCRIPTION:
URL:https://visitpetrolia.ca/event/lions-meat-raffle/2025-09-25/
LOCATION:Bull Wheel Bar  & Grill\, 4196 Petrolia Line\, Petrolia\, ON\, N0N1R0
END:VEVENT
BEGIN:VEVENT
DTSTART;TZID=America/Toronto:20250918T180000
DTEND;TZID=America/Toronto:20250918T200000
DTSTAMP:20260425T162355
CREATED:20250130T145014Z
LAST-MODIFIED:20250130T145014Z
UID:10015449-1758218400-1758225600@visitpetrolia.ca
SUMMARY:Lion's Meat Raffle
DESCRIPTION:
URL:https://visitpetrolia.ca/event/lions-meat-raffle/2025-09-18/
LOCATION:Bull Wheel Bar  & Grill\, 4196 Petrolia Line\, Petrolia\, ON\, N0N1R0
END:VEVENT
BEGIN:VEVENT
DTSTART;TZID=America/Toronto:20250911T180000
DTEND;TZID=America/Toronto:20250911T200000
DTSTAMP:20260425T162355
CREATED:20250130T145014Z
LAST-MODIFIED:20250130T145014Z
UID:10015448-1757613600-1757620800@visitpetrolia.ca
SUMMARY:Lion's Meat Raffle
DESCRIPTION:
URL:https://visitpetrolia.ca/event/lions-meat-raffle/2025-09-11/
LOCATION:Bull Wheel Bar  & Grill\, 4196 Petrolia Line\, Petrolia\, ON\, N0N1R0
END:VEVENT
BEGIN:VEVENT
DTSTART;TZID=America/Toronto:20250910T180000
DTEND;TZID=America/Toronto:20250910T210000
DTSTAMP:20260425T162355
CREATED:20250130T144833Z
LAST-MODIFIED:20250130T144833Z
UID:10015412-1757527200-1757538000@visitpetrolia.ca
SUMMARY:Petrolia Lions Gift Card Bingo
DESCRIPTION:
URL:https://visitpetrolia.ca/event/petrolia-lions-gift-card-bingo/2025-09-10/
LOCATION:Lions Hall\, 451 Huggart St\, Petrolia\, Ontario\, N0N1R0\, Canada
ATTACH;FMTTYPE=image/jpeg:https://visitpetrolia.ca/wp-content/uploads/2025/01/474531427_10170761330325302_3834986101704707881_n.jpg
END:VEVENT
BEGIN:VEVENT
DTSTART;TZID=America/Toronto:20250904T180000
DTEND;TZID=America/Toronto:20250904T200000
DTSTAMP:20260425T162355
CREATED:20250130T145014Z
LAST-MODIFIED:20250130T145014Z
UID:10015447-1757008800-1757016000@visitpetrolia.ca
SUMMARY:Lion's Meat Raffle
DESCRIPTION:
URL:https://visitpetrolia.ca/event/lions-meat-raffle/2025-09-04/
LOCATION:Bull Wheel Bar  & Grill\, 4196 Petrolia Line\, Petrolia\, ON\, N0N1R0
END:VEVENT
BEGIN:VEVENT
DTSTART;TZID=America/Toronto:20250828T180000
DTEND;TZID=America/Toronto:20250828T200000
DTSTAMP:20260425T162355
CREATED:20250130T145014Z
LAST-MODIFIED:20250130T145014Z
UID:10015446-1756404000-1756411200@visitpetrolia.ca
SUMMARY:Lion's Meat Raffle
DESCRIPTION:
URL:https://visitpetrolia.ca/event/lions-meat-raffle/2025-08-28/
LOCATION:Bull Wheel Bar  & Grill\, 4196 Petrolia Line\, Petrolia\, ON\, N0N1R0
END:VEVENT
BEGIN:VEVENT
DTSTART;TZID=America/Toronto:20250821T180000
DTEND;TZID=America/Toronto:20250821T200000
DTSTAMP:20260425T162355
CREATED:20250130T145014Z
LAST-MODIFIED:20250130T145014Z
UID:10015445-1755799200-1755806400@visitpetrolia.ca
SUMMARY:Lion's Meat Raffle
DESCRIPTION:
URL:https://visitpetrolia.ca/event/lions-meat-raffle/2025-08-21/
LOCATION:Bull Wheel Bar  & Grill\, 4196 Petrolia Line\, Petrolia\, ON\, N0N1R0
END:VEVENT
BEGIN:VEVENT
DTSTART;TZID=America/Toronto:20250814T180000
DTEND;TZID=America/Toronto:20250814T200000
DTSTAMP:20260425T162355
CREATED:20250130T145014Z
LAST-MODIFIED:20250130T145014Z
UID:10015444-1755194400-1755201600@visitpetrolia.ca
SUMMARY:Lion's Meat Raffle
DESCRIPTION:
URL:https://visitpetrolia.ca/event/lions-meat-raffle/2025-08-14/
LOCATION:Bull Wheel Bar  & Grill\, 4196 Petrolia Line\, Petrolia\, ON\, N0N1R0
END:VEVENT
BEGIN:VEVENT
DTSTART;TZID=America/Toronto:20250813T180000
DTEND;TZID=America/Toronto:20250813T210000
DTSTAMP:20260425T162355
CREATED:20250130T144833Z
LAST-MODIFIED:20250130T144833Z
UID:10015411-1755108000-1755118800@visitpetrolia.ca
SUMMARY:Petrolia Lions Gift Card Bingo
DESCRIPTION:
URL:https://visitpetrolia.ca/event/petrolia-lions-gift-card-bingo/2025-08-13/
LOCATION:Lions Hall\, 451 Huggart St\, Petrolia\, Ontario\, N0N1R0\, Canada
ATTACH;FMTTYPE=image/jpeg:https://visitpetrolia.ca/wp-content/uploads/2025/01/474531427_10170761330325302_3834986101704707881_n.jpg
END:VEVENT
BEGIN:VEVENT
DTSTART;TZID=America/Toronto:20250807T180000
DTEND;TZID=America/Toronto:20250807T200000
DTSTAMP:20260425T162355
CREATED:20250130T145014Z
LAST-MODIFIED:20250130T145014Z
UID:10015443-1754589600-1754596800@visitpetrolia.ca
SUMMARY:Lion's Meat Raffle
DESCRIPTION:
URL:https://visitpetrolia.ca/event/lions-meat-raffle/2025-08-07/
LOCATION:Bull Wheel Bar  & Grill\, 4196 Petrolia Line\, Petrolia\, ON\, N0N1R0
END:VEVENT
BEGIN:VEVENT
DTSTART;TZID=America/Toronto:20250731T180000
DTEND;TZID=America/Toronto:20250731T200000
DTSTAMP:20260425T162355
CREATED:20250130T145014Z
LAST-MODIFIED:20250130T145014Z
UID:10015442-1753984800-1753992000@visitpetrolia.ca
SUMMARY:Lion's Meat Raffle
DESCRIPTION:
URL:https://visitpetrolia.ca/event/lions-meat-raffle/2025-07-31/
LOCATION:Bull Wheel Bar  & Grill\, 4196 Petrolia Line\, Petrolia\, ON\, N0N1R0
END:VEVENT
BEGIN:VEVENT
DTSTART;TZID=America/Toronto:20250724T180000
DTEND;TZID=America/Toronto:20250724T200000
DTSTAMP:20260425T162355
CREATED:20250130T145014Z
LAST-MODIFIED:20250130T145014Z
UID:10015441-1753380000-1753387200@visitpetrolia.ca
SUMMARY:Lion's Meat Raffle
DESCRIPTION:
URL:https://visitpetrolia.ca/event/lions-meat-raffle/2025-07-24/
LOCATION:Bull Wheel Bar  & Grill\, 4196 Petrolia Line\, Petrolia\, ON\, N0N1R0
END:VEVENT
BEGIN:VEVENT
DTSTART;TZID=America/Toronto:20250717T180000
DTEND;TZID=America/Toronto:20250717T200000
DTSTAMP:20260425T162355
CREATED:20250130T145014Z
LAST-MODIFIED:20250130T145014Z
UID:10015440-1752775200-1752782400@visitpetrolia.ca
SUMMARY:Lion's Meat Raffle
DESCRIPTION:
URL:https://visitpetrolia.ca/event/lions-meat-raffle/2025-07-17/
LOCATION:Bull Wheel Bar  & Grill\, 4196 Petrolia Line\, Petrolia\, ON\, N0N1R0
END:VEVENT
BEGIN:VEVENT
DTSTART;TZID=America/Toronto:20250710T180000
DTEND;TZID=America/Toronto:20250710T200000
DTSTAMP:20260425T162355
CREATED:20250130T145014Z
LAST-MODIFIED:20250130T145014Z
UID:10015439-1752170400-1752177600@visitpetrolia.ca
SUMMARY:Lion's Meat Raffle
DESCRIPTION:
URL:https://visitpetrolia.ca/event/lions-meat-raffle/2025-07-10/
LOCATION:Bull Wheel Bar  & Grill\, 4196 Petrolia Line\, Petrolia\, ON\, N0N1R0
END:VEVENT
BEGIN:VEVENT
DTSTART;TZID=America/Toronto:20250709T180000
DTEND;TZID=America/Toronto:20250709T210000
DTSTAMP:20260425T162355
CREATED:20250130T144833Z
LAST-MODIFIED:20250130T144833Z
UID:10015410-1752084000-1752094800@visitpetrolia.ca
SUMMARY:Petrolia Lions Gift Card Bingo
DESCRIPTION:
URL:https://visitpetrolia.ca/event/petrolia-lions-gift-card-bingo/2025-07-09/
LOCATION:Lions Hall\, 451 Huggart St\, Petrolia\, Ontario\, N0N1R0\, Canada
ATTACH;FMTTYPE=image/jpeg:https://visitpetrolia.ca/wp-content/uploads/2025/01/474531427_10170761330325302_3834986101704707881_n.jpg
END:VEVENT
BEGIN:VEVENT
DTSTART;TZID=America/Toronto:20250703T180000
DTEND;TZID=America/Toronto:20250703T200000
DTSTAMP:20260425T162355
CREATED:20250130T145014Z
LAST-MODIFIED:20250130T145014Z
UID:10015438-1751565600-1751572800@visitpetrolia.ca
SUMMARY:Lion's Meat Raffle
DESCRIPTION:
URL:https://visitpetrolia.ca/event/lions-meat-raffle/2025-07-03/
LOCATION:Bull Wheel Bar  & Grill\, 4196 Petrolia Line\, Petrolia\, ON\, N0N1R0
END:VEVENT
BEGIN:VEVENT
DTSTART;TZID=America/Toronto:20250628T153000
DTEND;TZID=America/Toronto:20250628T183000
DTSTAMP:20260425T162355
CREATED:20250130T144059Z
LAST-MODIFIED:20250204T182631Z
UID:10014598-1751124600-1751135400@visitpetrolia.ca
SUMMARY:Lobster Fest
DESCRIPTION:2 seating’s- 3:30pm and 6:30pm
URL:https://visitpetrolia.ca/event/lobster-fest/
LOCATION:Lions Hall\, 451 Huggart St\, Petrolia\, Ontario\, N0N1R0\, Canada
END:VEVENT
BEGIN:VEVENT
DTSTART;TZID=America/Toronto:20250626T180000
DTEND;TZID=America/Toronto:20250626T200000
DTSTAMP:20260425T162355
CREATED:20250130T145014Z
LAST-MODIFIED:20250130T145014Z
UID:10015437-1750960800-1750968000@visitpetrolia.ca
SUMMARY:Lion's Meat Raffle
DESCRIPTION:
URL:https://visitpetrolia.ca/event/lions-meat-raffle/2025-06-26/
LOCATION:Bull Wheel Bar  & Grill\, 4196 Petrolia Line\, Petrolia\, ON\, N0N1R0
END:VEVENT
END:VCALENDAR