BEGIN:VCALENDAR
VERSION:2.0
PRODID:-//Town of Petrolia - ECPv6.15.14//NONSGML v1.0//EN
CALSCALE:GREGORIAN
METHOD:PUBLISH
X-ORIGINAL-URL:https://visitpetrolia.ca
X-WR-CALDESC:Events for Town of Petrolia
REFRESH-INTERVAL;VALUE=DURATION:PT1H
X-Robots-Tag:noindex
X-PUBLISHED-TTL:PT1H
BEGIN:VTIMEZONE
TZID:America/Toronto
BEGIN:DAYLIGHT
TZOFFSETFROM:-0500
TZOFFSETTO:-0400
TZNAME:EDT
DTSTART:20220313T070000
END:DAYLIGHT
BEGIN:STANDARD
TZOFFSETFROM:-0400
TZOFFSETTO:-0500
TZNAME:EST
DTSTART:20221106T060000
END:STANDARD
BEGIN:DAYLIGHT
TZOFFSETFROM:-0500
TZOFFSETTO:-0400
TZNAME:EDT
DTSTART:20230312T070000
END:DAYLIGHT
BEGIN:STANDARD
TZOFFSETFROM:-0400
TZOFFSETTO:-0500
TZNAME:EST
DTSTART:20231105T060000
END:STANDARD
BEGIN:DAYLIGHT
TZOFFSETFROM:-0500
TZOFFSETTO:-0400
TZNAME:EDT
DTSTART:20240310T070000
END:DAYLIGHT
BEGIN:STANDARD
TZOFFSETFROM:-0400
TZOFFSETTO:-0500
TZNAME:EST
DTSTART:20241103T060000
END:STANDARD
BEGIN:DAYLIGHT
TZOFFSETFROM:-0500
TZOFFSETTO:-0400
TZNAME:EDT
DTSTART:20250309T070000
END:DAYLIGHT
BEGIN:STANDARD
TZOFFSETFROM:-0400
TZOFFSETTO:-0500
TZNAME:EST
DTSTART:20251102T060000
END:STANDARD
BEGIN:DAYLIGHT
TZOFFSETFROM:-0500
TZOFFSETTO:-0400
TZNAME:EDT
DTSTART:20260308T070000
END:DAYLIGHT
BEGIN:STANDARD
TZOFFSETFROM:-0400
TZOFFSETTO:-0500
TZNAME:EST
DTSTART:20261101T060000
END:STANDARD
END:VTIMEZONE
BEGIN:VEVENT
DTSTART;TZID=America/Toronto:20250406T130000
DTEND;TZID=America/Toronto:20250406T150000
DTSTAMP:20260422T171626
CREATED:20250220T181114Z
LAST-MODIFIED:20250220T181114Z
UID:10014802-1743944400-1743951600@visitpetrolia.ca
SUMMARY:Petrolia & District Skating Club 2025 Ice Show
DESCRIPTION:Please join us for our 2024/2025 Ice Show to showcase and celebrate all the accomplishments of our amazing skaters this year.
URL:https://visitpetrolia.ca/event/petrolia-district-skating-club-2025-ice-show/
LOCATION:Greenwood Recreation Cantre\, 4065 Dufferin Street\, Petrolia\, ON\, N0N1R0\, Canada
ATTACH;FMTTYPE=image/jpeg:https://visitpetrolia.ca/wp-content/uploads/2025/02/IMG_6582.jpeg
ORGANIZER;CN="Petrolia & District Skating Club":MAILTO:petrolia.skating.club@gmail.com
END:VEVENT
BEGIN:VEVENT
DTSTART;TZID=America/Toronto:20241219T182000
DTEND;TZID=America/Toronto:20241219T185500
DTSTAMP:20260422T171626
CREATED:20241120T161848Z
LAST-MODIFIED:20241120T162023Z
UID:10014436-1734632400-1734634500@visitpetrolia.ca
SUMMARY:Petrolia & District Skating Club Winter Showcase
DESCRIPTION:Join us as some of our amazing skaters perfom their solos and routines.\nAll welcome.\nAdmission by donation to PDSC
URL:https://visitpetrolia.ca/event/petrolia-district-skating-club-winter-showcase-2/
LOCATION:Greenwood Recreation Centre\, Petrolia\, Canada
ATTACH;FMTTYPE=image/jpeg:https://visitpetrolia.ca/wp-content/uploads/2024/11/Updated-Showcase-Poster.jpg
ORGANIZER;CN="Petrolia & District Skating Club":MAILTO:petrolia.skating.club@gmail.com
END:VEVENT
BEGIN:VEVENT
DTSTART;TZID=America/Toronto:20231221T173000
DTEND;TZID=America/Toronto:20231221T185500
DTSTAMP:20260422T171626
CREATED:20231108T152049Z
LAST-MODIFIED:20231108T152049Z
UID:10014305-1703179800-1703184900@visitpetrolia.ca
SUMMARY:Petrolia & District Skating Club Winter Showcase
DESCRIPTION:Join us for the evening to enjoy solo performances by some of our club skaters. \nAdmission by way of non-perishable items for the Petrolia Community Refrigerator and/or cash donation to PDSC with a portion going to the Petrolia Community Refrigerator.
URL:https://visitpetrolia.ca/event/petrolia-district-skating-club-winter-showcase/
LOCATION:Greenwood Recreation Cantre\, 4065 Dufferin Street\, Petrolia\, ON\, N0N1R0\, Canada
ATTACH;FMTTYPE=image/png:https://visitpetrolia.ca/wp-content/uploads/2023/11/Winter-Showcase.png
ORGANIZER;CN="Petrolia & District Skating Club":MAILTO:petrolia.skating.club@gmail.com
END:VEVENT
BEGIN:VEVENT
DTSTART;TZID=America/Toronto:20231012T190000
DTEND;TZID=America/Toronto:20231012T193000
DTSTAMP:20260422T171626
CREATED:20231003T144446Z
LAST-MODIFIED:20231003T144446Z
UID:10014297-1697137200-1697139000@visitpetrolia.ca
SUMMARY:PDSC Special General Meeting
DESCRIPTION:Please join us Oct 12\, 2023 @ 7:00pm for a Special General Meeting of our current membership. The purpose of the meeting is to adopt out new bylaws. The meeting will be held in the PDSC Board Room at the Greenwood Rec Centre. The bylaws are available to review beforehand upon request. Please reach out to PDSC Board Member if you would like to do so.  If you have any questions pertaining to this matter\, we ask that they are brought forward at the meeting.
URL:https://visitpetrolia.ca/event/pdsc-special-general-meeting/
LOCATION:Greenwood Recreation Cantre\, 4065 Dufferin Street\, Petrolia\, ON\, N0N1R0\, Canada
ORGANIZER;CN="Petrolia & District Skating Club":MAILTO:petrolia.skating.club@gmail.com
END:VEVENT
BEGIN:VEVENT
DTSTART;TZID=America/Toronto:20230402T080000
DTEND;TZID=America/Toronto:20230402T170000
DTSTAMP:20260422T171626
CREATED:20230303T170837Z
LAST-MODIFIED:20230303T170837Z
UID:10014116-1680422400-1680454800@visitpetrolia.ca
SUMMARY:Petrolia & District Skating Club- Carnival
DESCRIPTION:
URL:https://visitpetrolia.ca/event/petrolia-district-skating-club-carnival/
LOCATION:Greenwood Recreation Cantre\, 4065 Dufferin Street\, Petrolia\, ON\, N0N1R0\, Canada
ORGANIZER;CN="Petrolia & District Skating Club":MAILTO:petrolia.skating.club@gmail.com
END:VEVENT
END:VCALENDAR