BEGIN:VCALENDAR
VERSION:2.0
PRODID:-//Town of Petrolia - ECPv6.15.14//NONSGML v1.0//EN
CALSCALE:GREGORIAN
METHOD:PUBLISH
X-ORIGINAL-URL:https://visitpetrolia.ca
X-WR-CALDESC:Events for Town of Petrolia
REFRESH-INTERVAL;VALUE=DURATION:PT1H
X-Robots-Tag:noindex
X-PUBLISHED-TTL:PT1H
BEGIN:VTIMEZONE
TZID:America/Toronto
BEGIN:DAYLIGHT
TZOFFSETFROM:-0500
TZOFFSETTO:-0400
TZNAME:EDT
DTSTART:20250309T070000
END:DAYLIGHT
BEGIN:STANDARD
TZOFFSETFROM:-0400
TZOFFSETTO:-0500
TZNAME:EST
DTSTART:20251102T060000
END:STANDARD
BEGIN:DAYLIGHT
TZOFFSETFROM:-0500
TZOFFSETTO:-0400
TZNAME:EDT
DTSTART:20260308T070000
END:DAYLIGHT
BEGIN:STANDARD
TZOFFSETFROM:-0400
TZOFFSETTO:-0500
TZNAME:EST
DTSTART:20261101T060000
END:STANDARD
BEGIN:DAYLIGHT
TZOFFSETFROM:-0500
TZOFFSETTO:-0400
TZNAME:EDT
DTSTART:20270314T070000
END:DAYLIGHT
BEGIN:STANDARD
TZOFFSETFROM:-0400
TZOFFSETTO:-0500
TZNAME:EST
DTSTART:20271107T060000
END:STANDARD
END:VTIMEZONE
BEGIN:VEVENT
DTSTART;TZID=America/Toronto:20260606T130000
DTEND;TZID=America/Toronto:20260606T210000
DTSTAMP:20260423T122839
CREATED:20260415T130712Z
LAST-MODIFIED:20260415T130723Z
UID:10015799-1780750800-1780779600@visitpetrolia.ca
SUMMARY:Legion Display - Eats Beats Boutiques
DESCRIPTION:Come and visit our display. We will be featuring D-Day and the 100th Anniversary of Legions. Free Legion membership available for 2026.
URL:https://visitpetrolia.ca/event/legion-display-eats-beats-boutiques/
LOCATION:Victoria Park\, 411 Greenfield St\, Petrolia\, Ontario\, N0N 1R0\, Canada
END:VEVENT
BEGIN:VEVENT
DTSTART;TZID=America/Toronto:20260717T080000
DTEND;TZID=America/Toronto:20260717T170000
DTSTAMP:20260423T122839
CREATED:20260415T132717Z
LAST-MODIFIED:20260415T132717Z
UID:10015800-1784275200-1784307600@visitpetrolia.ca
SUMMARY:Proclamation Day - 100th Anniversary of Royal Canadian Legions
DESCRIPTION:Flag Raising and Proclamation for the actual date of the 100th Anniversary of the Royal Canadian Legion.
URL:https://visitpetrolia.ca/event/proclamation-day-100th-anniversary-of-royal-canadian-legions/
LOCATION:Victoria Park\, 411 Greenfield St\, Petrolia\, Ontario\, N0N 1R0\, Canada
ATTACH;FMTTYPE=image/png:https://visitpetrolia.ca/wp-content/uploads/2026/04/royal-canadian-legion-logo-png_seeklogo-120177.png
END:VEVENT
END:VCALENDAR