BEGIN:VCALENDAR
VERSION:2.0
PRODID:-//Town of Petrolia - ECPv6.15.14//NONSGML v1.0//EN
CALSCALE:GREGORIAN
METHOD:PUBLISH
X-ORIGINAL-URL:https://visitpetrolia.ca
X-WR-CALDESC:Events for Town of Petrolia
REFRESH-INTERVAL;VALUE=DURATION:PT1H
X-Robots-Tag:noindex
X-PUBLISHED-TTL:PT1H
BEGIN:VTIMEZONE
TZID:America/Toronto
BEGIN:DAYLIGHT
TZOFFSETFROM:-0500
TZOFFSETTO:-0400
TZNAME:EDT
DTSTART:20210314T070000
END:DAYLIGHT
BEGIN:STANDARD
TZOFFSETFROM:-0400
TZOFFSETTO:-0500
TZNAME:EST
DTSTART:20211107T060000
END:STANDARD
BEGIN:DAYLIGHT
TZOFFSETFROM:-0500
TZOFFSETTO:-0400
TZNAME:EDT
DTSTART:20220313T070000
END:DAYLIGHT
BEGIN:STANDARD
TZOFFSETFROM:-0400
TZOFFSETTO:-0500
TZNAME:EST
DTSTART:20221106T060000
END:STANDARD
BEGIN:DAYLIGHT
TZOFFSETFROM:-0500
TZOFFSETTO:-0400
TZNAME:EDT
DTSTART:20230312T070000
END:DAYLIGHT
BEGIN:STANDARD
TZOFFSETFROM:-0400
TZOFFSETTO:-0500
TZNAME:EST
DTSTART:20231105T060000
END:STANDARD
BEGIN:DAYLIGHT
TZOFFSETFROM:-0500
TZOFFSETTO:-0400
TZNAME:EDT
DTSTART:20240310T070000
END:DAYLIGHT
BEGIN:STANDARD
TZOFFSETFROM:-0400
TZOFFSETTO:-0500
TZNAME:EST
DTSTART:20241103T060000
END:STANDARD
END:VTIMEZONE
BEGIN:VEVENT
DTSTART;TZID=America/Toronto:20230812T073000
DTEND;TZID=America/Toronto:20230812T120000
DTSTAMP:20260420T031721
CREATED:20230303T180216Z
LAST-MODIFIED:20230303T180216Z
UID:10014416-1691825400-1691841600@visitpetrolia.ca
SUMMARY:Petrolia Farmers' Market
DESCRIPTION:Open Saturday’s 7:30am-12:00pm.  Starting May 20-October 7.
URL:https://visitpetrolia.ca/event/petrolia-farmers-market-3/2023-08-12/
LOCATION:Petrolia Farmers’ Market\, 369 Fletcher St.\, Petrolia\, Ontario\, N0N1R0\, Canada
ORGANIZER;CN="Town of Petrolia":MAILTO:twagner@petrolia.ca
END:VEVENT
BEGIN:VEVENT
DTSTART;TZID=America/Toronto:20230805T073000
DTEND;TZID=America/Toronto:20230805T120000
DTSTAMP:20260420T031721
CREATED:20230303T180216Z
LAST-MODIFIED:20230303T180216Z
UID:10014415-1691220600-1691236800@visitpetrolia.ca
SUMMARY:Petrolia Farmers' Market
DESCRIPTION:Open Saturday’s 7:30am-12:00pm.  Starting May 20-October 7.
URL:https://visitpetrolia.ca/event/petrolia-farmers-market-3/2023-08-05/
LOCATION:Petrolia Farmers’ Market\, 369 Fletcher St.\, Petrolia\, Ontario\, N0N1R0\, Canada
ORGANIZER;CN="Town of Petrolia":MAILTO:twagner@petrolia.ca
END:VEVENT
BEGIN:VEVENT
DTSTART;TZID=America/Toronto:20230729T073000
DTEND;TZID=America/Toronto:20230729T120000
DTSTAMP:20260420T031721
CREATED:20230303T180216Z
LAST-MODIFIED:20230303T180216Z
UID:10014414-1690615800-1690632000@visitpetrolia.ca
SUMMARY:Petrolia Farmers' Market
DESCRIPTION:Open Saturday’s 7:30am-12:00pm.  Starting May 20-October 7.
URL:https://visitpetrolia.ca/event/petrolia-farmers-market-3/2023-07-29/
LOCATION:Petrolia Farmers’ Market\, 369 Fletcher St.\, Petrolia\, Ontario\, N0N1R0\, Canada
ORGANIZER;CN="Town of Petrolia":MAILTO:twagner@petrolia.ca
END:VEVENT
BEGIN:VEVENT
DTSTART;TZID=America/Toronto:20230722T073000
DTEND;TZID=America/Toronto:20230722T120000
DTSTAMP:20260420T031721
CREATED:20230303T180216Z
LAST-MODIFIED:20230303T180216Z
UID:10014413-1690011000-1690027200@visitpetrolia.ca
SUMMARY:Petrolia Farmers' Market
DESCRIPTION:Open Saturday’s 7:30am-12:00pm.  Starting May 20-October 7.
URL:https://visitpetrolia.ca/event/petrolia-farmers-market-3/2023-07-22/
LOCATION:Petrolia Farmers’ Market\, 369 Fletcher St.\, Petrolia\, Ontario\, N0N1R0\, Canada
ORGANIZER;CN="Town of Petrolia":MAILTO:twagner@petrolia.ca
END:VEVENT
BEGIN:VEVENT
DTSTART;TZID=America/Toronto:20230715T073000
DTEND;TZID=America/Toronto:20230715T120000
DTSTAMP:20260420T031721
CREATED:20230303T180216Z
LAST-MODIFIED:20230303T180216Z
UID:10014412-1689406200-1689422400@visitpetrolia.ca
SUMMARY:Petrolia Farmers' Market
DESCRIPTION:Open Saturday’s 7:30am-12:00pm.  Starting May 20-October 7.
URL:https://visitpetrolia.ca/event/petrolia-farmers-market-3/2023-07-15/
LOCATION:Petrolia Farmers’ Market\, 369 Fletcher St.\, Petrolia\, Ontario\, N0N1R0\, Canada
ORGANIZER;CN="Town of Petrolia":MAILTO:twagner@petrolia.ca
END:VEVENT
BEGIN:VEVENT
DTSTART;TZID=America/Toronto:20230708T173000
DTEND;TZID=America/Toronto:20230708T230000
DTSTAMP:20260420T031721
CREATED:20230303T210346Z
LAST-MODIFIED:20230303T210346Z
UID:10014503-1688837400-1688857200@visitpetrolia.ca
SUMMARY:Barn Dance
DESCRIPTION:
URL:https://visitpetrolia.ca/event/barn-dance-2/
LOCATION:Petrolia Farmers’ Market\, 369 Fletcher St.\, Petrolia\, Ontario\, N0N1R0\, Canada
ORGANIZER;CN="Town of Petrolia":MAILTO:twagner@petrolia.ca
END:VEVENT
BEGIN:VEVENT
DTSTART;TZID=America/Toronto:20230708T090000
DTEND;TZID=America/Toronto:20230708T170000
DTSTAMP:20260420T031721
CREATED:20230303T205954Z
LAST-MODIFIED:20230303T205954Z
UID:10014502-1688806800-1688835600@visitpetrolia.ca
SUMMARY:Art in the Park\, Petrolia
DESCRIPTION:
URL:https://visitpetrolia.ca/event/art-in-the-park-petrolia/2023-07-08/
LOCATION:Victoria Park\, 411 Greenfield St\, Petrolia\, Ontario\, N0N 1R0\, Canada
ORGANIZER;CN="Town of Petrolia":MAILTO:twagner@petrolia.ca
END:VEVENT
BEGIN:VEVENT
DTSTART;TZID=America/Toronto:20230708T073000
DTEND;TZID=America/Toronto:20230708T120000
DTSTAMP:20260420T031721
CREATED:20230303T180216Z
LAST-MODIFIED:20230303T180216Z
UID:10014411-1688801400-1688817600@visitpetrolia.ca
SUMMARY:Petrolia Farmers' Market
DESCRIPTION:Open Saturday’s 7:30am-12:00pm.  Starting May 20-October 7.
URL:https://visitpetrolia.ca/event/petrolia-farmers-market-3/2023-07-08/
LOCATION:Petrolia Farmers’ Market\, 369 Fletcher St.\, Petrolia\, Ontario\, N0N1R0\, Canada
ORGANIZER;CN="Town of Petrolia":MAILTO:twagner@petrolia.ca
END:VEVENT
BEGIN:VEVENT
DTSTART;TZID=America/Toronto:20230707T110000
DTEND;TZID=America/Toronto:20230707T190000
DTSTAMP:20260420T031721
CREATED:20230303T205954Z
LAST-MODIFIED:20230303T205954Z
UID:10014501-1688727600-1688756400@visitpetrolia.ca
SUMMARY:Art in the Park\, Petrolia
DESCRIPTION:
URL:https://visitpetrolia.ca/event/art-in-the-park-petrolia/2023-07-07/
LOCATION:Victoria Park\, 411 Greenfield St\, Petrolia\, Ontario\, N0N 1R0\, Canada
ORGANIZER;CN="Town of Petrolia":MAILTO:twagner@petrolia.ca
END:VEVENT
BEGIN:VEVENT
DTSTART;TZID=America/Toronto:20230701T130000
DTEND;TZID=America/Toronto:20230701T230000
DTSTAMP:20260420T031721
CREATED:20230303T203202Z
LAST-MODIFIED:20230303T203202Z
UID:10014498-1688216400-1688252400@visitpetrolia.ca
SUMMARY:Canada Day Celebration
DESCRIPTION:
URL:https://visitpetrolia.ca/event/canada-day-celebration/
LOCATION:Greenwood Park\, 4065 Dufferin Ave\, Petrolia\, Ontario\, N0N1R0\, Canada
ORGANIZER;CN="Town of Petrolia":MAILTO:twagner@petrolia.ca
END:VEVENT
BEGIN:VEVENT
DTSTART;TZID=America/Toronto:20230701T073000
DTEND;TZID=America/Toronto:20230701T120000
DTSTAMP:20260420T031721
CREATED:20230303T180216Z
LAST-MODIFIED:20230303T180216Z
UID:10014410-1688196600-1688212800@visitpetrolia.ca
SUMMARY:Petrolia Farmers' Market
DESCRIPTION:Open Saturday’s 7:30am-12:00pm.  Starting May 20-October 7.
URL:https://visitpetrolia.ca/event/petrolia-farmers-market-3/2023-07-01/
LOCATION:Petrolia Farmers’ Market\, 369 Fletcher St.\, Petrolia\, Ontario\, N0N1R0\, Canada
ORGANIZER;CN="Town of Petrolia":MAILTO:twagner@petrolia.ca
END:VEVENT
BEGIN:VEVENT
DTSTART;TZID=America/Toronto:20230701T070000
DTEND;TZID=America/Toronto:20230701T100000
DTSTAMP:20260420T031721
CREATED:20230303T204136Z
LAST-MODIFIED:20230303T204136Z
UID:10014499-1688194800-1688205600@visitpetrolia.ca
SUMMARY:Town of Petrolia- Fishing Derby
DESCRIPTION:
URL:https://visitpetrolia.ca/event/town-of-petrolia-fishing-derby/
LOCATION:Bridgeview Park\, 4241-4299 Petrolia Line\, Petrolia\, Ontario\, N0N1R0\, Canada
ORGANIZER;CN="Town of Petrolia":MAILTO:twagner@petrolia.ca
END:VEVENT
BEGIN:VEVENT
DTSTART;TZID=America/Toronto:20230624T073000
DTEND;TZID=America/Toronto:20230624T120000
DTSTAMP:20260420T031721
CREATED:20230303T180216Z
LAST-MODIFIED:20230303T180216Z
UID:10014409-1687591800-1687608000@visitpetrolia.ca
SUMMARY:Petrolia Farmers' Market
DESCRIPTION:Open Saturday’s 7:30am-12:00pm.  Starting May 20-October 7.
URL:https://visitpetrolia.ca/event/petrolia-farmers-market-3/2023-06-24/
LOCATION:Petrolia Farmers’ Market\, 369 Fletcher St.\, Petrolia\, Ontario\, N0N1R0\, Canada
ORGANIZER;CN="Town of Petrolia":MAILTO:twagner@petrolia.ca
END:VEVENT
BEGIN:VEVENT
DTSTART;TZID=America/Toronto:20230617T073000
DTEND;TZID=America/Toronto:20230617T120000
DTSTAMP:20260420T031721
CREATED:20230303T180216Z
LAST-MODIFIED:20230303T180216Z
UID:10014408-1686987000-1687003200@visitpetrolia.ca
SUMMARY:Petrolia Farmers' Market
DESCRIPTION:Open Saturday’s 7:30am-12:00pm.  Starting May 20-October 7.
URL:https://visitpetrolia.ca/event/petrolia-farmers-market-3/2023-06-17/
LOCATION:Petrolia Farmers’ Market\, 369 Fletcher St.\, Petrolia\, Ontario\, N0N1R0\, Canada
ORGANIZER;CN="Town of Petrolia":MAILTO:twagner@petrolia.ca
END:VEVENT
BEGIN:VEVENT
DTSTART;TZID=America/Toronto:20230610T073000
DTEND;TZID=America/Toronto:20230610T120000
DTSTAMP:20260420T031721
CREATED:20230303T180216Z
LAST-MODIFIED:20230303T180216Z
UID:10014407-1686382200-1686398400@visitpetrolia.ca
SUMMARY:Petrolia Farmers' Market
DESCRIPTION:Open Saturday’s 7:30am-12:00pm.  Starting May 20-October 7.
URL:https://visitpetrolia.ca/event/petrolia-farmers-market-3/2023-06-10/
LOCATION:Petrolia Farmers’ Market\, 369 Fletcher St.\, Petrolia\, Ontario\, N0N1R0\, Canada
ORGANIZER;CN="Town of Petrolia":MAILTO:twagner@petrolia.ca
END:VEVENT
BEGIN:VEVENT
DTSTART;TZID=America/Toronto:20230603T120000
DTEND;TZID=America/Toronto:20230603T190000
DTSTAMP:20260420T031721
CREATED:20230523T134126Z
LAST-MODIFIED:20230523T134126Z
UID:10014666-1685793600-1685818800@visitpetrolia.ca
SUMMARY:10th Annual Petrolia Pizzafest
DESCRIPTION:
URL:https://visitpetrolia.ca/event/10th-annual-petrolia-pizzafest/
LOCATION:Victoria Park\, 411 Greenfield St\, Petrolia\, Ontario\, N0N 1R0\, Canada
ORGANIZER;CN="Town of Petrolia":MAILTO:twagner@petrolia.ca
END:VEVENT
BEGIN:VEVENT
DTSTART;TZID=America/Toronto:20230603T120000
DTEND;TZID=America/Toronto:20230603T190000
DTSTAMP:20260420T031721
CREATED:20230303T195610Z
LAST-MODIFIED:20230303T195610Z
UID:10014441-1685793600-1685818800@visitpetrolia.ca
SUMMARY:Petrolia Pizzafest
DESCRIPTION:
URL:https://visitpetrolia.ca/event/petrolia-pizzafest/
LOCATION:Victoria Park\, 411 Greenfield St\, Petrolia\, Ontario\, N0N 1R0\, Canada
ORGANIZER;CN="Town of Petrolia":MAILTO:twagner@petrolia.ca
END:VEVENT
BEGIN:VEVENT
DTSTART;TZID=America/Toronto:20230603T073000
DTEND;TZID=America/Toronto:20230603T120000
DTSTAMP:20260420T031721
CREATED:20230303T180216Z
LAST-MODIFIED:20230303T180216Z
UID:10014406-1685777400-1685793600@visitpetrolia.ca
SUMMARY:Petrolia Farmers' Market
DESCRIPTION:Open Saturday’s 7:30am-12:00pm.  Starting May 20-October 7.
URL:https://visitpetrolia.ca/event/petrolia-farmers-market-3/2023-06-03/
LOCATION:Petrolia Farmers’ Market\, 369 Fletcher St.\, Petrolia\, Ontario\, N0N1R0\, Canada
ORGANIZER;CN="Town of Petrolia":MAILTO:twagner@petrolia.ca
END:VEVENT
BEGIN:VEVENT
DTSTART;TZID=America/Toronto:20230527T090000
DTEND;TZID=America/Toronto:20230527T120000
DTSTAMP:20260420T031721
CREATED:20230303T180431Z
LAST-MODIFIED:20230303T180431Z
UID:10014425-1685178000-1685188800@visitpetrolia.ca
SUMMARY:Petrolia Farmers' Market Grand Opening
DESCRIPTION:
URL:https://visitpetrolia.ca/event/petrolia-farmers-market-grand-opening/
LOCATION:Petrolia Farmers’ Market\, 369 Fletcher St.\, Petrolia\, Ontario\, N0N1R0\, Canada
ORGANIZER;CN="Town of Petrolia":MAILTO:twagner@petrolia.ca
END:VEVENT
BEGIN:VEVENT
DTSTART;TZID=America/Toronto:20230527T073000
DTEND;TZID=America/Toronto:20230527T120000
DTSTAMP:20260420T031721
CREATED:20230303T180216Z
LAST-MODIFIED:20230303T180216Z
UID:10014405-1685172600-1685188800@visitpetrolia.ca
SUMMARY:Petrolia Farmers' Market
DESCRIPTION:Open Saturday’s 7:30am-12:00pm.  Starting May 20-October 7.
URL:https://visitpetrolia.ca/event/petrolia-farmers-market-3/2023-05-27/
LOCATION:Petrolia Farmers’ Market\, 369 Fletcher St.\, Petrolia\, Ontario\, N0N1R0\, Canada
ORGANIZER;CN="Town of Petrolia":MAILTO:twagner@petrolia.ca
END:VEVENT
BEGIN:VEVENT
DTSTART;TZID=America/Toronto:20230520T073000
DTEND;TZID=America/Toronto:20230520T120000
DTSTAMP:20260420T031721
CREATED:20230303T180216Z
LAST-MODIFIED:20230303T180216Z
UID:10014404-1684567800-1684584000@visitpetrolia.ca
SUMMARY:Petrolia Farmers' Market
DESCRIPTION:Open Saturday’s 7:30am-12:00pm.  Starting May 20-October 7.
URL:https://visitpetrolia.ca/event/petrolia-farmers-market-3/2023-05-20/
LOCATION:Petrolia Farmers’ Market\, 369 Fletcher St.\, Petrolia\, Ontario\, N0N1R0\, Canada
ORGANIZER;CN="Town of Petrolia":MAILTO:twagner@petrolia.ca
END:VEVENT
BEGIN:VEVENT
DTSTART;TZID=America/Toronto:20230506T090000
DTEND;TZID=America/Toronto:20230506T120000
DTSTAMP:20260420T031721
CREATED:20230303T175640Z
LAST-MODIFIED:20230303T175640Z
UID:10014128-1683363600-1683374400@visitpetrolia.ca
SUMMARY:Town of Petrolia- Clean Sweep
DESCRIPTION:
URL:https://visitpetrolia.ca/event/town-of-petrolia-clean-sweep/
LOCATION:Petrolia\, Ontario\, N0N1R0\, Canada
ORGANIZER;CN="Town of Petrolia":MAILTO:twagner@petrolia.ca
END:VEVENT
BEGIN:VEVENT
DTSTART;TZID=America/Toronto:20230313T080000
DTEND;TZID=America/Toronto:20230317T130000
DTSTAMP:20260420T031721
CREATED:20230303T195042Z
LAST-MODIFIED:20230303T195042Z
UID:10014437-1678694400-1679058000@visitpetrolia.ca
SUMMARY:March Break Skating
DESCRIPTION:
URL:https://visitpetrolia.ca/event/march-break-skating/
LOCATION:Greenwood Recreation Cantre\, 4065 Dufferin Street\, Petrolia\, ON\, N0N1R0\, Canada
ORGANIZER;CN="Town of Petrolia":MAILTO:twagner@petrolia.ca
END:VEVENT
BEGIN:VEVENT
DTSTART;TZID=America/Toronto:20221203T140000
DTEND;TZID=America/Toronto:20221203T150000
DTSTAMP:20260420T031721
CREATED:20220307T180212Z
LAST-MODIFIED:20220307T180212Z
UID:10014193-1670076000-1670079600@visitpetrolia.ca
SUMMARY:Santa Claus Parade
DESCRIPTION:
URL:https://visitpetrolia.ca/event/santa-claus-parade/
LOCATION:Petrolia\, 411 Greenfield St\, Petrolia\, Ontario\, N0N1R0\, Canada
ORGANIZER;CN="Town of Petrolia":MAILTO:twagner@petrolia.ca
END:VEVENT
BEGIN:VEVENT
DTSTART;TZID=America/Toronto:20221203T100000
DTEND;TZID=America/Toronto:20221203T150000
DTSTAMP:20260420T031721
CREATED:20220307T180107Z
LAST-MODIFIED:20221130T134456Z
UID:10014140-1670061600-1670079600@visitpetrolia.ca
SUMMARY:Christmas Outdoor Market
DESCRIPTION:
URL:https://visitpetrolia.ca/event/christmas-outdoor-market/
LOCATION:Petrolia Farmers’ Market\, 369 Fletcher St.\, Petrolia\, Ontario\, N0N1R0\, Canada
ORGANIZER;CN="Town of Petrolia":MAILTO:twagner@petrolia.ca
END:VEVENT
BEGIN:VEVENT
DTSTART;TZID=America/Toronto:20221202T170000
DTEND;TZID=America/Toronto:20221202T200000
DTSTAMP:20260420T031721
CREATED:20220307T175915Z
LAST-MODIFIED:20220307T175915Z
UID:10014139-1670000400-1670011200@visitpetrolia.ca
SUMMARY:Christmas in the Park
DESCRIPTION:
URL:https://visitpetrolia.ca/event/christmas-in-the-park/
LOCATION:Victoria Park\, 411 Greenfield St\, Petrolia\, Ontario\, N0N 1R0\, Canada
ORGANIZER;CN="Town of Petrolia":MAILTO:twagner@petrolia.ca
END:VEVENT
BEGIN:VEVENT
DTSTART;TZID=America/Toronto:20221008T073000
DTEND;TZID=America/Toronto:20221008T120000
DTSTAMP:20260420T031721
CREATED:20220307T173458Z
LAST-MODIFIED:20220307T173458Z
UID:10013894-1665214200-1665230400@visitpetrolia.ca
SUMMARY:Petrolia Farmers' Market
DESCRIPTION:
URL:https://visitpetrolia.ca/event/petrolia-farmers-market-2/2022-10-08/
LOCATION:Petrolia Farmers’ Market\, 369 Fletcher St.\, Petrolia\, Ontario\, N0N1R0\, Canada
ORGANIZER;CN="Town of Petrolia":MAILTO:twagner@petrolia.ca
END:VEVENT
BEGIN:VEVENT
DTSTART;TZID=America/Toronto:20221001T073000
DTEND;TZID=America/Toronto:20221001T120000
DTSTAMP:20260420T031721
CREATED:20220307T173458Z
LAST-MODIFIED:20220307T173458Z
UID:10013893-1664609400-1664625600@visitpetrolia.ca
SUMMARY:Petrolia Farmers' Market
DESCRIPTION:
URL:https://visitpetrolia.ca/event/petrolia-farmers-market-2/2022-10-01/
LOCATION:Petrolia Farmers’ Market\, 369 Fletcher St.\, Petrolia\, Ontario\, N0N1R0\, Canada
ORGANIZER;CN="Town of Petrolia":MAILTO:twagner@petrolia.ca
END:VEVENT
BEGIN:VEVENT
DTSTART;TZID=America/Toronto:20220924T073000
DTEND;TZID=America/Toronto:20220924T120000
DTSTAMP:20260420T031721
CREATED:20220307T173458Z
LAST-MODIFIED:20220307T173458Z
UID:10013892-1664004600-1664020800@visitpetrolia.ca
SUMMARY:Petrolia Farmers' Market
DESCRIPTION:
URL:https://visitpetrolia.ca/event/petrolia-farmers-market-2/2022-09-24/
LOCATION:Petrolia Farmers’ Market\, 369 Fletcher St.\, Petrolia\, Ontario\, N0N1R0\, Canada
ORGANIZER;CN="Town of Petrolia":MAILTO:twagner@petrolia.ca
END:VEVENT
BEGIN:VEVENT
DTSTART;TZID=America/Toronto:20220917T170000
DTEND;TZID=America/Toronto:20220917T230000
DTSTAMP:20260420T031721
CREATED:20220307T175813Z
LAST-MODIFIED:20220307T175813Z
UID:10014138-1663434000-1663455600@visitpetrolia.ca
SUMMARY:Farm to Table Harvestfest
DESCRIPTION:
URL:https://visitpetrolia.ca/event/farm-to-table-harvestfest-2/
LOCATION:Petrolia Farmers’ Market\, 369 Fletcher St.\, Petrolia\, Ontario\, N0N1R0\, Canada
ORGANIZER;CN="Town of Petrolia":MAILTO:twagner@petrolia.ca
END:VEVENT
END:VCALENDAR