BEGIN:VCALENDAR
VERSION:2.0
PRODID:-//Town of Petrolia - ECPv6.15.14//NONSGML v1.0//EN
CALSCALE:GREGORIAN
METHOD:PUBLISH
X-ORIGINAL-URL:https://visitpetrolia.ca
X-WR-CALDESC:Events for Town of Petrolia
REFRESH-INTERVAL;VALUE=DURATION:PT1H
X-Robots-Tag:noindex
X-PUBLISHED-TTL:PT1H
BEGIN:VTIMEZONE
TZID:America/Toronto
BEGIN:DAYLIGHT
TZOFFSETFROM:-0500
TZOFFSETTO:-0400
TZNAME:EDT
DTSTART:20240310T070000
END:DAYLIGHT
BEGIN:STANDARD
TZOFFSETFROM:-0400
TZOFFSETTO:-0500
TZNAME:EST
DTSTART:20241103T060000
END:STANDARD
BEGIN:DAYLIGHT
TZOFFSETFROM:-0500
TZOFFSETTO:-0400
TZNAME:EDT
DTSTART:20250309T070000
END:DAYLIGHT
BEGIN:STANDARD
TZOFFSETFROM:-0400
TZOFFSETTO:-0500
TZNAME:EST
DTSTART:20251102T060000
END:STANDARD
BEGIN:DAYLIGHT
TZOFFSETFROM:-0500
TZOFFSETTO:-0400
TZNAME:EDT
DTSTART:20260308T070000
END:DAYLIGHT
BEGIN:STANDARD
TZOFFSETFROM:-0400
TZOFFSETTO:-0500
TZNAME:EST
DTSTART:20261101T060000
END:STANDARD
END:VTIMEZONE
BEGIN:VEVENT
DTSTART;TZID=America/Toronto:20251011T073000
DTEND;TZID=America/Toronto:20251011T120000
DTSTAMP:20260419T110804
CREATED:20250129T212157Z
LAST-MODIFIED:20250129T212157Z
UID:10015386-1760167800-1760184000@visitpetrolia.ca
SUMMARY:Petrolia Farmers' Market
DESCRIPTION:Every Saturday Morning from May 17-October 18 from 7:30am-noon.
URL:https://visitpetrolia.ca/event/petrolia-farmers-market-4/2025-10-11/
LOCATION:Petrolia Farmers’ Market\, 369 Fletcher St.\, Petrolia\, Ontario\, N0N1R0\, Canada
CATEGORIES:Farmers Market
ORGANIZER;CN="Town of Petrolia":MAILTO:twagner@petrolia.ca
END:VEVENT
BEGIN:VEVENT
DTSTART;TZID=America/Toronto:20251004T073000
DTEND;TZID=America/Toronto:20251004T120000
DTSTAMP:20260419T110804
CREATED:20250129T212157Z
LAST-MODIFIED:20250129T212157Z
UID:10015385-1759563000-1759579200@visitpetrolia.ca
SUMMARY:Petrolia Farmers' Market
DESCRIPTION:Every Saturday Morning from May 17-October 18 from 7:30am-noon.
URL:https://visitpetrolia.ca/event/petrolia-farmers-market-4/2025-10-04/
LOCATION:Petrolia Farmers’ Market\, 369 Fletcher St.\, Petrolia\, Ontario\, N0N1R0\, Canada
CATEGORIES:Farmers Market
ORGANIZER;CN="Town of Petrolia":MAILTO:twagner@petrolia.ca
END:VEVENT
BEGIN:VEVENT
DTSTART;TZID=America/Toronto:20250927T073000
DTEND;TZID=America/Toronto:20250927T120000
DTSTAMP:20260419T110804
CREATED:20250129T212157Z
LAST-MODIFIED:20250129T212157Z
UID:10015384-1758958200-1758974400@visitpetrolia.ca
SUMMARY:Petrolia Farmers' Market
DESCRIPTION:Every Saturday Morning from May 17-October 18 from 7:30am-noon.
URL:https://visitpetrolia.ca/event/petrolia-farmers-market-4/2025-09-27/
LOCATION:Petrolia Farmers’ Market\, 369 Fletcher St.\, Petrolia\, Ontario\, N0N1R0\, Canada
CATEGORIES:Farmers Market
ORGANIZER;CN="Town of Petrolia":MAILTO:twagner@petrolia.ca
END:VEVENT
BEGIN:VEVENT
DTSTART;TZID=America/Toronto:20250920T073000
DTEND;TZID=America/Toronto:20250920T120000
DTSTAMP:20260419T110804
CREATED:20250129T212157Z
LAST-MODIFIED:20250129T212157Z
UID:10015383-1758353400-1758369600@visitpetrolia.ca
SUMMARY:Petrolia Farmers' Market
DESCRIPTION:Every Saturday Morning from May 17-October 18 from 7:30am-noon.
URL:https://visitpetrolia.ca/event/petrolia-farmers-market-4/2025-09-20/
LOCATION:Petrolia Farmers’ Market\, 369 Fletcher St.\, Petrolia\, Ontario\, N0N1R0\, Canada
CATEGORIES:Farmers Market
ORGANIZER;CN="Town of Petrolia":MAILTO:twagner@petrolia.ca
END:VEVENT
BEGIN:VEVENT
DTSTART;TZID=America/Toronto:20250913T163000
DTEND;TZID=America/Toronto:20250913T210000
DTSTAMP:20260419T110804
CREATED:20250130T134148Z
LAST-MODIFIED:20250130T134148Z
UID:10015397-1757781000-1757797200@visitpetrolia.ca
SUMMARY:Farm to Table Harvestfest
DESCRIPTION:Ticketed event
URL:https://visitpetrolia.ca/event/farm-to-table-harvestfest-4/
LOCATION:Petrolia Farmers’ Market\, 369 Fletcher St.\, Petrolia\, Ontario\, N0N1R0\, Canada
ORGANIZER;CN="Town of Petrolia":MAILTO:twagner@petrolia.ca
END:VEVENT
BEGIN:VEVENT
DTSTART;TZID=America/Toronto:20250913T073000
DTEND;TZID=America/Toronto:20250913T120000
DTSTAMP:20260419T110804
CREATED:20250129T212157Z
LAST-MODIFIED:20250129T212157Z
UID:10015382-1757748600-1757764800@visitpetrolia.ca
SUMMARY:Petrolia Farmers' Market
DESCRIPTION:Every Saturday Morning from May 17-October 18 from 7:30am-noon.
URL:https://visitpetrolia.ca/event/petrolia-farmers-market-4/2025-09-13/
LOCATION:Petrolia Farmers’ Market\, 369 Fletcher St.\, Petrolia\, Ontario\, N0N1R0\, Canada
CATEGORIES:Farmers Market
ORGANIZER;CN="Town of Petrolia":MAILTO:twagner@petrolia.ca
END:VEVENT
BEGIN:VEVENT
DTSTART;TZID=America/Toronto:20250906T073000
DTEND;TZID=America/Toronto:20250906T120000
DTSTAMP:20260419T110804
CREATED:20250129T212157Z
LAST-MODIFIED:20250129T212157Z
UID:10015381-1757143800-1757160000@visitpetrolia.ca
SUMMARY:Petrolia Farmers' Market
DESCRIPTION:Every Saturday Morning from May 17-October 18 from 7:30am-noon.
URL:https://visitpetrolia.ca/event/petrolia-farmers-market-4/2025-09-06/
LOCATION:Petrolia Farmers’ Market\, 369 Fletcher St.\, Petrolia\, Ontario\, N0N1R0\, Canada
CATEGORIES:Farmers Market
ORGANIZER;CN="Town of Petrolia":MAILTO:twagner@petrolia.ca
END:VEVENT
BEGIN:VEVENT
DTSTART;TZID=America/Toronto:20250830T073000
DTEND;TZID=America/Toronto:20250830T120000
DTSTAMP:20260419T110804
CREATED:20250129T212157Z
LAST-MODIFIED:20250129T212157Z
UID:10015380-1756539000-1756555200@visitpetrolia.ca
SUMMARY:Petrolia Farmers' Market
DESCRIPTION:Every Saturday Morning from May 17-October 18 from 7:30am-noon.
URL:https://visitpetrolia.ca/event/petrolia-farmers-market-4/2025-08-30/
LOCATION:Petrolia Farmers’ Market\, 369 Fletcher St.\, Petrolia\, Ontario\, N0N1R0\, Canada
CATEGORIES:Farmers Market
ORGANIZER;CN="Town of Petrolia":MAILTO:twagner@petrolia.ca
END:VEVENT
BEGIN:VEVENT
DTSTART;TZID=America/Toronto:20250823T073000
DTEND;TZID=America/Toronto:20250823T120000
DTSTAMP:20260419T110804
CREATED:20250129T212157Z
LAST-MODIFIED:20250129T212157Z
UID:10015379-1755934200-1755950400@visitpetrolia.ca
SUMMARY:Petrolia Farmers' Market
DESCRIPTION:Every Saturday Morning from May 17-October 18 from 7:30am-noon.
URL:https://visitpetrolia.ca/event/petrolia-farmers-market-4/2025-08-23/
LOCATION:Petrolia Farmers’ Market\, 369 Fletcher St.\, Petrolia\, Ontario\, N0N1R0\, Canada
CATEGORIES:Farmers Market
ORGANIZER;CN="Town of Petrolia":MAILTO:twagner@petrolia.ca
END:VEVENT
BEGIN:VEVENT
DTSTART;TZID=America/Toronto:20250816T073000
DTEND;TZID=America/Toronto:20250816T120000
DTSTAMP:20260419T110804
CREATED:20250129T212157Z
LAST-MODIFIED:20250129T212157Z
UID:10015378-1755329400-1755345600@visitpetrolia.ca
SUMMARY:Petrolia Farmers' Market
DESCRIPTION:Every Saturday Morning from May 17-October 18 from 7:30am-noon.
URL:https://visitpetrolia.ca/event/petrolia-farmers-market-4/2025-08-16/
LOCATION:Petrolia Farmers’ Market\, 369 Fletcher St.\, Petrolia\, Ontario\, N0N1R0\, Canada
CATEGORIES:Farmers Market
ORGANIZER;CN="Town of Petrolia":MAILTO:twagner@petrolia.ca
END:VEVENT
BEGIN:VEVENT
DTSTART;TZID=America/Toronto:20250809T073000
DTEND;TZID=America/Toronto:20250809T120000
DTSTAMP:20260419T110804
CREATED:20250129T212157Z
LAST-MODIFIED:20250129T212157Z
UID:10015377-1754724600-1754740800@visitpetrolia.ca
SUMMARY:Petrolia Farmers' Market
DESCRIPTION:Every Saturday Morning from May 17-October 18 from 7:30am-noon.
URL:https://visitpetrolia.ca/event/petrolia-farmers-market-4/2025-08-09/
LOCATION:Petrolia Farmers’ Market\, 369 Fletcher St.\, Petrolia\, Ontario\, N0N1R0\, Canada
CATEGORIES:Farmers Market
ORGANIZER;CN="Town of Petrolia":MAILTO:twagner@petrolia.ca
END:VEVENT
BEGIN:VEVENT
DTSTART;TZID=America/Toronto:20250802T073000
DTEND;TZID=America/Toronto:20250802T120000
DTSTAMP:20260419T110804
CREATED:20250129T212157Z
LAST-MODIFIED:20250129T212157Z
UID:10015376-1754119800-1754136000@visitpetrolia.ca
SUMMARY:Petrolia Farmers' Market
DESCRIPTION:Every Saturday Morning from May 17-October 18 from 7:30am-noon.
URL:https://visitpetrolia.ca/event/petrolia-farmers-market-4/2025-08-02/
LOCATION:Petrolia Farmers’ Market\, 369 Fletcher St.\, Petrolia\, Ontario\, N0N1R0\, Canada
CATEGORIES:Farmers Market
ORGANIZER;CN="Town of Petrolia":MAILTO:twagner@petrolia.ca
END:VEVENT
BEGIN:VEVENT
DTSTART;TZID=America/Toronto:20250726T073000
DTEND;TZID=America/Toronto:20250726T120000
DTSTAMP:20260419T110804
CREATED:20250129T212157Z
LAST-MODIFIED:20250129T212157Z
UID:10015375-1753515000-1753531200@visitpetrolia.ca
SUMMARY:Petrolia Farmers' Market
DESCRIPTION:Every Saturday Morning from May 17-October 18 from 7:30am-noon.
URL:https://visitpetrolia.ca/event/petrolia-farmers-market-4/2025-07-26/
LOCATION:Petrolia Farmers’ Market\, 369 Fletcher St.\, Petrolia\, Ontario\, N0N1R0\, Canada
CATEGORIES:Farmers Market
ORGANIZER;CN="Town of Petrolia":MAILTO:twagner@petrolia.ca
END:VEVENT
BEGIN:VEVENT
DTSTART;TZID=America/Toronto:20250719T073000
DTEND;TZID=America/Toronto:20250719T120000
DTSTAMP:20260419T110804
CREATED:20250129T212157Z
LAST-MODIFIED:20250129T212157Z
UID:10015374-1752910200-1752926400@visitpetrolia.ca
SUMMARY:Petrolia Farmers' Market
DESCRIPTION:Every Saturday Morning from May 17-October 18 from 7:30am-noon.
URL:https://visitpetrolia.ca/event/petrolia-farmers-market-4/2025-07-19/
LOCATION:Petrolia Farmers’ Market\, 369 Fletcher St.\, Petrolia\, Ontario\, N0N1R0\, Canada
CATEGORIES:Farmers Market
ORGANIZER;CN="Town of Petrolia":MAILTO:twagner@petrolia.ca
END:VEVENT
BEGIN:VEVENT
DTSTART;TZID=America/Toronto:20250712T180000
DTEND;TZID=America/Toronto:20250712T230000
DTSTAMP:20260419T110804
CREATED:20250130T133913Z
LAST-MODIFIED:20250130T133913Z
UID:10015395-1752343200-1752361200@visitpetrolia.ca
SUMMARY:Barn Dance
DESCRIPTION:
URL:https://visitpetrolia.ca/event/barn-dance-3/
LOCATION:Petrolia Farmers’ Market\, 369 Fletcher St.\, Petrolia\, Ontario\, N0N1R0\, Canada
ORGANIZER;CN="Town of Petrolia":MAILTO:twagner@petrolia.ca
END:VEVENT
BEGIN:VEVENT
DTSTART;TZID=America/Toronto:20250712T090000
DTEND;TZID=America/Toronto:20250712T170000
DTSTAMP:20260419T110804
CREATED:20250129T212842Z
LAST-MODIFIED:20250129T212850Z
UID:10015392-1752310800-1752339600@visitpetrolia.ca
SUMMARY:Art in the Park\, Petrolia
DESCRIPTION:
URL:https://visitpetrolia.ca/event/art-in-the-park-petrolia-2/2025-07-12/
LOCATION:Victoria Park\, 411 Greenfield St\, Petrolia\, Ontario\, N0N 1R0\, Canada
ORGANIZER;CN="Town of Petrolia":MAILTO:twagner@petrolia.ca
END:VEVENT
BEGIN:VEVENT
DTSTART;TZID=America/Toronto:20250712T073000
DTEND;TZID=America/Toronto:20250712T120000
DTSTAMP:20260419T110804
CREATED:20250129T212157Z
LAST-MODIFIED:20250129T212157Z
UID:10015373-1752305400-1752321600@visitpetrolia.ca
SUMMARY:Petrolia Farmers' Market
DESCRIPTION:Every Saturday Morning from May 17-October 18 from 7:30am-noon.
URL:https://visitpetrolia.ca/event/petrolia-farmers-market-4/2025-07-12/
LOCATION:Petrolia Farmers’ Market\, 369 Fletcher St.\, Petrolia\, Ontario\, N0N1R0\, Canada
CATEGORIES:Farmers Market
ORGANIZER;CN="Town of Petrolia":MAILTO:twagner@petrolia.ca
END:VEVENT
BEGIN:VEVENT
DTSTART;TZID=America/Toronto:20250711T110000
DTEND;TZID=America/Toronto:20250711T190000
DTSTAMP:20260419T110804
CREATED:20250129T212842Z
LAST-MODIFIED:20250129T212850Z
UID:10015391-1752231600-1752260400@visitpetrolia.ca
SUMMARY:Art in the Park\, Petrolia
DESCRIPTION:
URL:https://visitpetrolia.ca/event/art-in-the-park-petrolia-2/2025-07-11/
LOCATION:Victoria Park\, 411 Greenfield St\, Petrolia\, Ontario\, N0N 1R0\, Canada
ORGANIZER;CN="Town of Petrolia":MAILTO:twagner@petrolia.ca
END:VEVENT
BEGIN:VEVENT
DTSTART;TZID=America/Toronto:20250705T073000
DTEND;TZID=America/Toronto:20250705T120000
DTSTAMP:20260419T110804
CREATED:20250129T212157Z
LAST-MODIFIED:20250129T212157Z
UID:10015372-1751700600-1751716800@visitpetrolia.ca
SUMMARY:Petrolia Farmers' Market
DESCRIPTION:Every Saturday Morning from May 17-October 18 from 7:30am-noon.
URL:https://visitpetrolia.ca/event/petrolia-farmers-market-4/2025-07-05/
LOCATION:Petrolia Farmers’ Market\, 369 Fletcher St.\, Petrolia\, Ontario\, N0N1R0\, Canada
CATEGORIES:Farmers Market
ORGANIZER;CN="Town of Petrolia":MAILTO:twagner@petrolia.ca
END:VEVENT
BEGIN:VEVENT
DTSTART;TZID=America/Toronto:20250701T070000
DTEND;TZID=America/Toronto:20250701T230000
DTSTAMP:20260419T110804
CREATED:20250129T212606Z
LAST-MODIFIED:20250129T212606Z
UID:10015389-1751353200-1751410800@visitpetrolia.ca
SUMMARY:Canada Day Celebrations
DESCRIPTION:
URL:https://visitpetrolia.ca/event/canada-day-celebrations-3/
LOCATION:Greenwood Park\, 4065 Dufferin Ave\, Petrolia\, Ontario\, N0N1R0\, Canada
ORGANIZER;CN="Town of Petrolia":MAILTO:twagner@petrolia.ca
END:VEVENT
BEGIN:VEVENT
DTSTART;TZID=America/Toronto:20250701T070000
DTEND;TZID=America/Toronto:20250701T100000
DTSTAMP:20260419T110804
CREATED:20250130T133754Z
LAST-MODIFIED:20250130T133754Z
UID:10015394-1751353200-1751364000@visitpetrolia.ca
SUMMARY:Kids Fishing Derby
DESCRIPTION:
URL:https://visitpetrolia.ca/event/kids-fishing-derby-4/
LOCATION:Bridgeview Park\, 4241-4299 Petrolia Line\, Petrolia\, Ontario\, N0N1R0\, Canada
ORGANIZER;CN="Town of Petrolia":MAILTO:twagner@petrolia.ca
END:VEVENT
BEGIN:VEVENT
DTSTART;TZID=America/Toronto:20250628T073000
DTEND;TZID=America/Toronto:20250628T120000
DTSTAMP:20260419T110804
CREATED:20250129T212157Z
LAST-MODIFIED:20250129T212157Z
UID:10015371-1751095800-1751112000@visitpetrolia.ca
SUMMARY:Petrolia Farmers' Market
DESCRIPTION:Every Saturday Morning from May 17-October 18 from 7:30am-noon.
URL:https://visitpetrolia.ca/event/petrolia-farmers-market-4/2025-06-28/
LOCATION:Petrolia Farmers’ Market\, 369 Fletcher St.\, Petrolia\, Ontario\, N0N1R0\, Canada
CATEGORIES:Farmers Market
ORGANIZER;CN="Town of Petrolia":MAILTO:twagner@petrolia.ca
END:VEVENT
BEGIN:VEVENT
DTSTART;TZID=America/Toronto:20250621T073000
DTEND;TZID=America/Toronto:20250621T120000
DTSTAMP:20260419T110804
CREATED:20250129T212157Z
LAST-MODIFIED:20250129T212157Z
UID:10015370-1750491000-1750507200@visitpetrolia.ca
SUMMARY:Petrolia Farmers' Market
DESCRIPTION:Every Saturday Morning from May 17-October 18 from 7:30am-noon.
URL:https://visitpetrolia.ca/event/petrolia-farmers-market-4/2025-06-21/
LOCATION:Petrolia Farmers’ Market\, 369 Fletcher St.\, Petrolia\, Ontario\, N0N1R0\, Canada
CATEGORIES:Farmers Market
ORGANIZER;CN="Town of Petrolia":MAILTO:twagner@petrolia.ca
END:VEVENT
BEGIN:VEVENT
DTSTART;TZID=America/Toronto:20250614T073000
DTEND;TZID=America/Toronto:20250614T120000
DTSTAMP:20260419T110804
CREATED:20250129T212157Z
LAST-MODIFIED:20250129T212157Z
UID:10015369-1749886200-1749902400@visitpetrolia.ca
SUMMARY:Petrolia Farmers' Market
DESCRIPTION:Every Saturday Morning from May 17-October 18 from 7:30am-noon.
URL:https://visitpetrolia.ca/event/petrolia-farmers-market-4/2025-06-14/
LOCATION:Petrolia Farmers’ Market\, 369 Fletcher St.\, Petrolia\, Ontario\, N0N1R0\, Canada
CATEGORIES:Farmers Market
ORGANIZER;CN="Town of Petrolia":MAILTO:twagner@petrolia.ca
END:VEVENT
BEGIN:VEVENT
DTSTART;TZID=America/Toronto:20250607T120000
DTEND;TZID=America/Toronto:20250607T190000
DTSTAMP:20260419T110804
CREATED:20250129T212330Z
LAST-MODIFIED:20250129T212330Z
UID:10015364-1749297600-1749322800@visitpetrolia.ca
SUMMARY:Petrolia Pizzafest
DESCRIPTION:
URL:https://visitpetrolia.ca/event/petrolia-pizzafest-2/
LOCATION:Victoria Park\, 411 Greenfield St\, Petrolia\, Ontario\, N0N 1R0\, Canada
ORGANIZER;CN="Town of Petrolia":MAILTO:twagner@petrolia.ca
END:VEVENT
BEGIN:VEVENT
DTSTART;TZID=America/Toronto:20250607T073000
DTEND;TZID=America/Toronto:20250607T120000
DTSTAMP:20260419T110804
CREATED:20250129T212157Z
LAST-MODIFIED:20250129T212157Z
UID:10015368-1749281400-1749297600@visitpetrolia.ca
SUMMARY:Petrolia Farmers' Market
DESCRIPTION:Every Saturday Morning from May 17-October 18 from 7:30am-noon.
URL:https://visitpetrolia.ca/event/petrolia-farmers-market-4/2025-06-07/
LOCATION:Petrolia Farmers’ Market\, 369 Fletcher St.\, Petrolia\, Ontario\, N0N1R0\, Canada
CATEGORIES:Farmers Market
ORGANIZER;CN="Town of Petrolia":MAILTO:twagner@petrolia.ca
END:VEVENT
BEGIN:VEVENT
DTSTART;TZID=America/Toronto:20250531T073000
DTEND;TZID=America/Toronto:20250531T120000
DTSTAMP:20260419T110804
CREATED:20250129T212157Z
LAST-MODIFIED:20250129T212157Z
UID:10015367-1748676600-1748692800@visitpetrolia.ca
SUMMARY:Petrolia Farmers' Market
DESCRIPTION:Every Saturday Morning from May 17-October 18 from 7:30am-noon.
URL:https://visitpetrolia.ca/event/petrolia-farmers-market-4/2025-05-31/
LOCATION:Petrolia Farmers’ Market\, 369 Fletcher St.\, Petrolia\, Ontario\, N0N1R0\, Canada
CATEGORIES:Farmers Market
ORGANIZER;CN="Town of Petrolia":MAILTO:twagner@petrolia.ca
END:VEVENT
BEGIN:VEVENT
DTSTART;TZID=America/Toronto:20250524T090000
DTEND;TZID=America/Toronto:20250524T120000
DTSTAMP:20260419T110804
CREATED:20250129T212016Z
LAST-MODIFIED:20250129T212016Z
UID:10015363-1748077200-1748088000@visitpetrolia.ca
SUMMARY:Farmers' Market Grand Opening
DESCRIPTION:Join us at the Petrolia Farmers’ Market for the grand opening of the 2025 season!
URL:https://visitpetrolia.ca/event/farmers-market-grand-opening-2/
LOCATION:Petrolia Farmers’ Market\, 369 Fletcher St.\, Petrolia\, Ontario\, N0N1R0\, Canada
CATEGORIES:Farmers Market
ORGANIZER;CN="Town of Petrolia":MAILTO:twagner@petrolia.ca
END:VEVENT
BEGIN:VEVENT
DTSTART;TZID=America/Toronto:20250524T073000
DTEND;TZID=America/Toronto:20250524T120000
DTSTAMP:20260419T110804
CREATED:20250129T212157Z
LAST-MODIFIED:20250129T212157Z
UID:10015366-1748071800-1748088000@visitpetrolia.ca
SUMMARY:Petrolia Farmers' Market
DESCRIPTION:Every Saturday Morning from May 17-October 18 from 7:30am-noon.
URL:https://visitpetrolia.ca/event/petrolia-farmers-market-4/2025-05-24/
LOCATION:Petrolia Farmers’ Market\, 369 Fletcher St.\, Petrolia\, Ontario\, N0N1R0\, Canada
CATEGORIES:Farmers Market
ORGANIZER;CN="Town of Petrolia":MAILTO:twagner@petrolia.ca
END:VEVENT
BEGIN:VEVENT
DTSTART;TZID=America/Toronto:20250517T073000
DTEND;TZID=America/Toronto:20250517T120000
DTSTAMP:20260419T110804
CREATED:20250129T212157Z
LAST-MODIFIED:20250129T212157Z
UID:10015365-1747467000-1747483200@visitpetrolia.ca
SUMMARY:Petrolia Farmers' Market
DESCRIPTION:Every Saturday Morning from May 17-October 18 from 7:30am-noon.
URL:https://visitpetrolia.ca/event/petrolia-farmers-market-4/2025-05-17/
LOCATION:Petrolia Farmers’ Market\, 369 Fletcher St.\, Petrolia\, Ontario\, N0N1R0\, Canada
CATEGORIES:Farmers Market
ORGANIZER;CN="Town of Petrolia":MAILTO:twagner@petrolia.ca
END:VEVENT
END:VCALENDAR