BEGIN:VCALENDAR
VERSION:2.0
PRODID:-//Town of Petrolia - ECPv6.15.14//NONSGML v1.0//EN
CALSCALE:GREGORIAN
METHOD:PUBLISH
X-WR-CALNAME:Town of Petrolia
X-ORIGINAL-URL:https://visitpetrolia.ca
X-WR-CALDESC:Events for Town of Petrolia
REFRESH-INTERVAL;VALUE=DURATION:PT1H
X-Robots-Tag:noindex
X-PUBLISHED-TTL:PT1H
BEGIN:VTIMEZONE
TZID:America/Toronto
BEGIN:DAYLIGHT
TZOFFSETFROM:-0500
TZOFFSETTO:-0400
TZNAME:EDT
DTSTART:20210314T070000
END:DAYLIGHT
BEGIN:STANDARD
TZOFFSETFROM:-0400
TZOFFSETTO:-0500
TZNAME:EST
DTSTART:20211107T060000
END:STANDARD
BEGIN:DAYLIGHT
TZOFFSETFROM:-0500
TZOFFSETTO:-0400
TZNAME:EDT
DTSTART:20220313T070000
END:DAYLIGHT
BEGIN:STANDARD
TZOFFSETFROM:-0400
TZOFFSETTO:-0500
TZNAME:EST
DTSTART:20221106T060000
END:STANDARD
BEGIN:DAYLIGHT
TZOFFSETFROM:-0500
TZOFFSETTO:-0400
TZNAME:EDT
DTSTART:20230312T070000
END:DAYLIGHT
BEGIN:STANDARD
TZOFFSETFROM:-0400
TZOFFSETTO:-0500
TZNAME:EST
DTSTART:20231105T060000
END:STANDARD
END:VTIMEZONE
BEGIN:VEVENT
DTSTART;TZID=America/Toronto:20220604T073000
DTEND;TZID=America/Toronto:20220604T120000
DTSTAMP:20260420T214918
CREATED:20220307T173458Z
LAST-MODIFIED:20220307T173458Z
UID:10013876-1654327800-1654344000@visitpetrolia.ca
SUMMARY:Petrolia Farmers' Market
DESCRIPTION:
URL:https://visitpetrolia.ca/event/petrolia-farmers-market-2/2022-06-04/
LOCATION:Petrolia Farmers’ Market\, 369 Fletcher St.\, Petrolia\, Ontario\, N0N1R0\, Canada
ORGANIZER;CN="Town of Petrolia":MAILTO:twagner@petrolia.ca
END:VEVENT
BEGIN:VEVENT
DTSTART;TZID=America/Toronto:20220528T090000
DTEND;TZID=America/Toronto:20220528T120000
DTSTAMP:20260420T214918
CREATED:20220307T173810Z
LAST-MODIFIED:20220307T173810Z
UID:10014133-1653728400-1653739200@visitpetrolia.ca
SUMMARY:Farmers' Market Grand Opening
DESCRIPTION:
URL:https://visitpetrolia.ca/event/farmers-market-grand-opening/
LOCATION:Petrolia Farmers’ Market\, 369 Fletcher St.\, Petrolia\, Ontario\, N0N1R0\, Canada
ORGANIZER;CN="Town of Petrolia":MAILTO:twagner@petrolia.ca
END:VEVENT
BEGIN:VEVENT
DTSTART;TZID=America/Toronto:20220528T073000
DTEND;TZID=America/Toronto:20220528T120000
DTSTAMP:20260420T214918
CREATED:20220307T173458Z
LAST-MODIFIED:20220307T173458Z
UID:10013875-1653723000-1653739200@visitpetrolia.ca
SUMMARY:Petrolia Farmers' Market
DESCRIPTION:
URL:https://visitpetrolia.ca/event/petrolia-farmers-market-2/2022-05-28/
LOCATION:Petrolia Farmers’ Market\, 369 Fletcher St.\, Petrolia\, Ontario\, N0N1R0\, Canada
ORGANIZER;CN="Town of Petrolia":MAILTO:twagner@petrolia.ca
END:VEVENT
BEGIN:VEVENT
DTSTART;TZID=America/Toronto:20220521T073000
DTEND;TZID=America/Toronto:20220521T120000
DTSTAMP:20260420T214918
CREATED:20220307T173458Z
LAST-MODIFIED:20220307T173458Z
UID:10013874-1653118200-1653134400@visitpetrolia.ca
SUMMARY:Petrolia Farmers' Market
DESCRIPTION:
URL:https://visitpetrolia.ca/event/petrolia-farmers-market-2/2022-05-21/
LOCATION:Petrolia Farmers’ Market\, 369 Fletcher St.\, Petrolia\, Ontario\, N0N1R0\, Canada
ORGANIZER;CN="Town of Petrolia":MAILTO:twagner@petrolia.ca
END:VEVENT
END:VCALENDAR