BEGIN:VCALENDAR
VERSION:2.0
PRODID:-//Town of Petrolia - ECPv6.15.14//NONSGML v1.0//EN
CALSCALE:GREGORIAN
METHOD:PUBLISH
X-ORIGINAL-URL:https://visitpetrolia.ca
X-WR-CALDESC:Events for Town of Petrolia
REFRESH-INTERVAL;VALUE=DURATION:PT1H
X-Robots-Tag:noindex
X-PUBLISHED-TTL:PT1H
BEGIN:VTIMEZONE
TZID:America/Toronto
BEGIN:DAYLIGHT
TZOFFSETFROM:-0500
TZOFFSETTO:-0400
TZNAME:EDT
DTSTART:20190310T070000
END:DAYLIGHT
BEGIN:STANDARD
TZOFFSETFROM:-0400
TZOFFSETTO:-0500
TZNAME:EST
DTSTART:20191103T060000
END:STANDARD
BEGIN:DAYLIGHT
TZOFFSETFROM:-0500
TZOFFSETTO:-0400
TZNAME:EDT
DTSTART:20200308T070000
END:DAYLIGHT
BEGIN:STANDARD
TZOFFSETFROM:-0400
TZOFFSETTO:-0500
TZNAME:EST
DTSTART:20201101T060000
END:STANDARD
BEGIN:DAYLIGHT
TZOFFSETFROM:-0500
TZOFFSETTO:-0400
TZNAME:EDT
DTSTART:20210314T070000
END:DAYLIGHT
BEGIN:STANDARD
TZOFFSETFROM:-0400
TZOFFSETTO:-0500
TZNAME:EST
DTSTART:20211107T060000
END:STANDARD
BEGIN:DAYLIGHT
TZOFFSETFROM:-0500
TZOFFSETTO:-0400
TZNAME:EDT
DTSTART:20220313T070000
END:DAYLIGHT
BEGIN:STANDARD
TZOFFSETFROM:-0400
TZOFFSETTO:-0500
TZNAME:EST
DTSTART:20221106T060000
END:STANDARD
BEGIN:DAYLIGHT
TZOFFSETFROM:-0500
TZOFFSETTO:-0400
TZNAME:EDT
DTSTART:20230312T070000
END:DAYLIGHT
BEGIN:STANDARD
TZOFFSETFROM:-0400
TZOFFSETTO:-0500
TZNAME:EST
DTSTART:20231105T060000
END:STANDARD
BEGIN:DAYLIGHT
TZOFFSETFROM:-0500
TZOFFSETTO:-0400
TZNAME:EDT
DTSTART:20240310T070000
END:DAYLIGHT
BEGIN:STANDARD
TZOFFSETFROM:-0400
TZOFFSETTO:-0500
TZNAME:EST
DTSTART:20241103T060000
END:STANDARD
BEGIN:DAYLIGHT
TZOFFSETFROM:-0500
TZOFFSETTO:-0400
TZNAME:EDT
DTSTART:20250309T070000
END:DAYLIGHT
BEGIN:STANDARD
TZOFFSETFROM:-0400
TZOFFSETTO:-0500
TZNAME:EST
DTSTART:20251102T060000
END:STANDARD
BEGIN:DAYLIGHT
TZOFFSETFROM:-0500
TZOFFSETTO:-0400
TZNAME:EDT
DTSTART:20260308T070000
END:DAYLIGHT
BEGIN:STANDARD
TZOFFSETFROM:-0400
TZOFFSETTO:-0500
TZNAME:EST
DTSTART:20261101T060000
END:STANDARD
END:VTIMEZONE
BEGIN:VEVENT
DTSTART;TZID=America/Toronto:20250605T093000
DTEND;TZID=America/Toronto:20250605T110000
DTSTAMP:20260424T233535
CREATED:20250527T140527Z
LAST-MODIFIED:20250527T140527Z
UID:10015580-1749115800-1749121200@visitpetrolia.ca
SUMMARY:EarlyON-Nature Park Program
DESCRIPTION:Families with children 0 – 6 years are invited to join educators as we explore\, observe\, and learn together about all that a natural outdoor environment has to offer. Join us at Bridgeview Park (north side) located at 4299 Petrolia Line.\nIf closed\, meet us at Woodland Park (between Gem & Garfield Ave.)
URL:https://visitpetrolia.ca/event/earlyon-nature-park-program/2025-06-05/
LOCATION:Bridgeview Park\, 4241-4299 Petrolia Line\, Petrolia\, Ontario\, N0N1R0\, Canada
ATTACH;FMTTYPE=image/jpeg:https://visitpetrolia.ca/wp-content/uploads/2025/05/Nature-Park-Spring-2025.jpg
ORGANIZER;CN="Petrolia EarlyON Centre":MAILTO:EarlyON@nlchildcare.ca
END:VEVENT
BEGIN:VEVENT
DTSTART;TZID=America/Toronto:20250529T093000
DTEND;TZID=America/Toronto:20250529T110000
DTSTAMP:20260424T233535
CREATED:20250527T140527Z
LAST-MODIFIED:20250527T140527Z
UID:10015579-1748511000-1748516400@visitpetrolia.ca
SUMMARY:EarlyON-Nature Park Program
DESCRIPTION:Families with children 0 – 6 years are invited to join educators as we explore\, observe\, and learn together about all that a natural outdoor environment has to offer. Join us at Bridgeview Park (north side) located at 4299 Petrolia Line.\nIf closed\, meet us at Woodland Park (between Gem & Garfield Ave.)
URL:https://visitpetrolia.ca/event/earlyon-nature-park-program/2025-05-29/
LOCATION:Bridgeview Park\, 4241-4299 Petrolia Line\, Petrolia\, Ontario\, N0N1R0\, Canada
ATTACH;FMTTYPE=image/jpeg:https://visitpetrolia.ca/wp-content/uploads/2025/05/Nature-Park-Spring-2025.jpg
ORGANIZER;CN="Petrolia EarlyON Centre":MAILTO:EarlyON@nlchildcare.ca
END:VEVENT
BEGIN:VEVENT
DTSTART;TZID=America/Toronto:20250417T093000
DTEND;TZID=America/Toronto:20250417T110000
DTSTAMP:20260424T233535
CREATED:20250129T163042Z
LAST-MODIFIED:20250129T163042Z
UID:10015046-1744882200-1744887600@visitpetrolia.ca
SUMMARY:Nature Park Program
DESCRIPTION:Join educators from the Petrolia EarlyON Centre as we explore\, observe\, and learn together about all that a natural outdoor environment has to offer. For families with children 0 to 6 years of age.\nBridgeview Park (north side) 4200 Petrolia Line.\nIf closed\, meet us at Woodland Park (between Gem & Garfield Ave.)
URL:https://visitpetrolia.ca/event/nature-park-program/2025-04-17/
LOCATION:Bridgeview Park\, 4241-4299 Petrolia Line\, Petrolia\, Ontario\, N0N1R0\, Canada
ATTACH;FMTTYPE=image/jpeg:https://visitpetrolia.ca/wp-content/uploads/2025/01/Nature-Park-Winter-2025.jpg
END:VEVENT
BEGIN:VEVENT
DTSTART;TZID=America/Toronto:20250320T093000
DTEND;TZID=America/Toronto:20250320T110000
DTSTAMP:20260424T233535
CREATED:20250129T163042Z
LAST-MODIFIED:20250129T163042Z
UID:10015045-1742463000-1742468400@visitpetrolia.ca
SUMMARY:Nature Park Program
DESCRIPTION:Join educators from the Petrolia EarlyON Centre as we explore\, observe\, and learn together about all that a natural outdoor environment has to offer. For families with children 0 to 6 years of age.\nBridgeview Park (north side) 4200 Petrolia Line.\nIf closed\, meet us at Woodland Park (between Gem & Garfield Ave.)
URL:https://visitpetrolia.ca/event/nature-park-program/2025-03-20/
LOCATION:Bridgeview Park\, 4241-4299 Petrolia Line\, Petrolia\, Ontario\, N0N1R0\, Canada
ATTACH;FMTTYPE=image/jpeg:https://visitpetrolia.ca/wp-content/uploads/2025/01/Nature-Park-Winter-2025.jpg
END:VEVENT
BEGIN:VEVENT
DTSTART;TZID=America/Toronto:20250220T093000
DTEND;TZID=America/Toronto:20250220T110000
DTSTAMP:20260424T233535
CREATED:20250129T163042Z
LAST-MODIFIED:20250129T163042Z
UID:10015044-1740043800-1740049200@visitpetrolia.ca
SUMMARY:Nature Park Program
DESCRIPTION:Join educators from the Petrolia EarlyON Centre as we explore\, observe\, and learn together about all that a natural outdoor environment has to offer. For families with children 0 to 6 years of age.\nBridgeview Park (north side) 4200 Petrolia Line.\nIf closed\, meet us at Woodland Park (between Gem & Garfield Ave.)
URL:https://visitpetrolia.ca/event/nature-park-program/2025-02-20/
LOCATION:Bridgeview Park\, 4241-4299 Petrolia Line\, Petrolia\, Ontario\, N0N1R0\, Canada
ATTACH;FMTTYPE=image/jpeg:https://visitpetrolia.ca/wp-content/uploads/2025/01/Nature-Park-Winter-2025.jpg
END:VEVENT
BEGIN:VEVENT
DTSTART;TZID=America/Toronto:20250129T070000
DTEND;TZID=America/Toronto:20250129T100000
DTSTAMP:20260424T233535
CREATED:20250129T212657Z
LAST-MODIFIED:20250129T212657Z
UID:10015390-1738134000-1738144800@visitpetrolia.ca
SUMMARY:Kids Fishing Derby
DESCRIPTION:
URL:https://visitpetrolia.ca/event/kids-fishing-derby-3/
LOCATION:Bridgeview Park\, 4241-4299 Petrolia Line\, Petrolia\, Ontario\, N0N1R0\, Canada
ORGANIZER;CN="Town of Petrolia":MAILTO:twagner@petrolia.ca
END:VEVENT
BEGIN:VEVENT
DTSTART;TZID=America/Toronto:20230701T070000
DTEND;TZID=America/Toronto:20230701T100000
DTSTAMP:20260424T233535
CREATED:20230303T204136Z
LAST-MODIFIED:20230303T204136Z
UID:10014499-1688194800-1688205600@visitpetrolia.ca
SUMMARY:Town of Petrolia- Fishing Derby
DESCRIPTION:
URL:https://visitpetrolia.ca/event/town-of-petrolia-fishing-derby/
LOCATION:Bridgeview Park\, 4241-4299 Petrolia Line\, Petrolia\, Ontario\, N0N1R0\, Canada
ORGANIZER;CN="Town of Petrolia":MAILTO:twagner@petrolia.ca
END:VEVENT
BEGIN:VEVENT
DTSTART;TZID=America/Toronto:20220702T080000
DTEND;TZID=America/Toronto:20220709T170000
DTSTAMP:20260424T233535
CREATED:20220307T174102Z
LAST-MODIFIED:20220307T174102Z
UID:10014135-1656748800-1657386000@visitpetrolia.ca
SUMMARY:Kids Fishing Derby
DESCRIPTION:
URL:https://visitpetrolia.ca/event/kids-fishing-derby-2/
LOCATION:Bridgeview Park\, 4241-4299 Petrolia Line\, Petrolia\, Ontario\, N0N1R0\, Canada
ORGANIZER;CN="Town of Petrolia":MAILTO:twagner@petrolia.ca
END:VEVENT
BEGIN:VEVENT
DTSTART;TZID=America/Toronto:20200628T080000
DTEND;TZID=America/Toronto:20200628T100000
DTSTAMP:20260424T233535
CREATED:20200213T191119Z
LAST-MODIFIED:20200213T191119Z
UID:10014108-1593331200-1593338400@visitpetrolia.ca
SUMMARY:Kids Fishing Derby
DESCRIPTION:Our Canada Day Celebrations start Sunday\, June 28th with our Kids Fishing Derby at Bridgeview Park from 8:00-10:00 a.m
URL:https://visitpetrolia.ca/event/kids-fishing-derby/
LOCATION:Bridgeview Park\, 4241-4299 Petrolia Line\, Petrolia\, Ontario\, N0N1R0\, Canada
END:VEVENT
END:VCALENDAR