BEGIN:VCALENDAR
VERSION:2.0
PRODID:-//Town of Petrolia - ECPv6.15.14//NONSGML v1.0//EN
CALSCALE:GREGORIAN
METHOD:PUBLISH
X-ORIGINAL-URL:https://visitpetrolia.ca
X-WR-CALDESC:Events for Town of Petrolia
REFRESH-INTERVAL;VALUE=DURATION:PT1H
X-Robots-Tag:noindex
X-PUBLISHED-TTL:PT1H
BEGIN:VTIMEZONE
TZID:America/Toronto
BEGIN:DAYLIGHT
TZOFFSETFROM:-0500
TZOFFSETTO:-0400
TZNAME:EDT
DTSTART:20210314T070000
END:DAYLIGHT
BEGIN:STANDARD
TZOFFSETFROM:-0400
TZOFFSETTO:-0500
TZNAME:EST
DTSTART:20211107T060000
END:STANDARD
BEGIN:DAYLIGHT
TZOFFSETFROM:-0500
TZOFFSETTO:-0400
TZNAME:EDT
DTSTART:20220313T070000
END:DAYLIGHT
BEGIN:STANDARD
TZOFFSETFROM:-0400
TZOFFSETTO:-0500
TZNAME:EST
DTSTART:20221106T060000
END:STANDARD
BEGIN:DAYLIGHT
TZOFFSETFROM:-0500
TZOFFSETTO:-0400
TZNAME:EDT
DTSTART:20230312T070000
END:DAYLIGHT
BEGIN:STANDARD
TZOFFSETFROM:-0400
TZOFFSETTO:-0500
TZNAME:EST
DTSTART:20231105T060000
END:STANDARD
BEGIN:DAYLIGHT
TZOFFSETFROM:-0500
TZOFFSETTO:-0400
TZNAME:EDT
DTSTART:20240310T070000
END:DAYLIGHT
BEGIN:STANDARD
TZOFFSETFROM:-0400
TZOFFSETTO:-0500
TZNAME:EST
DTSTART:20241103T060000
END:STANDARD
BEGIN:DAYLIGHT
TZOFFSETFROM:-0500
TZOFFSETTO:-0400
TZNAME:EDT
DTSTART:20250309T070000
END:DAYLIGHT
BEGIN:STANDARD
TZOFFSETFROM:-0400
TZOFFSETTO:-0500
TZNAME:EST
DTSTART:20251102T060000
END:STANDARD
BEGIN:DAYLIGHT
TZOFFSETFROM:-0500
TZOFFSETTO:-0400
TZNAME:EDT
DTSTART:20260308T070000
END:DAYLIGHT
BEGIN:STANDARD
TZOFFSETFROM:-0400
TZOFFSETTO:-0500
TZNAME:EST
DTSTART:20261101T060000
END:STANDARD
END:VTIMEZONE
BEGIN:VEVENT
DTSTART;TZID=America/Toronto:20250630T130000
DTEND;TZID=America/Toronto:20250630T190000
DTSTAMP:20260423T052500
CREATED:20250526T182727Z
LAST-MODIFIED:20250526T182727Z
UID:10015575-1751288400-1751310000@visitpetrolia.ca
SUMMARY:Petrolia Blood Donation Event
DESCRIPTION:Did you know that only 2% of eligible Canadians donate blood?  Come experience what you get when you give! \nPetrolia Blood Donation Event\nNew Life Assembly Church\nMonday\, June 30\n1pm – 7pm \nBook at blood.ca\, the GiveBlood App or call 1-888-236-6283
URL:https://visitpetrolia.ca/event/petrolia-blood-donation-event-5/
LOCATION:New Life Assmbley Church\, 421 Oozloffsky St.\, Petrolia\, Ontario\, N0N1R0\, Canada
ORGANIZER;CN="Canadian Blood Services":MAILTO:maureen.macfarlane@blood.ca
END:VEVENT
BEGIN:VEVENT
DTSTART;TZID=America/Toronto:20241014T130000
DTEND;TZID=America/Toronto:20241014T190000
DTSTAMP:20260423T052500
CREATED:20240918T190208Z
LAST-MODIFIED:20240918T190208Z
UID:10014428-1728910800-1728932400@visitpetrolia.ca
SUMMARY:Petrolia Blood Donation Event
DESCRIPTION:Every minute of every day someone in Canada requires blood or blood products.  You can make all the difference! \nPetrolia Blood Donation Event\nNew Life Assembly Church\nMonday\, October 14\n1 p.m. to 7 p.m. \nBook at blood.ca\, the GiveBlood App or call 1-888-236-6283
URL:https://visitpetrolia.ca/event/petrolia-blood-donation-event-4/
LOCATION:New Life Assmbley Church\, 421 Oozloffsky St.\, Petrolia\, Ontario\, N0N1R0\, Canada
ORGANIZER;CN="Canadian Blood Services":MAILTO:maureen.macfarlane@blood.ca
END:VEVENT
BEGIN:VEVENT
DTSTART;TZID=America/Toronto:20231218T130000
DTEND;TZID=America/Toronto:20231218T190000
DTSTAMP:20260423T052500
CREATED:20231206T205115Z
LAST-MODIFIED:20231206T205115Z
UID:10014871-1702904400-1702926000@visitpetrolia.ca
SUMMARY:Petrolia Blood Donation Event
DESCRIPTION:Did you know…..every 60 seconds someone in Canada requires blood or blood products?  You can make all the difference to those in need. \nBook your lifesaving appointment at blood.ca\, the GiveBlood App or call 1-888-236-6283.
URL:https://visitpetrolia.ca/event/petrolia-blood-donation-event-3/
LOCATION:New Life Assmbley Church\, 421 Oozloffsky St.\, Petrolia\, Ontario\, N0N1R0\, Canada
ATTACH;FMTTYPE=image/jpeg:https://visitpetrolia.ca/wp-content/uploads/2023/12/Facebook-OpenSpots-1.jpg
ORGANIZER;CN="Canadian Blood Services":MAILTO:maureen.macfarlane@blood.ca
END:VEVENT
BEGIN:VEVENT
DTSTART;TZID=America/Toronto:20231104T090000
DTEND;TZID=America/Toronto:20231104T160000
DTSTAMP:20260423T052500
CREATED:20231003T130358Z
LAST-MODIFIED:20231003T130358Z
UID:10014293-1699088400-1699113600@visitpetrolia.ca
SUMMARY:Craft & Gift Show
DESCRIPTION:Start your Christmas shopping early! \nUNIQUE GIFT IDEAS ‘ SOMETHING FOR EVERYONE’ \nFREE Admission with Door Prizes  \nToonie Table Raffle tickets for sale\nFood & Refreshments Available\nFor more information please contact Optimist Deb Kohoutek d_kohoutek@hotmail.com 519-330-1802
URL:https://visitpetrolia.ca/event/craft-gift-show/
LOCATION:New Life Assmbley Church\, 421 Oozloffsky St.\, Petrolia\, Ontario\, N0N1R0\, Canada
ATTACH;FMTTYPE=image/jpeg:https://visitpetrolia.ca/wp-content/uploads/2023/09/Fall-Craft-Gift-Show.jpg
END:VEVENT
BEGIN:VEVENT
DTSTART;TZID=America/Toronto:20230605T130000
DTEND;TZID=America/Toronto:20230605T190000
DTSTAMP:20260423T052500
CREATED:20230428T193900Z
LAST-MODIFIED:20230428T193900Z
UID:10014601-1685970000-1685991600@visitpetrolia.ca
SUMMARY:Petrolia Blood Donation Event
DESCRIPTION:The need for blood is constant. Every minute of every day someone in Canada requires blood or blood products. You can make all the difference! \nBook now at blood.ca\, the GiveBlood App or call 1-888-236-6283
URL:https://visitpetrolia.ca/event/petrolia-blood-donation-event-2/
LOCATION:New Life Assmbley Church\, 421 Oozloffsky St.\, Petrolia\, Ontario\, N0N1R0\, Canada
ATTACH;FMTTYPE=image/jpeg:https://visitpetrolia.ca/wp-content/uploads/2023/04/Facebook-UpcomingEvent-1.jpg
ORGANIZER;CN="Canadian Blood Services":MAILTO:maureen.macfarlane@blood.ca
END:VEVENT
BEGIN:VEVENT
DTSTART;TZID=America/Toronto:20221219T133000
DTEND;TZID=America/Toronto:20221219T193000
DTSTAMP:20260423T052500
CREATED:20221115T201141Z
LAST-MODIFIED:20221115T201141Z
UID:10014322-1671456600-1671478200@visitpetrolia.ca
SUMMARY:Petrolia Blood Donation Event
DESCRIPTION:The need for blood is constant. You can make all the difference to those in need.\nBook now at blood.ca\, the GiveBlood App or call 1-888-236-6283
URL:https://visitpetrolia.ca/event/petrolia-blood-donation-event/
LOCATION:New Life Assmbley Church\, 421 Oozloffsky St.\, Petrolia\, Ontario\, N0N1R0\, Canada
ATTACH;FMTTYPE=image/jpeg:https://visitpetrolia.ca/wp-content/uploads/2022/11/M1036-The-Need-for-Blood-toolkit-social-tile-EN_Fill-appointments_Facebook.jpg
ORGANIZER;CN="Canadian Blood Services":MAILTO:maureen.macfarlane@blood.ca
END:VEVENT
BEGIN:VEVENT
DTSTART;TZID=America/Toronto:20220417T100000
DTEND;TZID=America/Toronto:20220417T113000
DTSTAMP:20260423T052500
CREATED:20220324T125855Z
LAST-MODIFIED:20220324T125855Z
UID:10014318-1650189600-1650195000@visitpetrolia.ca
SUMMARY:Easter Sunday Service at New Life Assembly Church
DESCRIPTION:
URL:https://visitpetrolia.ca/event/easter-sunday-service-at-new-life-assembly-church/
LOCATION:New Life Assmbley Church\, 421 Oozloffsky St.\, Petrolia\, Ontario\, N0N1R0\, Canada
ORGANIZER;CN="New Life Assembly Church":MAILTO:office@newlifepetrolia.com
END:VEVENT
BEGIN:VEVENT
DTSTART;TZID=America/Toronto:20220415T100000
DTEND;TZID=America/Toronto:20220415T113000
DTSTAMP:20260423T052500
CREATED:20220324T125540Z
LAST-MODIFIED:20220324T125540Z
UID:10014317-1650016800-1650022200@visitpetrolia.ca
SUMMARY:Good Friday Service at New Life Assembly Church
DESCRIPTION:
URL:https://visitpetrolia.ca/event/good-friday-service-at-new-life-assembly-church/
LOCATION:New Life Assmbley Church\, 421 Oozloffsky St.\, Petrolia\, Ontario\, N0N1R0\, Canada
ORGANIZER;CN="New Life Assembly Church":MAILTO:office@newlifepetrolia.com
END:VEVENT
END:VCALENDAR