BEGIN:VCALENDAR
VERSION:2.0
PRODID:-//Town of Petrolia - ECPv6.15.14//NONSGML v1.0//EN
CALSCALE:GREGORIAN
METHOD:PUBLISH
X-ORIGINAL-URL:https://visitpetrolia.ca
X-WR-CALDESC:Events for Town of Petrolia
REFRESH-INTERVAL;VALUE=DURATION:PT1H
X-Robots-Tag:noindex
X-PUBLISHED-TTL:PT1H
BEGIN:VTIMEZONE
TZID:America/Toronto
BEGIN:DAYLIGHT
TZOFFSETFROM:-0500
TZOFFSETTO:-0400
TZNAME:EDT
DTSTART:20210314T070000
END:DAYLIGHT
BEGIN:STANDARD
TZOFFSETFROM:-0400
TZOFFSETTO:-0500
TZNAME:EST
DTSTART:20211107T060000
END:STANDARD
BEGIN:DAYLIGHT
TZOFFSETFROM:-0500
TZOFFSETTO:-0400
TZNAME:EDT
DTSTART:20220313T070000
END:DAYLIGHT
BEGIN:STANDARD
TZOFFSETFROM:-0400
TZOFFSETTO:-0500
TZNAME:EST
DTSTART:20221106T060000
END:STANDARD
BEGIN:DAYLIGHT
TZOFFSETFROM:-0500
TZOFFSETTO:-0400
TZNAME:EDT
DTSTART:20230312T070000
END:DAYLIGHT
BEGIN:STANDARD
TZOFFSETFROM:-0400
TZOFFSETTO:-0500
TZNAME:EST
DTSTART:20231105T060000
END:STANDARD
END:VTIMEZONE
BEGIN:VEVENT
DTSTART;TZID=America/Toronto:20221219T133000
DTEND;TZID=America/Toronto:20221219T193000
DTSTAMP:20260423T064057
CREATED:20221115T201141Z
LAST-MODIFIED:20221115T201141Z
UID:10014322-1671456600-1671478200@visitpetrolia.ca
SUMMARY:Petrolia Blood Donation Event
DESCRIPTION:The need for blood is constant. You can make all the difference to those in need.\nBook now at blood.ca\, the GiveBlood App or call 1-888-236-6283
URL:https://visitpetrolia.ca/event/petrolia-blood-donation-event/
LOCATION:New Life Assmbley Church\, 421 Oozloffsky St.\, Petrolia\, Ontario\, N0N1R0\, Canada
ATTACH;FMTTYPE=image/jpeg:https://visitpetrolia.ca/wp-content/uploads/2022/11/M1036-The-Need-for-Blood-toolkit-social-tile-EN_Fill-appointments_Facebook.jpg
ORGANIZER;CN="Canadian Blood Services":MAILTO:maureen.macfarlane@blood.ca
END:VEVENT
BEGIN:VEVENT
DTSTART;TZID=America/Toronto:20220417T100000
DTEND;TZID=America/Toronto:20220417T113000
DTSTAMP:20260423T064057
CREATED:20220324T125855Z
LAST-MODIFIED:20220324T125855Z
UID:10014318-1650189600-1650195000@visitpetrolia.ca
SUMMARY:Easter Sunday Service at New Life Assembly Church
DESCRIPTION:
URL:https://visitpetrolia.ca/event/easter-sunday-service-at-new-life-assembly-church/
LOCATION:New Life Assmbley Church\, 421 Oozloffsky St.\, Petrolia\, Ontario\, N0N1R0\, Canada
ORGANIZER;CN="New Life Assembly Church":MAILTO:office@newlifepetrolia.com
END:VEVENT
BEGIN:VEVENT
DTSTART;TZID=America/Toronto:20220415T100000
DTEND;TZID=America/Toronto:20220415T113000
DTSTAMP:20260423T064057
CREATED:20220324T125540Z
LAST-MODIFIED:20220324T125540Z
UID:10014317-1650016800-1650022200@visitpetrolia.ca
SUMMARY:Good Friday Service at New Life Assembly Church
DESCRIPTION:
URL:https://visitpetrolia.ca/event/good-friday-service-at-new-life-assembly-church/
LOCATION:New Life Assmbley Church\, 421 Oozloffsky St.\, Petrolia\, Ontario\, N0N1R0\, Canada
ORGANIZER;CN="New Life Assembly Church":MAILTO:office@newlifepetrolia.com
END:VEVENT
END:VCALENDAR