BEGIN:VCALENDAR
VERSION:2.0
PRODID:-//Town of Petrolia - ECPv6.15.14//NONSGML v1.0//EN
CALSCALE:GREGORIAN
METHOD:PUBLISH
X-WR-CALNAME:Town of Petrolia
X-ORIGINAL-URL:https://visitpetrolia.ca
X-WR-CALDESC:Events for Town of Petrolia
REFRESH-INTERVAL;VALUE=DURATION:PT1H
X-Robots-Tag:noindex
X-PUBLISHED-TTL:PT1H
BEGIN:VTIMEZONE
TZID:America/Toronto
BEGIN:DAYLIGHT
TZOFFSETFROM:-0500
TZOFFSETTO:-0400
TZNAME:EDT
DTSTART:20240310T070000
END:DAYLIGHT
BEGIN:STANDARD
TZOFFSETFROM:-0400
TZOFFSETTO:-0500
TZNAME:EST
DTSTART:20241103T060000
END:STANDARD
BEGIN:DAYLIGHT
TZOFFSETFROM:-0500
TZOFFSETTO:-0400
TZNAME:EDT
DTSTART:20250309T070000
END:DAYLIGHT
BEGIN:STANDARD
TZOFFSETFROM:-0400
TZOFFSETTO:-0500
TZNAME:EST
DTSTART:20251102T060000
END:STANDARD
BEGIN:DAYLIGHT
TZOFFSETFROM:-0500
TZOFFSETTO:-0400
TZNAME:EDT
DTSTART:20260308T070000
END:DAYLIGHT
BEGIN:STANDARD
TZOFFSETFROM:-0400
TZOFFSETTO:-0500
TZNAME:EST
DTSTART:20261101T060000
END:STANDARD
END:VTIMEZONE
BEGIN:VEVENT
DTSTART;TZID=America/Toronto:20251028T100000
DTEND;TZID=America/Toronto:20251028T113000
DTSTAMP:20260425T231813
CREATED:20250903T145724Z
LAST-MODIFIED:20250903T145724Z
UID:10015595-1761645600-1761651000@visitpetrolia.ca
SUMMARY:EarlyON-Infant Massage
DESCRIPTION:Families with infants 1 to 8 months are  welcome to join this 4-week program. Parents will learn techniques to soothe and connect with their baby. Infant massage can help aid with sleep\, colic and indigestion for your child.  \nRegistration is required by calling 519-882-2100 or emailing EarlyON@nlchildcare.ca \nPetrolia EarlyON Centre – 4141 Dufferin Ave.
URL:https://visitpetrolia.ca/event/earlyon-infant-massage/2025-10-28/
LOCATION:Petrolia EarlyON Centre\, 4141 Dufferin Avenue\, Petrolia\, Ontario\, N0N 1R0\, Canada
ATTACH;FMTTYPE=image/jpeg:https://visitpetrolia.ca/wp-content/uploads/2025/09/Infant-Massage-October-2025.jpg
ORGANIZER;CN="Petrolia EarlyON Centre":MAILTO:EarlyON@nlchildcare.ca
END:VEVENT
BEGIN:VEVENT
DTSTART;TZID=America/Toronto:20251021T100000
DTEND;TZID=America/Toronto:20251021T113000
DTSTAMP:20260425T231813
CREATED:20250903T145724Z
LAST-MODIFIED:20250903T145724Z
UID:10015594-1761040800-1761046200@visitpetrolia.ca
SUMMARY:EarlyON-Infant Massage
DESCRIPTION:Families with infants 1 to 8 months are  welcome to join this 4-week program. Parents will learn techniques to soothe and connect with their baby. Infant massage can help aid with sleep\, colic and indigestion for your child.  \nRegistration is required by calling 519-882-2100 or emailing EarlyON@nlchildcare.ca \nPetrolia EarlyON Centre – 4141 Dufferin Ave.
URL:https://visitpetrolia.ca/event/earlyon-infant-massage/2025-10-21/
LOCATION:Petrolia EarlyON Centre\, 4141 Dufferin Avenue\, Petrolia\, Ontario\, N0N 1R0\, Canada
ATTACH;FMTTYPE=image/jpeg:https://visitpetrolia.ca/wp-content/uploads/2025/09/Infant-Massage-October-2025.jpg
ORGANIZER;CN="Petrolia EarlyON Centre":MAILTO:EarlyON@nlchildcare.ca
END:VEVENT
BEGIN:VEVENT
DTSTART;TZID=America/Toronto:20251014T100000
DTEND;TZID=America/Toronto:20251014T113000
DTSTAMP:20260425T231813
CREATED:20250903T145724Z
LAST-MODIFIED:20250903T145724Z
UID:10015593-1760436000-1760441400@visitpetrolia.ca
SUMMARY:EarlyON-Infant Massage
DESCRIPTION:Families with infants 1 to 8 months are  welcome to join this 4-week program. Parents will learn techniques to soothe and connect with their baby. Infant massage can help aid with sleep\, colic and indigestion for your child.  \nRegistration is required by calling 519-882-2100 or emailing EarlyON@nlchildcare.ca \nPetrolia EarlyON Centre – 4141 Dufferin Ave.
URL:https://visitpetrolia.ca/event/earlyon-infant-massage/2025-10-14/
LOCATION:Petrolia EarlyON Centre\, 4141 Dufferin Avenue\, Petrolia\, Ontario\, N0N 1R0\, Canada
ATTACH;FMTTYPE=image/jpeg:https://visitpetrolia.ca/wp-content/uploads/2025/09/Infant-Massage-October-2025.jpg
ORGANIZER;CN="Petrolia EarlyON Centre":MAILTO:EarlyON@nlchildcare.ca
END:VEVENT
BEGIN:VEVENT
DTSTART;TZID=America/Toronto:20251007T100000
DTEND;TZID=America/Toronto:20251007T113000
DTSTAMP:20260425T231813
CREATED:20250903T145724Z
LAST-MODIFIED:20250903T145724Z
UID:10015592-1759831200-1759836600@visitpetrolia.ca
SUMMARY:EarlyON-Infant Massage
DESCRIPTION:Families with infants 1 to 8 months are  welcome to join this 4-week program. Parents will learn techniques to soothe and connect with their baby. Infant massage can help aid with sleep\, colic and indigestion for your child.  \nRegistration is required by calling 519-882-2100 or emailing EarlyON@nlchildcare.ca \nPetrolia EarlyON Centre – 4141 Dufferin Ave.
URL:https://visitpetrolia.ca/event/earlyon-infant-massage/2025-10-07/
LOCATION:Petrolia EarlyON Centre\, 4141 Dufferin Avenue\, Petrolia\, Ontario\, N0N 1R0\, Canada
ATTACH;FMTTYPE=image/jpeg:https://visitpetrolia.ca/wp-content/uploads/2025/09/Infant-Massage-October-2025.jpg
ORGANIZER;CN="Petrolia EarlyON Centre":MAILTO:EarlyON@nlchildcare.ca
END:VEVENT
END:VCALENDAR