BEGIN:VCALENDAR
VERSION:2.0
PRODID:-//Town of Petrolia - ECPv6.15.14//NONSGML v1.0//EN
CALSCALE:GREGORIAN
METHOD:PUBLISH
X-WR-CALNAME:Town of Petrolia
X-ORIGINAL-URL:https://visitpetrolia.ca
X-WR-CALDESC:Events for Town of Petrolia
REFRESH-INTERVAL;VALUE=DURATION:PT1H
X-Robots-Tag:noindex
X-PUBLISHED-TTL:PT1H
BEGIN:VTIMEZONE
TZID:America/Toronto
BEGIN:DAYLIGHT
TZOFFSETFROM:-0500
TZOFFSETTO:-0400
TZNAME:EDT
DTSTART:20240310T070000
END:DAYLIGHT
BEGIN:STANDARD
TZOFFSETFROM:-0400
TZOFFSETTO:-0500
TZNAME:EST
DTSTART:20241103T060000
END:STANDARD
BEGIN:DAYLIGHT
TZOFFSETFROM:-0500
TZOFFSETTO:-0400
TZNAME:EDT
DTSTART:20250309T070000
END:DAYLIGHT
BEGIN:STANDARD
TZOFFSETFROM:-0400
TZOFFSETTO:-0500
TZNAME:EST
DTSTART:20251102T060000
END:STANDARD
BEGIN:DAYLIGHT
TZOFFSETFROM:-0500
TZOFFSETTO:-0400
TZNAME:EDT
DTSTART:20260308T070000
END:DAYLIGHT
BEGIN:STANDARD
TZOFFSETFROM:-0400
TZOFFSETTO:-0500
TZNAME:EST
DTSTART:20261101T060000
END:STANDARD
END:VTIMEZONE
BEGIN:VEVENT
DTSTART;TZID=America/Toronto:20250813T070000
DTEND;TZID=America/Toronto:20250813T220000
DTSTAMP:20260420T013201
CREATED:20250129T205544Z
LAST-MODIFIED:20250129T205544Z
UID:10015298-1755068400-1755122400@visitpetrolia.ca
SUMMARY:Weekly Euchre
DESCRIPTION:Join fellow euchre fans weekly in the 216 lounge and enjoy the luck of the deal.\nPrizes and 50/50 draw.\nCash Bar.
URL:https://visitpetrolia.ca/event/weekly-euchre/2025-08-13/
LOCATION:Royal Canadian Legion Br. 216\, 4129 Glenview Rd.\, Petrolia\, Ontario\, N0N1R0\, Canada
ATTACH;FMTTYPE=image/jpeg:https://visitpetrolia.ca/wp-content/uploads/2025/01/Weekly-Euchre.jpg
END:VEVENT
BEGIN:VEVENT
DTSTART;TZID=America/Toronto:20250811T190000
DTEND;TZID=America/Toronto:20250811T200000
DTSTAMP:20260420T013201
CREATED:20250205T185531Z
LAST-MODIFIED:20250205T185531Z
UID:10015520-1754938800-1754942400@visitpetrolia.ca
SUMMARY:Zumba with Lisa and Madison
DESCRIPTION:Zumba Gold classes are available at the Petrolia Legion every Monday at 7 pm. All dance levels and all ages are welcome! First class is free!\nClasses are $10 each or 6 classes for $50.
URL:https://visitpetrolia.ca/event/zumba-with-lisa-and-madison/2025-08-11/
LOCATION:Royal Canadian Legion Br. 216\, 4129 Glenview Rd.\, Petrolia\, Ontario\, N0N1R0\, Canada
ATTACH;FMTTYPE=image/jpeg:https://visitpetrolia.ca/wp-content/uploads/2025/02/IMG_2171.jpeg
ORGANIZER;CN="Lisa Alderton":MAILTO:fun2bwu2day@hotmail.com
END:VEVENT
BEGIN:VEVENT
DTSTART;TZID=America/Toronto:20250809T120000
DTEND;TZID=America/Toronto:20250809T170000
DTSTAMP:20260420T013201
CREATED:20250129T205700Z
LAST-MODIFIED:20250129T205700Z
UID:10015358-1754740800-1754758800@visitpetrolia.ca
SUMMARY:Meat Raffle
DESCRIPTION:Our weekly Meat Raffle hosted in the 216 Lounge at the Petrolia Legion.\nDoors open at noon for lunch and meat raffles and 50/50 draws start at 2:00pm.\nMeat supplied locally by our own Weilands Meat!\nCome out and join the fun.
URL:https://visitpetrolia.ca/event/meat-raffle/2025-08-09/
LOCATION:Royal Canadian Legion Br. 216\, 4129 Glenview Rd.\, Petrolia\, Ontario\, N0N1R0\, Canada
ATTACH;FMTTYPE=image/jpeg:https://visitpetrolia.ca/wp-content/uploads/2025/01/Meat-Raffle.jpg
END:VEVENT
BEGIN:VEVENT
DTSTART;TZID=America/Toronto:20250808T200000
DTEND;TZID=America/Toronto:20250809T200000
DTSTAMP:20260420T013201
CREATED:20230803T161846Z
LAST-MODIFIED:20230803T161846Z
UID:10014775-1754683200-1754769600@visitpetrolia.ca
SUMMARY:Karaoke Night at the 216 Lounge Petrolia!
DESCRIPTION:KARAOKE at the 216 in Petrolia! Join us EVERY Friday from 8 PM to Midnight OR until the singing ends for a fun night out and sing….sing….sing!\nMORE TO COME! Keep watching for lots of other up n coming events at the NEW 216 LOUNGE as we soon bring in ALL NEW ENTERTAINMENT\, ALL NEW LIVE MUSIC\, and an all NEW BAR FOOD MENU. Things are happening at the 216 in PETROLIA!\nFood choices vary per week.\nLOTS OF EASY FREE PARKING\n4129 Glenview Rd in PETROLIA\nRoyal Canadian Legion Branch 216\nwww.petrolialegion216.ca
URL:https://visitpetrolia.ca/event/karaoke-night-at-the-216-lounge-petrolia/2025-08-08/
LOCATION:Royal Canadian Legion Br. 216\, 4129 Glenview Rd.\, Petrolia\, Ontario\, N0N1R0\, Canada
ATTACH;FMTTYPE=image/png:https://visitpetrolia.ca/wp-content/uploads/2023/08/360087634_298409882627258_1353929225415268980_n.png
END:VEVENT
BEGIN:VEVENT
DTSTART;TZID=America/Toronto:20250808T190000
DTEND;TZID=America/Toronto:20250808T233000
DTSTAMP:20260420T013201
CREATED:20250129T205626Z
LAST-MODIFIED:20250130T170906Z
UID:10015327-1754679600-1754695800@visitpetrolia.ca
SUMMARY:Adult Karaoke
DESCRIPTION:Come and join us in the 216 Lounge for adult karaoke!\nProfessional sound system complete with stage lights and cash bar.\nMake the 216 Lounge your place to be on Friday nights.
URL:https://visitpetrolia.ca/event/adult-karaoke/2025-08-08/
LOCATION:Royal Canadian Legion Br. 216\, 4129 Glenview Rd.\, Petrolia\, Ontario\, N0N1R0\, Canada
ATTACH;FMTTYPE=image/jpeg:https://visitpetrolia.ca/wp-content/uploads/2025/01/Karaoke.jpg
END:VEVENT
BEGIN:VEVENT
DTSTART;TZID=America/Toronto:20250807T130000
DTEND;TZID=America/Toronto:20250807T160000
DTSTAMP:20260420T013201
CREATED:20250129T205430Z
LAST-MODIFIED:20250129T205430Z
UID:10015237-1754571600-1754582400@visitpetrolia.ca
SUMMARY:Weekly Pepper
DESCRIPTION:Come and join the crew and play a few hands of Pepper in the 216 Lounge.
URL:https://visitpetrolia.ca/event/weekly-pepper/2025-08-07/
LOCATION:Royal Canadian Legion Br. 216\, 4129 Glenview Rd.\, Petrolia\, Ontario\, N0N1R0\, Canada
ATTACH;FMTTYPE=image/jpeg:https://visitpetrolia.ca/wp-content/uploads/2025/01/Weekly-Pepper.jpg
END:VEVENT
BEGIN:VEVENT
DTSTART;TZID=America/Toronto:20250807T070000
DTEND;TZID=America/Toronto:20250807T220000
DTSTAMP:20260420T013201
CREATED:20250129T205457Z
LAST-MODIFIED:20250129T205457Z
UID:10015267-1754550000-1754604000@visitpetrolia.ca
SUMMARY:Weekly Darts
DESCRIPTION:Come out and join us in the 216 Lounge and show off your dart tossing skills.\nPrizes and cash bar.
URL:https://visitpetrolia.ca/event/weekly-darts/2025-08-07/
LOCATION:Royal Canadian Legion Br. 216\, 4129 Glenview Rd.\, Petrolia\, Ontario\, N0N1R0\, Canada
ATTACH;FMTTYPE=image/jpeg:https://visitpetrolia.ca/wp-content/uploads/2025/01/Weekly-Darts.jpg
END:VEVENT
BEGIN:VEVENT
DTSTART;TZID=America/Toronto:20250806T070000
DTEND;TZID=America/Toronto:20250806T220000
DTSTAMP:20260420T013201
CREATED:20250129T205544Z
LAST-MODIFIED:20250129T205544Z
UID:10015297-1754463600-1754517600@visitpetrolia.ca
SUMMARY:Weekly Euchre
DESCRIPTION:Join fellow euchre fans weekly in the 216 lounge and enjoy the luck of the deal.\nPrizes and 50/50 draw.\nCash Bar.
URL:https://visitpetrolia.ca/event/weekly-euchre/2025-08-06/
LOCATION:Royal Canadian Legion Br. 216\, 4129 Glenview Rd.\, Petrolia\, Ontario\, N0N1R0\, Canada
ATTACH;FMTTYPE=image/jpeg:https://visitpetrolia.ca/wp-content/uploads/2025/01/Weekly-Euchre.jpg
END:VEVENT
BEGIN:VEVENT
DTSTART;TZID=America/Toronto:20250804T190000
DTEND;TZID=America/Toronto:20250804T200000
DTSTAMP:20260420T013201
CREATED:20250205T185531Z
LAST-MODIFIED:20250205T185531Z
UID:10015519-1754334000-1754337600@visitpetrolia.ca
SUMMARY:Zumba with Lisa and Madison
DESCRIPTION:Zumba Gold classes are available at the Petrolia Legion every Monday at 7 pm. All dance levels and all ages are welcome! First class is free!\nClasses are $10 each or 6 classes for $50.
URL:https://visitpetrolia.ca/event/zumba-with-lisa-and-madison/2025-08-04/
LOCATION:Royal Canadian Legion Br. 216\, 4129 Glenview Rd.\, Petrolia\, Ontario\, N0N1R0\, Canada
ATTACH;FMTTYPE=image/jpeg:https://visitpetrolia.ca/wp-content/uploads/2025/02/IMG_2171.jpeg
ORGANIZER;CN="Lisa Alderton":MAILTO:fun2bwu2day@hotmail.com
END:VEVENT
BEGIN:VEVENT
DTSTART;TZID=America/Toronto:20250802T120000
DTEND;TZID=America/Toronto:20250802T170000
DTSTAMP:20260420T013201
CREATED:20250129T205700Z
LAST-MODIFIED:20250129T205700Z
UID:10015357-1754136000-1754154000@visitpetrolia.ca
SUMMARY:Meat Raffle
DESCRIPTION:Our weekly Meat Raffle hosted in the 216 Lounge at the Petrolia Legion.\nDoors open at noon for lunch and meat raffles and 50/50 draws start at 2:00pm.\nMeat supplied locally by our own Weilands Meat!\nCome out and join the fun.
URL:https://visitpetrolia.ca/event/meat-raffle/2025-08-02/
LOCATION:Royal Canadian Legion Br. 216\, 4129 Glenview Rd.\, Petrolia\, Ontario\, N0N1R0\, Canada
ATTACH;FMTTYPE=image/jpeg:https://visitpetrolia.ca/wp-content/uploads/2025/01/Meat-Raffle.jpg
END:VEVENT
BEGIN:VEVENT
DTSTART;TZID=America/Toronto:20250801T200000
DTEND;TZID=America/Toronto:20250802T200000
DTSTAMP:20260420T013201
CREATED:20230803T161846Z
LAST-MODIFIED:20230803T161846Z
UID:10014774-1754078400-1754164800@visitpetrolia.ca
SUMMARY:Karaoke Night at the 216 Lounge Petrolia!
DESCRIPTION:KARAOKE at the 216 in Petrolia! Join us EVERY Friday from 8 PM to Midnight OR until the singing ends for a fun night out and sing….sing….sing!\nMORE TO COME! Keep watching for lots of other up n coming events at the NEW 216 LOUNGE as we soon bring in ALL NEW ENTERTAINMENT\, ALL NEW LIVE MUSIC\, and an all NEW BAR FOOD MENU. Things are happening at the 216 in PETROLIA!\nFood choices vary per week.\nLOTS OF EASY FREE PARKING\n4129 Glenview Rd in PETROLIA\nRoyal Canadian Legion Branch 216\nwww.petrolialegion216.ca
URL:https://visitpetrolia.ca/event/karaoke-night-at-the-216-lounge-petrolia/2025-08-01/
LOCATION:Royal Canadian Legion Br. 216\, 4129 Glenview Rd.\, Petrolia\, Ontario\, N0N1R0\, Canada
ATTACH;FMTTYPE=image/png:https://visitpetrolia.ca/wp-content/uploads/2023/08/360087634_298409882627258_1353929225415268980_n.png
END:VEVENT
BEGIN:VEVENT
DTSTART;TZID=America/Toronto:20250801T190000
DTEND;TZID=America/Toronto:20250801T233000
DTSTAMP:20260420T013201
CREATED:20250129T205626Z
LAST-MODIFIED:20250130T170906Z
UID:10015326-1754074800-1754091000@visitpetrolia.ca
SUMMARY:Adult Karaoke
DESCRIPTION:Come and join us in the 216 Lounge for adult karaoke!\nProfessional sound system complete with stage lights and cash bar.\nMake the 216 Lounge your place to be on Friday nights.
URL:https://visitpetrolia.ca/event/adult-karaoke/2025-08-01/
LOCATION:Royal Canadian Legion Br. 216\, 4129 Glenview Rd.\, Petrolia\, Ontario\, N0N1R0\, Canada
ATTACH;FMTTYPE=image/jpeg:https://visitpetrolia.ca/wp-content/uploads/2025/01/Karaoke.jpg
END:VEVENT
BEGIN:VEVENT
DTSTART;TZID=America/Toronto:20250731T130000
DTEND;TZID=America/Toronto:20250731T160000
DTSTAMP:20260420T013201
CREATED:20250129T205430Z
LAST-MODIFIED:20250129T205430Z
UID:10015236-1753966800-1753977600@visitpetrolia.ca
SUMMARY:Weekly Pepper
DESCRIPTION:Come and join the crew and play a few hands of Pepper in the 216 Lounge.
URL:https://visitpetrolia.ca/event/weekly-pepper/2025-07-31/
LOCATION:Royal Canadian Legion Br. 216\, 4129 Glenview Rd.\, Petrolia\, Ontario\, N0N1R0\, Canada
ATTACH;FMTTYPE=image/jpeg:https://visitpetrolia.ca/wp-content/uploads/2025/01/Weekly-Pepper.jpg
END:VEVENT
BEGIN:VEVENT
DTSTART;TZID=America/Toronto:20250731T070000
DTEND;TZID=America/Toronto:20250731T220000
DTSTAMP:20260420T013201
CREATED:20250129T205457Z
LAST-MODIFIED:20250129T205457Z
UID:10015266-1753945200-1753999200@visitpetrolia.ca
SUMMARY:Weekly Darts
DESCRIPTION:Come out and join us in the 216 Lounge and show off your dart tossing skills.\nPrizes and cash bar.
URL:https://visitpetrolia.ca/event/weekly-darts/2025-07-31/
LOCATION:Royal Canadian Legion Br. 216\, 4129 Glenview Rd.\, Petrolia\, Ontario\, N0N1R0\, Canada
ATTACH;FMTTYPE=image/jpeg:https://visitpetrolia.ca/wp-content/uploads/2025/01/Weekly-Darts.jpg
END:VEVENT
BEGIN:VEVENT
DTSTART;TZID=America/Toronto:20250730T070000
DTEND;TZID=America/Toronto:20250730T220000
DTSTAMP:20260420T013201
CREATED:20250129T205544Z
LAST-MODIFIED:20250129T205544Z
UID:10015296-1753858800-1753912800@visitpetrolia.ca
SUMMARY:Weekly Euchre
DESCRIPTION:Join fellow euchre fans weekly in the 216 lounge and enjoy the luck of the deal.\nPrizes and 50/50 draw.\nCash Bar.
URL:https://visitpetrolia.ca/event/weekly-euchre/2025-07-30/
LOCATION:Royal Canadian Legion Br. 216\, 4129 Glenview Rd.\, Petrolia\, Ontario\, N0N1R0\, Canada
ATTACH;FMTTYPE=image/jpeg:https://visitpetrolia.ca/wp-content/uploads/2025/01/Weekly-Euchre.jpg
END:VEVENT
BEGIN:VEVENT
DTSTART;TZID=America/Toronto:20250728T190000
DTEND;TZID=America/Toronto:20250728T200000
DTSTAMP:20260420T013201
CREATED:20250206T131614Z
LAST-MODIFIED:20250206T131614Z
UID:10015572-1753729200-1753732800@visitpetrolia.ca
SUMMARY:Zumba with Lisa and Madison
DESCRIPTION:Zumba Gold classes are available at the Petrolia Legion every Monday at 7 pm. All dance levels and all ages are welcome! First class is free! Classes are $10 each or 6 classes for $50.
URL:https://visitpetrolia.ca/event/zumba-with-lisa-and-madison-2/2025-07-28/
LOCATION:Royal Canadian Legion Br. 216\, 4129 Glenview Rd.\, Petrolia\, Ontario\, N0N1R0\, Canada
ATTACH;FMTTYPE=image/jpeg:https://visitpetrolia.ca/wp-content/uploads/2025/02/IMG_2171-1.jpeg
ORGANIZER;CN="Lisa Alderton":MAILTO:fun2bwu2day@hotmail.com
END:VEVENT
BEGIN:VEVENT
DTSTART;TZID=America/Toronto:20250728T190000
DTEND;TZID=America/Toronto:20250728T200000
DTSTAMP:20260420T013201
CREATED:20250205T185531Z
LAST-MODIFIED:20250205T185531Z
UID:10015518-1753729200-1753732800@visitpetrolia.ca
SUMMARY:Zumba with Lisa and Madison
DESCRIPTION:Zumba Gold classes are available at the Petrolia Legion every Monday at 7 pm. All dance levels and all ages are welcome! First class is free!\nClasses are $10 each or 6 classes for $50.
URL:https://visitpetrolia.ca/event/zumba-with-lisa-and-madison/2025-07-28/
LOCATION:Royal Canadian Legion Br. 216\, 4129 Glenview Rd.\, Petrolia\, Ontario\, N0N1R0\, Canada
ATTACH;FMTTYPE=image/jpeg:https://visitpetrolia.ca/wp-content/uploads/2025/02/IMG_2171.jpeg
ORGANIZER;CN="Lisa Alderton":MAILTO:fun2bwu2day@hotmail.com
END:VEVENT
BEGIN:VEVENT
DTSTART;TZID=America/Toronto:20250726T120000
DTEND;TZID=America/Toronto:20250726T170000
DTSTAMP:20260420T013201
CREATED:20250129T205700Z
LAST-MODIFIED:20250129T205700Z
UID:10015356-1753531200-1753549200@visitpetrolia.ca
SUMMARY:Meat Raffle
DESCRIPTION:Our weekly Meat Raffle hosted in the 216 Lounge at the Petrolia Legion.\nDoors open at noon for lunch and meat raffles and 50/50 draws start at 2:00pm.\nMeat supplied locally by our own Weilands Meat!\nCome out and join the fun.
URL:https://visitpetrolia.ca/event/meat-raffle/2025-07-26/
LOCATION:Royal Canadian Legion Br. 216\, 4129 Glenview Rd.\, Petrolia\, Ontario\, N0N1R0\, Canada
ATTACH;FMTTYPE=image/jpeg:https://visitpetrolia.ca/wp-content/uploads/2025/01/Meat-Raffle.jpg
END:VEVENT
BEGIN:VEVENT
DTSTART;TZID=America/Toronto:20250725T200000
DTEND;TZID=America/Toronto:20250726T200000
DTSTAMP:20260420T013201
CREATED:20230803T161846Z
LAST-MODIFIED:20230803T161846Z
UID:10014773-1753473600-1753560000@visitpetrolia.ca
SUMMARY:Karaoke Night at the 216 Lounge Petrolia!
DESCRIPTION:KARAOKE at the 216 in Petrolia! Join us EVERY Friday from 8 PM to Midnight OR until the singing ends for a fun night out and sing….sing….sing!\nMORE TO COME! Keep watching for lots of other up n coming events at the NEW 216 LOUNGE as we soon bring in ALL NEW ENTERTAINMENT\, ALL NEW LIVE MUSIC\, and an all NEW BAR FOOD MENU. Things are happening at the 216 in PETROLIA!\nFood choices vary per week.\nLOTS OF EASY FREE PARKING\n4129 Glenview Rd in PETROLIA\nRoyal Canadian Legion Branch 216\nwww.petrolialegion216.ca
URL:https://visitpetrolia.ca/event/karaoke-night-at-the-216-lounge-petrolia/2025-07-25/
LOCATION:Royal Canadian Legion Br. 216\, 4129 Glenview Rd.\, Petrolia\, Ontario\, N0N1R0\, Canada
ATTACH;FMTTYPE=image/png:https://visitpetrolia.ca/wp-content/uploads/2023/08/360087634_298409882627258_1353929225415268980_n.png
END:VEVENT
BEGIN:VEVENT
DTSTART;TZID=America/Toronto:20250725T190000
DTEND;TZID=America/Toronto:20250725T233000
DTSTAMP:20260420T013201
CREATED:20250129T205626Z
LAST-MODIFIED:20250130T170906Z
UID:10015325-1753470000-1753486200@visitpetrolia.ca
SUMMARY:Adult Karaoke
DESCRIPTION:Come and join us in the 216 Lounge for adult karaoke!\nProfessional sound system complete with stage lights and cash bar.\nMake the 216 Lounge your place to be on Friday nights.
URL:https://visitpetrolia.ca/event/adult-karaoke/2025-07-25/
LOCATION:Royal Canadian Legion Br. 216\, 4129 Glenview Rd.\, Petrolia\, Ontario\, N0N1R0\, Canada
ATTACH;FMTTYPE=image/jpeg:https://visitpetrolia.ca/wp-content/uploads/2025/01/Karaoke.jpg
END:VEVENT
BEGIN:VEVENT
DTSTART;TZID=America/Toronto:20250724T130000
DTEND;TZID=America/Toronto:20250724T160000
DTSTAMP:20260420T013201
CREATED:20250129T205430Z
LAST-MODIFIED:20250129T205430Z
UID:10015235-1753362000-1753372800@visitpetrolia.ca
SUMMARY:Weekly Pepper
DESCRIPTION:Come and join the crew and play a few hands of Pepper in the 216 Lounge.
URL:https://visitpetrolia.ca/event/weekly-pepper/2025-07-24/
LOCATION:Royal Canadian Legion Br. 216\, 4129 Glenview Rd.\, Petrolia\, Ontario\, N0N1R0\, Canada
ATTACH;FMTTYPE=image/jpeg:https://visitpetrolia.ca/wp-content/uploads/2025/01/Weekly-Pepper.jpg
END:VEVENT
BEGIN:VEVENT
DTSTART;TZID=America/Toronto:20250724T070000
DTEND;TZID=America/Toronto:20250724T220000
DTSTAMP:20260420T013201
CREATED:20250129T205457Z
LAST-MODIFIED:20250129T205457Z
UID:10015265-1753340400-1753394400@visitpetrolia.ca
SUMMARY:Weekly Darts
DESCRIPTION:Come out and join us in the 216 Lounge and show off your dart tossing skills.\nPrizes and cash bar.
URL:https://visitpetrolia.ca/event/weekly-darts/2025-07-24/
LOCATION:Royal Canadian Legion Br. 216\, 4129 Glenview Rd.\, Petrolia\, Ontario\, N0N1R0\, Canada
ATTACH;FMTTYPE=image/jpeg:https://visitpetrolia.ca/wp-content/uploads/2025/01/Weekly-Darts.jpg
END:VEVENT
BEGIN:VEVENT
DTSTART;TZID=America/Toronto:20250723T070000
DTEND;TZID=America/Toronto:20250723T220000
DTSTAMP:20260420T013201
CREATED:20250129T205544Z
LAST-MODIFIED:20250129T205544Z
UID:10015295-1753254000-1753308000@visitpetrolia.ca
SUMMARY:Weekly Euchre
DESCRIPTION:Join fellow euchre fans weekly in the 216 lounge and enjoy the luck of the deal.\nPrizes and 50/50 draw.\nCash Bar.
URL:https://visitpetrolia.ca/event/weekly-euchre/2025-07-23/
LOCATION:Royal Canadian Legion Br. 216\, 4129 Glenview Rd.\, Petrolia\, Ontario\, N0N1R0\, Canada
ATTACH;FMTTYPE=image/jpeg:https://visitpetrolia.ca/wp-content/uploads/2025/01/Weekly-Euchre.jpg
END:VEVENT
BEGIN:VEVENT
DTSTART;TZID=America/Toronto:20250721T190000
DTEND;TZID=America/Toronto:20250721T200000
DTSTAMP:20260420T013201
CREATED:20250206T131614Z
LAST-MODIFIED:20250206T131614Z
UID:10015571-1753124400-1753128000@visitpetrolia.ca
SUMMARY:Zumba with Lisa and Madison
DESCRIPTION:Zumba Gold classes are available at the Petrolia Legion every Monday at 7 pm. All dance levels and all ages are welcome! First class is free! Classes are $10 each or 6 classes for $50.
URL:https://visitpetrolia.ca/event/zumba-with-lisa-and-madison-2/2025-07-21/
LOCATION:Royal Canadian Legion Br. 216\, 4129 Glenview Rd.\, Petrolia\, Ontario\, N0N1R0\, Canada
ATTACH;FMTTYPE=image/jpeg:https://visitpetrolia.ca/wp-content/uploads/2025/02/IMG_2171-1.jpeg
ORGANIZER;CN="Lisa Alderton":MAILTO:fun2bwu2day@hotmail.com
END:VEVENT
BEGIN:VEVENT
DTSTART;TZID=America/Toronto:20250721T190000
DTEND;TZID=America/Toronto:20250721T200000
DTSTAMP:20260420T013201
CREATED:20250205T185531Z
LAST-MODIFIED:20250205T185531Z
UID:10015517-1753124400-1753128000@visitpetrolia.ca
SUMMARY:Zumba with Lisa and Madison
DESCRIPTION:Zumba Gold classes are available at the Petrolia Legion every Monday at 7 pm. All dance levels and all ages are welcome! First class is free!\nClasses are $10 each or 6 classes for $50.
URL:https://visitpetrolia.ca/event/zumba-with-lisa-and-madison/2025-07-21/
LOCATION:Royal Canadian Legion Br. 216\, 4129 Glenview Rd.\, Petrolia\, Ontario\, N0N1R0\, Canada
ATTACH;FMTTYPE=image/jpeg:https://visitpetrolia.ca/wp-content/uploads/2025/02/IMG_2171.jpeg
ORGANIZER;CN="Lisa Alderton":MAILTO:fun2bwu2day@hotmail.com
END:VEVENT
BEGIN:VEVENT
DTSTART;TZID=America/Toronto:20250719T120000
DTEND;TZID=America/Toronto:20250719T170000
DTSTAMP:20260420T013201
CREATED:20250129T205700Z
LAST-MODIFIED:20250129T205700Z
UID:10015355-1752926400-1752944400@visitpetrolia.ca
SUMMARY:Meat Raffle
DESCRIPTION:Our weekly Meat Raffle hosted in the 216 Lounge at the Petrolia Legion.\nDoors open at noon for lunch and meat raffles and 50/50 draws start at 2:00pm.\nMeat supplied locally by our own Weilands Meat!\nCome out and join the fun.
URL:https://visitpetrolia.ca/event/meat-raffle/2025-07-19/
LOCATION:Royal Canadian Legion Br. 216\, 4129 Glenview Rd.\, Petrolia\, Ontario\, N0N1R0\, Canada
ATTACH;FMTTYPE=image/jpeg:https://visitpetrolia.ca/wp-content/uploads/2025/01/Meat-Raffle.jpg
END:VEVENT
BEGIN:VEVENT
DTSTART;TZID=America/Toronto:20250718T200000
DTEND;TZID=America/Toronto:20250719T200000
DTSTAMP:20260420T013202
CREATED:20230803T161846Z
LAST-MODIFIED:20230803T161846Z
UID:10014772-1752868800-1752955200@visitpetrolia.ca
SUMMARY:Karaoke Night at the 216 Lounge Petrolia!
DESCRIPTION:KARAOKE at the 216 in Petrolia! Join us EVERY Friday from 8 PM to Midnight OR until the singing ends for a fun night out and sing….sing….sing!\nMORE TO COME! Keep watching for lots of other up n coming events at the NEW 216 LOUNGE as we soon bring in ALL NEW ENTERTAINMENT\, ALL NEW LIVE MUSIC\, and an all NEW BAR FOOD MENU. Things are happening at the 216 in PETROLIA!\nFood choices vary per week.\nLOTS OF EASY FREE PARKING\n4129 Glenview Rd in PETROLIA\nRoyal Canadian Legion Branch 216\nwww.petrolialegion216.ca
URL:https://visitpetrolia.ca/event/karaoke-night-at-the-216-lounge-petrolia/2025-07-18/
LOCATION:Royal Canadian Legion Br. 216\, 4129 Glenview Rd.\, Petrolia\, Ontario\, N0N1R0\, Canada
ATTACH;FMTTYPE=image/png:https://visitpetrolia.ca/wp-content/uploads/2023/08/360087634_298409882627258_1353929225415268980_n.png
END:VEVENT
BEGIN:VEVENT
DTSTART;TZID=America/Toronto:20250718T190000
DTEND;TZID=America/Toronto:20250718T233000
DTSTAMP:20260420T013202
CREATED:20250129T205626Z
LAST-MODIFIED:20250130T170906Z
UID:10015324-1752865200-1752881400@visitpetrolia.ca
SUMMARY:Adult Karaoke
DESCRIPTION:Come and join us in the 216 Lounge for adult karaoke!\nProfessional sound system complete with stage lights and cash bar.\nMake the 216 Lounge your place to be on Friday nights.
URL:https://visitpetrolia.ca/event/adult-karaoke/2025-07-18/
LOCATION:Royal Canadian Legion Br. 216\, 4129 Glenview Rd.\, Petrolia\, Ontario\, N0N1R0\, Canada
ATTACH;FMTTYPE=image/jpeg:https://visitpetrolia.ca/wp-content/uploads/2025/01/Karaoke.jpg
END:VEVENT
BEGIN:VEVENT
DTSTART;TZID=America/Toronto:20250717T130000
DTEND;TZID=America/Toronto:20250717T160000
DTSTAMP:20260420T013202
CREATED:20250129T205430Z
LAST-MODIFIED:20250129T205430Z
UID:10015234-1752757200-1752768000@visitpetrolia.ca
SUMMARY:Weekly Pepper
DESCRIPTION:Come and join the crew and play a few hands of Pepper in the 216 Lounge.
URL:https://visitpetrolia.ca/event/weekly-pepper/2025-07-17/
LOCATION:Royal Canadian Legion Br. 216\, 4129 Glenview Rd.\, Petrolia\, Ontario\, N0N1R0\, Canada
ATTACH;FMTTYPE=image/jpeg:https://visitpetrolia.ca/wp-content/uploads/2025/01/Weekly-Pepper.jpg
END:VEVENT
BEGIN:VEVENT
DTSTART;TZID=America/Toronto:20250717T070000
DTEND;TZID=America/Toronto:20250717T220000
DTSTAMP:20260420T013202
CREATED:20250129T205457Z
LAST-MODIFIED:20250129T205457Z
UID:10015264-1752735600-1752789600@visitpetrolia.ca
SUMMARY:Weekly Darts
DESCRIPTION:Come out and join us in the 216 Lounge and show off your dart tossing skills.\nPrizes and cash bar.
URL:https://visitpetrolia.ca/event/weekly-darts/2025-07-17/
LOCATION:Royal Canadian Legion Br. 216\, 4129 Glenview Rd.\, Petrolia\, Ontario\, N0N1R0\, Canada
ATTACH;FMTTYPE=image/jpeg:https://visitpetrolia.ca/wp-content/uploads/2025/01/Weekly-Darts.jpg
END:VEVENT
END:VCALENDAR