BEGIN:VCALENDAR
VERSION:2.0
PRODID:-//Town of Petrolia - ECPv6.15.14//NONSGML v1.0//EN
CALSCALE:GREGORIAN
METHOD:PUBLISH
X-WR-CALNAME:Town of Petrolia
X-ORIGINAL-URL:https://visitpetrolia.ca
X-WR-CALDESC:Events for Town of Petrolia
REFRESH-INTERVAL;VALUE=DURATION:PT1H
X-Robots-Tag:noindex
X-PUBLISHED-TTL:PT1H
BEGIN:VTIMEZONE
TZID:America/Toronto
BEGIN:DAYLIGHT
TZOFFSETFROM:-0500
TZOFFSETTO:-0400
TZNAME:EDT
DTSTART:20240310T070000
END:DAYLIGHT
BEGIN:STANDARD
TZOFFSETFROM:-0400
TZOFFSETTO:-0500
TZNAME:EST
DTSTART:20241103T060000
END:STANDARD
BEGIN:DAYLIGHT
TZOFFSETFROM:-0500
TZOFFSETTO:-0400
TZNAME:EDT
DTSTART:20250309T070000
END:DAYLIGHT
BEGIN:STANDARD
TZOFFSETFROM:-0400
TZOFFSETTO:-0500
TZNAME:EST
DTSTART:20251102T060000
END:STANDARD
BEGIN:DAYLIGHT
TZOFFSETFROM:-0500
TZOFFSETTO:-0400
TZNAME:EDT
DTSTART:20260308T070000
END:DAYLIGHT
BEGIN:STANDARD
TZOFFSETFROM:-0400
TZOFFSETTO:-0500
TZNAME:EST
DTSTART:20261101T060000
END:STANDARD
END:VTIMEZONE
BEGIN:VEVENT
DTSTART;TZID=America/Toronto:20250418T200000
DTEND;TZID=America/Toronto:20250419T200000
DTSTAMP:20260423T190627
CREATED:20230803T161846Z
LAST-MODIFIED:20230803T161846Z
UID:10014759-1745006400-1745092800@visitpetrolia.ca
SUMMARY:Karaoke Night at the 216 Lounge Petrolia!
DESCRIPTION:KARAOKE at the 216 in Petrolia! Join us EVERY Friday from 8 PM to Midnight OR until the singing ends for a fun night out and sing….sing….sing!\nMORE TO COME! Keep watching for lots of other up n coming events at the NEW 216 LOUNGE as we soon bring in ALL NEW ENTERTAINMENT\, ALL NEW LIVE MUSIC\, and an all NEW BAR FOOD MENU. Things are happening at the 216 in PETROLIA!\nFood choices vary per week.\nLOTS OF EASY FREE PARKING\n4129 Glenview Rd in PETROLIA\nRoyal Canadian Legion Branch 216\nwww.petrolialegion216.ca
URL:https://visitpetrolia.ca/event/karaoke-night-at-the-216-lounge-petrolia/2025-04-18/
LOCATION:Royal Canadian Legion Br. 216\, 4129 Glenview Rd.\, Petrolia\, Ontario\, N0N1R0\, Canada
ATTACH;FMTTYPE=image/png:https://visitpetrolia.ca/wp-content/uploads/2023/08/360087634_298409882627258_1353929225415268980_n.png
END:VEVENT
BEGIN:VEVENT
DTSTART;TZID=America/Toronto:20250418T190000
DTEND;TZID=America/Toronto:20250418T233000
DTSTAMP:20260423T190627
CREATED:20250129T205626Z
LAST-MODIFIED:20250130T170906Z
UID:10015311-1745002800-1745019000@visitpetrolia.ca
SUMMARY:Adult Karaoke
DESCRIPTION:Come and join us in the 216 Lounge for adult karaoke!\nProfessional sound system complete with stage lights and cash bar.\nMake the 216 Lounge your place to be on Friday nights.
URL:https://visitpetrolia.ca/event/adult-karaoke/2025-04-18/
LOCATION:Royal Canadian Legion Br. 216\, 4129 Glenview Rd.\, Petrolia\, Ontario\, N0N1R0\, Canada
ATTACH;FMTTYPE=image/jpeg:https://visitpetrolia.ca/wp-content/uploads/2025/01/Karaoke.jpg
END:VEVENT
BEGIN:VEVENT
DTSTART;TZID=America/Toronto:20250417T130000
DTEND;TZID=America/Toronto:20250417T160000
DTSTAMP:20260423T190627
CREATED:20250129T205430Z
LAST-MODIFIED:20250129T205430Z
UID:10015221-1744894800-1744905600@visitpetrolia.ca
SUMMARY:Weekly Pepper
DESCRIPTION:Come and join the crew and play a few hands of Pepper in the 216 Lounge.
URL:https://visitpetrolia.ca/event/weekly-pepper/2025-04-17/
LOCATION:Royal Canadian Legion Br. 216\, 4129 Glenview Rd.\, Petrolia\, Ontario\, N0N1R0\, Canada
ATTACH;FMTTYPE=image/jpeg:https://visitpetrolia.ca/wp-content/uploads/2025/01/Weekly-Pepper.jpg
END:VEVENT
BEGIN:VEVENT
DTSTART;TZID=America/Toronto:20250417T070000
DTEND;TZID=America/Toronto:20250417T220000
DTSTAMP:20260423T190627
CREATED:20250129T205457Z
LAST-MODIFIED:20250129T205457Z
UID:10015251-1744873200-1744927200@visitpetrolia.ca
SUMMARY:Weekly Darts
DESCRIPTION:Come out and join us in the 216 Lounge and show off your dart tossing skills.\nPrizes and cash bar.
URL:https://visitpetrolia.ca/event/weekly-darts/2025-04-17/
LOCATION:Royal Canadian Legion Br. 216\, 4129 Glenview Rd.\, Petrolia\, Ontario\, N0N1R0\, Canada
ATTACH;FMTTYPE=image/jpeg:https://visitpetrolia.ca/wp-content/uploads/2025/01/Weekly-Darts.jpg
END:VEVENT
BEGIN:VEVENT
DTSTART;TZID=America/Toronto:20250416T070000
DTEND;TZID=America/Toronto:20250416T220000
DTSTAMP:20260423T190627
CREATED:20250129T205544Z
LAST-MODIFIED:20250129T205544Z
UID:10015281-1744786800-1744840800@visitpetrolia.ca
SUMMARY:Weekly Euchre
DESCRIPTION:Join fellow euchre fans weekly in the 216 lounge and enjoy the luck of the deal.\nPrizes and 50/50 draw.\nCash Bar.
URL:https://visitpetrolia.ca/event/weekly-euchre/2025-04-16/
LOCATION:Royal Canadian Legion Br. 216\, 4129 Glenview Rd.\, Petrolia\, Ontario\, N0N1R0\, Canada
ATTACH;FMTTYPE=image/jpeg:https://visitpetrolia.ca/wp-content/uploads/2025/01/Weekly-Euchre.jpg
END:VEVENT
BEGIN:VEVENT
DTSTART;TZID=America/Toronto:20250414T190000
DTEND;TZID=America/Toronto:20250414T200000
DTSTAMP:20260423T190627
CREATED:20250206T131614Z
LAST-MODIFIED:20250206T131614Z
UID:10015557-1744657200-1744660800@visitpetrolia.ca
SUMMARY:Zumba with Lisa and Madison
DESCRIPTION:Zumba Gold classes are available at the Petrolia Legion every Monday at 7 pm. All dance levels and all ages are welcome! First class is free! Classes are $10 each or 6 classes for $50.
URL:https://visitpetrolia.ca/event/zumba-with-lisa-and-madison-2/2025-04-14/
LOCATION:Royal Canadian Legion Br. 216\, 4129 Glenview Rd.\, Petrolia\, Ontario\, N0N1R0\, Canada
ATTACH;FMTTYPE=image/jpeg:https://visitpetrolia.ca/wp-content/uploads/2025/02/IMG_2171-1.jpeg
ORGANIZER;CN="Lisa Alderton":MAILTO:fun2bwu2day@hotmail.com
END:VEVENT
BEGIN:VEVENT
DTSTART;TZID=America/Toronto:20250414T190000
DTEND;TZID=America/Toronto:20250414T200000
DTSTAMP:20260423T190627
CREATED:20250205T185531Z
LAST-MODIFIED:20250205T185531Z
UID:10015503-1744657200-1744660800@visitpetrolia.ca
SUMMARY:Zumba with Lisa and Madison
DESCRIPTION:Zumba Gold classes are available at the Petrolia Legion every Monday at 7 pm. All dance levels and all ages are welcome! First class is free!\nClasses are $10 each or 6 classes for $50.
URL:https://visitpetrolia.ca/event/zumba-with-lisa-and-madison/2025-04-14/
LOCATION:Royal Canadian Legion Br. 216\, 4129 Glenview Rd.\, Petrolia\, Ontario\, N0N1R0\, Canada
ATTACH;FMTTYPE=image/jpeg:https://visitpetrolia.ca/wp-content/uploads/2025/02/IMG_2171.jpeg
ORGANIZER;CN="Lisa Alderton":MAILTO:fun2bwu2day@hotmail.com
END:VEVENT
BEGIN:VEVENT
DTSTART;TZID=America/Toronto:20250412T120000
DTEND;TZID=America/Toronto:20250412T170000
DTSTAMP:20260423T190627
CREATED:20250129T205700Z
LAST-MODIFIED:20250129T205700Z
UID:10015341-1744459200-1744477200@visitpetrolia.ca
SUMMARY:Meat Raffle
DESCRIPTION:Our weekly Meat Raffle hosted in the 216 Lounge at the Petrolia Legion.\nDoors open at noon for lunch and meat raffles and 50/50 draws start at 2:00pm.\nMeat supplied locally by our own Weilands Meat!\nCome out and join the fun.
URL:https://visitpetrolia.ca/event/meat-raffle/2025-04-12/
LOCATION:Royal Canadian Legion Br. 216\, 4129 Glenview Rd.\, Petrolia\, Ontario\, N0N1R0\, Canada
ATTACH;FMTTYPE=image/jpeg:https://visitpetrolia.ca/wp-content/uploads/2025/01/Meat-Raffle.jpg
END:VEVENT
BEGIN:VEVENT
DTSTART;TZID=America/Toronto:20250411T200000
DTEND;TZID=America/Toronto:20250412T200000
DTSTAMP:20260423T190627
CREATED:20230803T161846Z
LAST-MODIFIED:20230803T161846Z
UID:10014758-1744401600-1744488000@visitpetrolia.ca
SUMMARY:Karaoke Night at the 216 Lounge Petrolia!
DESCRIPTION:KARAOKE at the 216 in Petrolia! Join us EVERY Friday from 8 PM to Midnight OR until the singing ends for a fun night out and sing….sing….sing!\nMORE TO COME! Keep watching for lots of other up n coming events at the NEW 216 LOUNGE as we soon bring in ALL NEW ENTERTAINMENT\, ALL NEW LIVE MUSIC\, and an all NEW BAR FOOD MENU. Things are happening at the 216 in PETROLIA!\nFood choices vary per week.\nLOTS OF EASY FREE PARKING\n4129 Glenview Rd in PETROLIA\nRoyal Canadian Legion Branch 216\nwww.petrolialegion216.ca
URL:https://visitpetrolia.ca/event/karaoke-night-at-the-216-lounge-petrolia/2025-04-11/
LOCATION:Royal Canadian Legion Br. 216\, 4129 Glenview Rd.\, Petrolia\, Ontario\, N0N1R0\, Canada
ATTACH;FMTTYPE=image/png:https://visitpetrolia.ca/wp-content/uploads/2023/08/360087634_298409882627258_1353929225415268980_n.png
END:VEVENT
BEGIN:VEVENT
DTSTART;TZID=America/Toronto:20250411T190000
DTEND;TZID=America/Toronto:20250411T233000
DTSTAMP:20260423T190627
CREATED:20250129T205626Z
LAST-MODIFIED:20250130T170906Z
UID:10015310-1744398000-1744414200@visitpetrolia.ca
SUMMARY:Adult Karaoke
DESCRIPTION:Come and join us in the 216 Lounge for adult karaoke!\nProfessional sound system complete with stage lights and cash bar.\nMake the 216 Lounge your place to be on Friday nights.
URL:https://visitpetrolia.ca/event/adult-karaoke/2025-04-11/
LOCATION:Royal Canadian Legion Br. 216\, 4129 Glenview Rd.\, Petrolia\, Ontario\, N0N1R0\, Canada
ATTACH;FMTTYPE=image/jpeg:https://visitpetrolia.ca/wp-content/uploads/2025/01/Karaoke.jpg
END:VEVENT
BEGIN:VEVENT
DTSTART;TZID=America/Toronto:20250410T130000
DTEND;TZID=America/Toronto:20250410T160000
DTSTAMP:20260423T190627
CREATED:20250129T205430Z
LAST-MODIFIED:20250129T205430Z
UID:10015220-1744290000-1744300800@visitpetrolia.ca
SUMMARY:Weekly Pepper
DESCRIPTION:Come and join the crew and play a few hands of Pepper in the 216 Lounge.
URL:https://visitpetrolia.ca/event/weekly-pepper/2025-04-10/
LOCATION:Royal Canadian Legion Br. 216\, 4129 Glenview Rd.\, Petrolia\, Ontario\, N0N1R0\, Canada
ATTACH;FMTTYPE=image/jpeg:https://visitpetrolia.ca/wp-content/uploads/2025/01/Weekly-Pepper.jpg
END:VEVENT
BEGIN:VEVENT
DTSTART;TZID=America/Toronto:20250410T070000
DTEND;TZID=America/Toronto:20250410T220000
DTSTAMP:20260423T190627
CREATED:20250129T205457Z
LAST-MODIFIED:20250129T205457Z
UID:10015250-1744268400-1744322400@visitpetrolia.ca
SUMMARY:Weekly Darts
DESCRIPTION:Come out and join us in the 216 Lounge and show off your dart tossing skills.\nPrizes and cash bar.
URL:https://visitpetrolia.ca/event/weekly-darts/2025-04-10/
LOCATION:Royal Canadian Legion Br. 216\, 4129 Glenview Rd.\, Petrolia\, Ontario\, N0N1R0\, Canada
ATTACH;FMTTYPE=image/jpeg:https://visitpetrolia.ca/wp-content/uploads/2025/01/Weekly-Darts.jpg
END:VEVENT
BEGIN:VEVENT
DTSTART;TZID=America/Toronto:20250409T070000
DTEND;TZID=America/Toronto:20250409T220000
DTSTAMP:20260423T190627
CREATED:20250129T205544Z
LAST-MODIFIED:20250129T205544Z
UID:10015280-1744182000-1744236000@visitpetrolia.ca
SUMMARY:Weekly Euchre
DESCRIPTION:Join fellow euchre fans weekly in the 216 lounge and enjoy the luck of the deal.\nPrizes and 50/50 draw.\nCash Bar.
URL:https://visitpetrolia.ca/event/weekly-euchre/2025-04-09/
LOCATION:Royal Canadian Legion Br. 216\, 4129 Glenview Rd.\, Petrolia\, Ontario\, N0N1R0\, Canada
ATTACH;FMTTYPE=image/jpeg:https://visitpetrolia.ca/wp-content/uploads/2025/01/Weekly-Euchre.jpg
END:VEVENT
BEGIN:VEVENT
DTSTART;TZID=America/Toronto:20250407T190000
DTEND;TZID=America/Toronto:20250407T200000
DTSTAMP:20260423T190627
CREATED:20250206T131614Z
LAST-MODIFIED:20250206T131614Z
UID:10015556-1744052400-1744056000@visitpetrolia.ca
SUMMARY:Zumba with Lisa and Madison
DESCRIPTION:Zumba Gold classes are available at the Petrolia Legion every Monday at 7 pm. All dance levels and all ages are welcome! First class is free! Classes are $10 each or 6 classes for $50.
URL:https://visitpetrolia.ca/event/zumba-with-lisa-and-madison-2/2025-04-07/
LOCATION:Royal Canadian Legion Br. 216\, 4129 Glenview Rd.\, Petrolia\, Ontario\, N0N1R0\, Canada
ATTACH;FMTTYPE=image/jpeg:https://visitpetrolia.ca/wp-content/uploads/2025/02/IMG_2171-1.jpeg
ORGANIZER;CN="Lisa Alderton":MAILTO:fun2bwu2day@hotmail.com
END:VEVENT
BEGIN:VEVENT
DTSTART;TZID=America/Toronto:20250407T190000
DTEND;TZID=America/Toronto:20250407T200000
DTSTAMP:20260423T190627
CREATED:20250205T185531Z
LAST-MODIFIED:20250205T185531Z
UID:10015502-1744052400-1744056000@visitpetrolia.ca
SUMMARY:Zumba with Lisa and Madison
DESCRIPTION:Zumba Gold classes are available at the Petrolia Legion every Monday at 7 pm. All dance levels and all ages are welcome! First class is free!\nClasses are $10 each or 6 classes for $50.
URL:https://visitpetrolia.ca/event/zumba-with-lisa-and-madison/2025-04-07/
LOCATION:Royal Canadian Legion Br. 216\, 4129 Glenview Rd.\, Petrolia\, Ontario\, N0N1R0\, Canada
ATTACH;FMTTYPE=image/jpeg:https://visitpetrolia.ca/wp-content/uploads/2025/02/IMG_2171.jpeg
ORGANIZER;CN="Lisa Alderton":MAILTO:fun2bwu2day@hotmail.com
END:VEVENT
BEGIN:VEVENT
DTSTART;TZID=America/Toronto:20250405T120000
DTEND;TZID=America/Toronto:20250405T170000
DTSTAMP:20260423T190627
CREATED:20250129T205700Z
LAST-MODIFIED:20250129T205700Z
UID:10015340-1743854400-1743872400@visitpetrolia.ca
SUMMARY:Meat Raffle
DESCRIPTION:Our weekly Meat Raffle hosted in the 216 Lounge at the Petrolia Legion.\nDoors open at noon for lunch and meat raffles and 50/50 draws start at 2:00pm.\nMeat supplied locally by our own Weilands Meat!\nCome out and join the fun.
URL:https://visitpetrolia.ca/event/meat-raffle/2025-04-05/
LOCATION:Royal Canadian Legion Br. 216\, 4129 Glenview Rd.\, Petrolia\, Ontario\, N0N1R0\, Canada
ATTACH;FMTTYPE=image/jpeg:https://visitpetrolia.ca/wp-content/uploads/2025/01/Meat-Raffle.jpg
END:VEVENT
BEGIN:VEVENT
DTSTART;TZID=America/Toronto:20250405T100000
DTEND;TZID=America/Toronto:20250405T170000
DTSTAMP:20260423T190627
CREATED:20250320T195046Z
LAST-MODIFIED:20250320T195046Z
UID:10014857-1743847200-1743872400@visitpetrolia.ca
SUMMARY:Spring Craft Sale
DESCRIPTION:Spring Craft sale April 5th and 6th. 10:00 am-5:00 pm
URL:https://visitpetrolia.ca/event/spring-craft-sale/2025-04-05/
LOCATION:Royal Canadian Legion Br. 216\, 4129 Glenview Rd.\, Petrolia\, Ontario\, N0N1R0\, Canada
ATTACH;FMTTYPE=image/jpeg:https://visitpetrolia.ca/wp-content/uploads/2025/03/484913838_10164701721792564_9168836658469398699_n.jpg
END:VEVENT
BEGIN:VEVENT
DTSTART;TZID=America/Toronto:20250404T200000
DTEND;TZID=America/Toronto:20250405T200000
DTSTAMP:20260423T190627
CREATED:20230803T161846Z
LAST-MODIFIED:20230803T161846Z
UID:10014757-1743796800-1743883200@visitpetrolia.ca
SUMMARY:Karaoke Night at the 216 Lounge Petrolia!
DESCRIPTION:KARAOKE at the 216 in Petrolia! Join us EVERY Friday from 8 PM to Midnight OR until the singing ends for a fun night out and sing….sing….sing!\nMORE TO COME! Keep watching for lots of other up n coming events at the NEW 216 LOUNGE as we soon bring in ALL NEW ENTERTAINMENT\, ALL NEW LIVE MUSIC\, and an all NEW BAR FOOD MENU. Things are happening at the 216 in PETROLIA!\nFood choices vary per week.\nLOTS OF EASY FREE PARKING\n4129 Glenview Rd in PETROLIA\nRoyal Canadian Legion Branch 216\nwww.petrolialegion216.ca
URL:https://visitpetrolia.ca/event/karaoke-night-at-the-216-lounge-petrolia/2025-04-04/
LOCATION:Royal Canadian Legion Br. 216\, 4129 Glenview Rd.\, Petrolia\, Ontario\, N0N1R0\, Canada
ATTACH;FMTTYPE=image/png:https://visitpetrolia.ca/wp-content/uploads/2023/08/360087634_298409882627258_1353929225415268980_n.png
END:VEVENT
BEGIN:VEVENT
DTSTART;TZID=America/Toronto:20250404T190000
DTEND;TZID=America/Toronto:20250404T233000
DTSTAMP:20260423T190627
CREATED:20250129T205626Z
LAST-MODIFIED:20250130T170906Z
UID:10015309-1743793200-1743809400@visitpetrolia.ca
SUMMARY:Adult Karaoke
DESCRIPTION:Come and join us in the 216 Lounge for adult karaoke!\nProfessional sound system complete with stage lights and cash bar.\nMake the 216 Lounge your place to be on Friday nights.
URL:https://visitpetrolia.ca/event/adult-karaoke/2025-04-04/
LOCATION:Royal Canadian Legion Br. 216\, 4129 Glenview Rd.\, Petrolia\, Ontario\, N0N1R0\, Canada
ATTACH;FMTTYPE=image/jpeg:https://visitpetrolia.ca/wp-content/uploads/2025/01/Karaoke.jpg
END:VEVENT
BEGIN:VEVENT
DTSTART;TZID=America/Toronto:20250403T130000
DTEND;TZID=America/Toronto:20250403T160000
DTSTAMP:20260423T190627
CREATED:20250129T205430Z
LAST-MODIFIED:20250129T205430Z
UID:10015219-1743685200-1743696000@visitpetrolia.ca
SUMMARY:Weekly Pepper
DESCRIPTION:Come and join the crew and play a few hands of Pepper in the 216 Lounge.
URL:https://visitpetrolia.ca/event/weekly-pepper/2025-04-03/
LOCATION:Royal Canadian Legion Br. 216\, 4129 Glenview Rd.\, Petrolia\, Ontario\, N0N1R0\, Canada
ATTACH;FMTTYPE=image/jpeg:https://visitpetrolia.ca/wp-content/uploads/2025/01/Weekly-Pepper.jpg
END:VEVENT
BEGIN:VEVENT
DTSTART;TZID=America/Toronto:20250403T070000
DTEND;TZID=America/Toronto:20250403T220000
DTSTAMP:20260423T190627
CREATED:20250129T205457Z
LAST-MODIFIED:20250129T205457Z
UID:10015249-1743663600-1743717600@visitpetrolia.ca
SUMMARY:Weekly Darts
DESCRIPTION:Come out and join us in the 216 Lounge and show off your dart tossing skills.\nPrizes and cash bar.
URL:https://visitpetrolia.ca/event/weekly-darts/2025-04-03/
LOCATION:Royal Canadian Legion Br. 216\, 4129 Glenview Rd.\, Petrolia\, Ontario\, N0N1R0\, Canada
ATTACH;FMTTYPE=image/jpeg:https://visitpetrolia.ca/wp-content/uploads/2025/01/Weekly-Darts.jpg
END:VEVENT
BEGIN:VEVENT
DTSTART;TZID=America/Toronto:20250402T070000
DTEND;TZID=America/Toronto:20250402T220000
DTSTAMP:20260423T190627
CREATED:20250129T205544Z
LAST-MODIFIED:20250129T205544Z
UID:10015279-1743577200-1743631200@visitpetrolia.ca
SUMMARY:Weekly Euchre
DESCRIPTION:Join fellow euchre fans weekly in the 216 lounge and enjoy the luck of the deal.\nPrizes and 50/50 draw.\nCash Bar.
URL:https://visitpetrolia.ca/event/weekly-euchre/2025-04-02/
LOCATION:Royal Canadian Legion Br. 216\, 4129 Glenview Rd.\, Petrolia\, Ontario\, N0N1R0\, Canada
ATTACH;FMTTYPE=image/jpeg:https://visitpetrolia.ca/wp-content/uploads/2025/01/Weekly-Euchre.jpg
END:VEVENT
BEGIN:VEVENT
DTSTART;TZID=America/Toronto:20250331T190000
DTEND;TZID=America/Toronto:20250331T200000
DTSTAMP:20260423T190627
CREATED:20250206T131614Z
LAST-MODIFIED:20250206T131614Z
UID:10015555-1743447600-1743451200@visitpetrolia.ca
SUMMARY:Zumba with Lisa and Madison
DESCRIPTION:Zumba Gold classes are available at the Petrolia Legion every Monday at 7 pm. All dance levels and all ages are welcome! First class is free! Classes are $10 each or 6 classes for $50.
URL:https://visitpetrolia.ca/event/zumba-with-lisa-and-madison-2/2025-03-31/
LOCATION:Royal Canadian Legion Br. 216\, 4129 Glenview Rd.\, Petrolia\, Ontario\, N0N1R0\, Canada
ATTACH;FMTTYPE=image/jpeg:https://visitpetrolia.ca/wp-content/uploads/2025/02/IMG_2171-1.jpeg
ORGANIZER;CN="Lisa Alderton":MAILTO:fun2bwu2day@hotmail.com
END:VEVENT
BEGIN:VEVENT
DTSTART;TZID=America/Toronto:20250331T190000
DTEND;TZID=America/Toronto:20250331T200000
DTSTAMP:20260423T190627
CREATED:20250205T185531Z
LAST-MODIFIED:20250205T185531Z
UID:10015501-1743447600-1743451200@visitpetrolia.ca
SUMMARY:Zumba with Lisa and Madison
DESCRIPTION:Zumba Gold classes are available at the Petrolia Legion every Monday at 7 pm. All dance levels and all ages are welcome! First class is free!\nClasses are $10 each or 6 classes for $50.
URL:https://visitpetrolia.ca/event/zumba-with-lisa-and-madison/2025-03-31/
LOCATION:Royal Canadian Legion Br. 216\, 4129 Glenview Rd.\, Petrolia\, Ontario\, N0N1R0\, Canada
ATTACH;FMTTYPE=image/jpeg:https://visitpetrolia.ca/wp-content/uploads/2025/02/IMG_2171.jpeg
ORGANIZER;CN="Lisa Alderton":MAILTO:fun2bwu2day@hotmail.com
END:VEVENT
BEGIN:VEVENT
DTSTART;TZID=America/Toronto:20250329T120000
DTEND;TZID=America/Toronto:20250329T170000
DTSTAMP:20260423T190627
CREATED:20250129T205700Z
LAST-MODIFIED:20250129T205700Z
UID:10015339-1743249600-1743267600@visitpetrolia.ca
SUMMARY:Meat Raffle
DESCRIPTION:Our weekly Meat Raffle hosted in the 216 Lounge at the Petrolia Legion.\nDoors open at noon for lunch and meat raffles and 50/50 draws start at 2:00pm.\nMeat supplied locally by our own Weilands Meat!\nCome out and join the fun.
URL:https://visitpetrolia.ca/event/meat-raffle/2025-03-29/
LOCATION:Royal Canadian Legion Br. 216\, 4129 Glenview Rd.\, Petrolia\, Ontario\, N0N1R0\, Canada
ATTACH;FMTTYPE=image/jpeg:https://visitpetrolia.ca/wp-content/uploads/2025/01/Meat-Raffle.jpg
END:VEVENT
BEGIN:VEVENT
DTSTART;TZID=America/Toronto:20250328T200000
DTEND;TZID=America/Toronto:20250329T200000
DTSTAMP:20260423T190627
CREATED:20230803T161846Z
LAST-MODIFIED:20230803T161846Z
UID:10014756-1743192000-1743278400@visitpetrolia.ca
SUMMARY:Karaoke Night at the 216 Lounge Petrolia!
DESCRIPTION:KARAOKE at the 216 in Petrolia! Join us EVERY Friday from 8 PM to Midnight OR until the singing ends for a fun night out and sing….sing….sing!\nMORE TO COME! Keep watching for lots of other up n coming events at the NEW 216 LOUNGE as we soon bring in ALL NEW ENTERTAINMENT\, ALL NEW LIVE MUSIC\, and an all NEW BAR FOOD MENU. Things are happening at the 216 in PETROLIA!\nFood choices vary per week.\nLOTS OF EASY FREE PARKING\n4129 Glenview Rd in PETROLIA\nRoyal Canadian Legion Branch 216\nwww.petrolialegion216.ca
URL:https://visitpetrolia.ca/event/karaoke-night-at-the-216-lounge-petrolia/2025-03-28/
LOCATION:Royal Canadian Legion Br. 216\, 4129 Glenview Rd.\, Petrolia\, Ontario\, N0N1R0\, Canada
ATTACH;FMTTYPE=image/png:https://visitpetrolia.ca/wp-content/uploads/2023/08/360087634_298409882627258_1353929225415268980_n.png
END:VEVENT
BEGIN:VEVENT
DTSTART;TZID=America/Toronto:20250328T190000
DTEND;TZID=America/Toronto:20250328T233000
DTSTAMP:20260423T190627
CREATED:20250129T205626Z
LAST-MODIFIED:20250130T170906Z
UID:10015308-1743188400-1743204600@visitpetrolia.ca
SUMMARY:Adult Karaoke
DESCRIPTION:Come and join us in the 216 Lounge for adult karaoke!\nProfessional sound system complete with stage lights and cash bar.\nMake the 216 Lounge your place to be on Friday nights.
URL:https://visitpetrolia.ca/event/adult-karaoke/2025-03-28/
LOCATION:Royal Canadian Legion Br. 216\, 4129 Glenview Rd.\, Petrolia\, Ontario\, N0N1R0\, Canada
ATTACH;FMTTYPE=image/jpeg:https://visitpetrolia.ca/wp-content/uploads/2025/01/Karaoke.jpg
END:VEVENT
BEGIN:VEVENT
DTSTART;TZID=America/Toronto:20250327T130000
DTEND;TZID=America/Toronto:20250327T160000
DTSTAMP:20260423T190627
CREATED:20250129T205430Z
LAST-MODIFIED:20250129T205430Z
UID:10015218-1743080400-1743091200@visitpetrolia.ca
SUMMARY:Weekly Pepper
DESCRIPTION:Come and join the crew and play a few hands of Pepper in the 216 Lounge.
URL:https://visitpetrolia.ca/event/weekly-pepper/2025-03-27/
LOCATION:Royal Canadian Legion Br. 216\, 4129 Glenview Rd.\, Petrolia\, Ontario\, N0N1R0\, Canada
ATTACH;FMTTYPE=image/jpeg:https://visitpetrolia.ca/wp-content/uploads/2025/01/Weekly-Pepper.jpg
END:VEVENT
BEGIN:VEVENT
DTSTART;TZID=America/Toronto:20250327T070000
DTEND;TZID=America/Toronto:20250327T220000
DTSTAMP:20260423T190627
CREATED:20250129T205457Z
LAST-MODIFIED:20250129T205457Z
UID:10015248-1743058800-1743112800@visitpetrolia.ca
SUMMARY:Weekly Darts
DESCRIPTION:Come out and join us in the 216 Lounge and show off your dart tossing skills.\nPrizes and cash bar.
URL:https://visitpetrolia.ca/event/weekly-darts/2025-03-27/
LOCATION:Royal Canadian Legion Br. 216\, 4129 Glenview Rd.\, Petrolia\, Ontario\, N0N1R0\, Canada
ATTACH;FMTTYPE=image/jpeg:https://visitpetrolia.ca/wp-content/uploads/2025/01/Weekly-Darts.jpg
END:VEVENT
BEGIN:VEVENT
DTSTART;TZID=America/Toronto:20250326T070000
DTEND;TZID=America/Toronto:20250326T220000
DTSTAMP:20260423T190627
CREATED:20250129T205544Z
LAST-MODIFIED:20250129T205544Z
UID:10015278-1742972400-1743026400@visitpetrolia.ca
SUMMARY:Weekly Euchre
DESCRIPTION:Join fellow euchre fans weekly in the 216 lounge and enjoy the luck of the deal.\nPrizes and 50/50 draw.\nCash Bar.
URL:https://visitpetrolia.ca/event/weekly-euchre/2025-03-26/
LOCATION:Royal Canadian Legion Br. 216\, 4129 Glenview Rd.\, Petrolia\, Ontario\, N0N1R0\, Canada
ATTACH;FMTTYPE=image/jpeg:https://visitpetrolia.ca/wp-content/uploads/2025/01/Weekly-Euchre.jpg
END:VEVENT
END:VCALENDAR