BEGIN:VCALENDAR
VERSION:2.0
PRODID:-//Town of Petrolia - ECPv6.15.14//NONSGML v1.0//EN
CALSCALE:GREGORIAN
METHOD:PUBLISH
X-WR-CALNAME:Town of Petrolia
X-ORIGINAL-URL:https://visitpetrolia.ca
X-WR-CALDESC:Events for Town of Petrolia
REFRESH-INTERVAL;VALUE=DURATION:PT1H
X-Robots-Tag:noindex
X-PUBLISHED-TTL:PT1H
BEGIN:VTIMEZONE
TZID:America/Toronto
BEGIN:DAYLIGHT
TZOFFSETFROM:-0500
TZOFFSETTO:-0400
TZNAME:EDT
DTSTART:20210314T070000
END:DAYLIGHT
BEGIN:STANDARD
TZOFFSETFROM:-0400
TZOFFSETTO:-0500
TZNAME:EST
DTSTART:20211107T060000
END:STANDARD
BEGIN:DAYLIGHT
TZOFFSETFROM:-0500
TZOFFSETTO:-0400
TZNAME:EDT
DTSTART:20220313T070000
END:DAYLIGHT
BEGIN:STANDARD
TZOFFSETFROM:-0400
TZOFFSETTO:-0500
TZNAME:EST
DTSTART:20221106T060000
END:STANDARD
BEGIN:DAYLIGHT
TZOFFSETFROM:-0500
TZOFFSETTO:-0400
TZNAME:EDT
DTSTART:20230312T070000
END:DAYLIGHT
BEGIN:STANDARD
TZOFFSETFROM:-0400
TZOFFSETTO:-0500
TZNAME:EST
DTSTART:20231105T060000
END:STANDARD
BEGIN:DAYLIGHT
TZOFFSETFROM:-0500
TZOFFSETTO:-0400
TZNAME:EDT
DTSTART:20240310T070000
END:DAYLIGHT
BEGIN:STANDARD
TZOFFSETFROM:-0400
TZOFFSETTO:-0500
TZNAME:EST
DTSTART:20241103T060000
END:STANDARD
BEGIN:DAYLIGHT
TZOFFSETFROM:-0500
TZOFFSETTO:-0400
TZNAME:EDT
DTSTART:20250309T070000
END:DAYLIGHT
BEGIN:STANDARD
TZOFFSETFROM:-0400
TZOFFSETTO:-0500
TZNAME:EST
DTSTART:20251102T060000
END:STANDARD
BEGIN:DAYLIGHT
TZOFFSETFROM:-0500
TZOFFSETTO:-0400
TZNAME:EDT
DTSTART:20260308T070000
END:DAYLIGHT
BEGIN:STANDARD
TZOFFSETFROM:-0400
TZOFFSETTO:-0500
TZNAME:EST
DTSTART:20261101T060000
END:STANDARD
BEGIN:DAYLIGHT
TZOFFSETFROM:-0500
TZOFFSETTO:-0400
TZNAME:EDT
DTSTART:20270314T070000
END:DAYLIGHT
BEGIN:STANDARD
TZOFFSETFROM:-0400
TZOFFSETTO:-0500
TZNAME:EST
DTSTART:20271107T060000
END:STANDARD
END:VTIMEZONE
BEGIN:VEVENT
DTSTART;TZID=America/Toronto:20260318T160000
DTEND;TZID=America/Toronto:20260318T180000
DTSTAMP:20260422T091430
CREATED:20260219T134710Z
LAST-MODIFIED:20260310T161056Z
UID:10015795-1773849600-1773856800@visitpetrolia.ca
SUMMARY:Chicken Dinner To Go
DESCRIPTION:Fundraiser for St. Paul’s United Church 4169 Petrolia Line\, Petrolia \nHalf BBQ Chicken $25.00 OR Quarter BBQ Chicken $20.00 \nYour Choice of a Half or Quarter BBQ Chicken from Appin BBQ\, Baked Beans\, Baked Potato\, Baked Beans\, Coleslaw\, Brownie\nGluten Free available upon request\nPRE-PURCHASED TICKETS ONLY NO WALK-INS WILL BE ACCEPTED\, SCHEDULED PICK UP TIMES FOR YOUR MEAL\, TICKET ORDER DEADLINE IS MARCH 22 at NOON \nTo order Email: Julie at finacecommittee.stpaulspetrolia@gmail.com Include your preferred pickup time every 15 minutes from 4pm to 6pm. We will strive to accommodate your pickup time. The earlier you order the better your chance of receiving your selected time. This is due to volunteers packaging your orders to receive your food hot. \nPayment by etransfer to office@stpaulsunitedpetrolia.net Be sure to put Chicken Dinner in Comment
URL:https://visitpetrolia.ca/event/chicken-dinner-to-go/
LOCATION:St. Paul’s United Church\, 4169 Petrolia Line\, Petrolia\, Ontario\, N0N1R0\, Canada
ATTACH;FMTTYPE=image/jpeg:https://visitpetrolia.ca/wp-content/uploads/2026/02/Chicken-To-Go-March-28-2026.jpg
ORGANIZER;CN="St. Paul's United Petrolia":MAILTO:office@stpaulsunitedpetrolia.net
END:VEVENT
BEGIN:VEVENT
DTSTART;VALUE=DATE:20260207
DTEND;VALUE=DATE:20260214
DTSTAMP:20260422T091430
CREATED:20260106T194654Z
LAST-MODIFIED:20260122T133302Z
UID:10015600-1770422400-1771027199@visitpetrolia.ca
SUMMARY:St. Paul's United Church Petrolia Facebook Auction
DESCRIPTION:Facebook Auction Event\nBidding will be open from Feb 7th at 7pm am until the close at Feb 13th at 7pm. \nTo make a bid for an Online Virtual Auction item\, simply type the amount you wish to bid in the comment section of the item picture on Facebook. The opening bid on each item will be listed. Each subsequent bid must follow the minimum increment of $1.00. Any bids not adhering to this format will be declared invalid and voided. \nYou may bid on any item in any Silent Auction section until the item is closed. The official time will be based on the personal computer in the home of Carol Watt. \nOnce the auction is declared closed\, the last bid entered on the comment section that adheres to the designated increment shall constitute the winning bid and will so be marked. In the event of a dispute\, the Online Silent Auction Chair (Carol Watt) will act as the final authority. \nThe winning bidder will be contacted to arrange payment (cash\, check\, or etransfer). Once payment has been processed\, arrangements for pick-up/shipping of the item will be determined. \nPayment for items purchased must be made in full. We accept cash\, a personal cheque made payable to “. St. Paul’s United Church” or by etransfer to office@stpaulsunitedpetrolia.net Please put “Auction Item and the numbers” in the comment section. Receipts are available upon request. Note: these are not tax receipts just receipt of payment. \nAny item left unclaimed will be offered to the next highest bidder and sold. Happy Bidding!!! \nItems will be picked up at St Paul’s United Church 4169 Petrolia Line\, Petrolia ON N0N 1R0 during our office business hours: Office Hours Monday – 1-5 pm\, Tuesday/Wednesday – 9am – 3 pm\, Thursday – 9 am – 5 pm & Friday – 9 am – 3 pm Phone: 519-882-1390 Email: office@stpaulsunitedpetrolia.net \nIf shipping is required it will be at the bidder’s expense. Contact the office at phone number 519-882-1390 to make arrangements. Payment is required in advance.
URL:https://visitpetrolia.ca/event/st-pauls-united-church-petrolia-facebook-auction/
LOCATION:St. Paul’s United Church\, 4169 Petrolia Line\, Petrolia\, Ontario\, N0N1R0\, Canada
ATTACH;FMTTYPE=image/jpeg:https://visitpetrolia.ca/wp-content/uploads/2026/01/Facebook-Online-Auction-2026-poster.jpg
ORGANIZER;CN="St. Paul's United Petrolia":MAILTO:office@stpaulsunitedpetrolia.net
END:VEVENT
BEGIN:VEVENT
DTSTART;TZID=America/Toronto:20251128T190000
DTEND;TZID=America/Toronto:20251129T150000
DTSTAMP:20260422T091430
CREATED:20251113T190057Z
LAST-MODIFIED:20251113T190057Z
UID:10015598-1764356400-1764428400@visitpetrolia.ca
SUMMARY:Victorian Christmas
DESCRIPTION:
URL:https://visitpetrolia.ca/event/victorian-christmas/
LOCATION:St. Paul’s United Church\, 4169 Petrolia Line\, Petrolia\, Ontario\, N0N1R0\, Canada
ATTACH;FMTTYPE=image/jpeg:https://visitpetrolia.ca/wp-content/uploads/2025/11/Poster-Vic-Christmas-PCT-2025.jpg
END:VEVENT
BEGIN:VEVENT
DTSTART;TZID=America/Toronto:20251122T100000
DTEND;TZID=America/Toronto:20251122T150000
DTSTAMP:20260422T091430
CREATED:20250130T175716Z
LAST-MODIFIED:20250130T175716Z
UID:10015481-1763805600-1763823600@visitpetrolia.ca
SUMMARY:Christmasfest
DESCRIPTION:
URL:https://visitpetrolia.ca/event/christmasfest/
LOCATION:St. Paul’s United Church\, 4169 Petrolia Line\, Petrolia\, Ontario\, N0N1R0\, Canada
ORGANIZER;CN="St. Paul's United Petrolia":MAILTO:office@stpaulsunitedpetrolia.net
END:VEVENT
BEGIN:VEVENT
DTSTART;TZID=America/Toronto:20251026T113000
DTEND;TZID=America/Toronto:20251026T140000
DTSTAMP:20260422T091430
CREATED:20250130T175637Z
LAST-MODIFIED:20250130T175637Z
UID:10015480-1761478200-1761487200@visitpetrolia.ca
SUMMARY:Takeout Turkey on a Bun
DESCRIPTION:After Church.
URL:https://visitpetrolia.ca/event/takeout-turkey-on-a-bun/
LOCATION:St. Paul’s United Church\, 4169 Petrolia Line\, Petrolia\, Ontario\, N0N1R0\, Canada
ORGANIZER;CN="St. Paul's United Petrolia":MAILTO:office@stpaulsunitedpetrolia.net
END:VEVENT
BEGIN:VEVENT
DTSTART;TZID=America/Toronto:20250920T160000
DTEND;TZID=America/Toronto:20250920T180000
DTSTAMP:20260422T091430
CREATED:20250130T175528Z
LAST-MODIFIED:20250130T175528Z
UID:10015479-1758384000-1758391200@visitpetrolia.ca
SUMMARY:Appin Takeout Dinner
DESCRIPTION:
URL:https://visitpetrolia.ca/event/appin-takeout-dinner/
LOCATION:St. Paul’s United Church\, 4169 Petrolia Line\, Petrolia\, Ontario\, N0N1R0\, Canada
ORGANIZER;CN="St. Paul's United Petrolia":MAILTO:office@stpaulsunitedpetrolia.net
END:VEVENT
BEGIN:VEVENT
DTSTART;TZID=America/Toronto:20250401T160000
DTEND;TZID=America/Toronto:20250401T180000
DTSTAMP:20260422T091430
CREATED:20250130T172215Z
LAST-MODIFIED:20250130T172215Z
UID:10015477-1743523200-1743530400@visitpetrolia.ca
SUMMARY:Appin Chicken To Go Takeout Dinner
DESCRIPTION:
URL:https://visitpetrolia.ca/event/appin-chicken-to-go-takeout-dinner/
LOCATION:St. Paul’s United Church\, 4169 Petrolia Line\, Petrolia\, Ontario\, N0N1R0\, Canada
ORGANIZER;CN="St. Paul's United Petrolia":MAILTO:office@stpaulsunitedpetrolia.net
END:VEVENT
BEGIN:VEVENT
DTSTART;TZID=America/Toronto:20250315T160000
DTEND;TZID=America/Toronto:20250315T180000
DTSTAMP:20260422T091430
CREATED:20250218T152820Z
LAST-MODIFIED:20250218T184946Z
UID:10015574-1742054400-1742061600@visitpetrolia.ca
SUMMARY:St Patrick's Day Takeout  Dinner
DESCRIPTION:St Patrick’s Day Takeout dinner at St. Paul’s United Church Petrolia.  Shepherds Pie or Beef Stew with Irish veggie soup\, coleslaw\, Irish soda bread and sticky toffee pudding.  Cost is $30 per person by etransfer to office@stpaulsunitedpetrolia.net  order deadline is March 9th. Order by email to orderyourdinnernow@gmail.com  Gluten Free on request
URL:https://visitpetrolia.ca/event/st-patricks-day-takeout-dinner/
LOCATION:St. Paul’s United Church\, 4169 Petrolia Line\, Petrolia\, Ontario\, N0N1R0\, Canada
ATTACH;FMTTYPE=image/jpeg:https://visitpetrolia.ca/wp-content/uploads/2025/02/St.-Pauls-United-Church-Petrolia-1.jpg
ORGANIZER;CN="St. Paul's United Petrolia":MAILTO:office@stpaulsunitedpetrolia.net
END:VEVENT
BEGIN:VEVENT
DTSTART;TZID=America/Toronto:20250308T113000
DTEND;TZID=America/Toronto:20250308T133000
DTSTAMP:20260422T091430
CREATED:20250218T152934Z
LAST-MODIFIED:20250218T152934Z
UID:10014799-1741433400-1741440600@visitpetrolia.ca
SUMMARY:Takeout Soup  Luncheon
DESCRIPTION:Takeout Soup with bun and cookie.  The 4 soups are cream of broccoli\, beef barley\, butternut squash\, & pasta e fagioli.  Cost $10 cash paid at ordering and pickup St. Paul’s United Church Petrolia Parking Lot
URL:https://visitpetrolia.ca/event/takeout-soup-luncheon/
LOCATION:St. Paul’s United Church\, 4169 Petrolia Line\, Petrolia\, Ontario\, N0N1R0\, Canada
ATTACH;FMTTYPE=image/jpeg:https://visitpetrolia.ca/wp-content/uploads/2025/02/Soup-Fundraiser.jpg
ORGANIZER;CN="St. Paul's United Petrolia":MAILTO:office@stpaulsunitedpetrolia.net
END:VEVENT
BEGIN:VEVENT
DTSTART;TZID=America/Toronto:20250307T130000
DTEND;TZID=America/Toronto:20250307T160000
DTSTAMP:20260422T091430
CREATED:20250218T153016Z
LAST-MODIFIED:20250218T153016Z
UID:10014800-1741352400-1741363200@visitpetrolia.ca
SUMMARY:World Day of Prayer
DESCRIPTION:Prayer based on Psalm 139 verses 1-18  “I  Made You Wonderful” \nSt. Paul’s United Church\nChairlift is available
URL:https://visitpetrolia.ca/event/world-day-of-prayer-3/
LOCATION:St. Paul’s United Church\, 4169 Petrolia Line\, Petrolia\, Ontario\, N0N1R0\, Canada
ATTACH;FMTTYPE=image/jpeg:https://visitpetrolia.ca/wp-content/uploads/2025/02/WorldDayOfPrayer25-scaled.jpg
ORGANIZER;CN="St. Paul's United Petrolia":MAILTO:office@stpaulsunitedpetrolia.net
END:VEVENT
BEGIN:VEVENT
DTSTART;TZID=America/Toronto:20250228T190000
DTEND;TZID=America/Toronto:20250228T210000
DTSTAMP:20260422T091430
CREATED:20250130T171557Z
LAST-MODIFIED:20250218T193727Z
UID:10015475-1740769200-1740776400@visitpetrolia.ca
SUMMARY:Blow Away the Blahs
DESCRIPTION:Free will donations gladly accepted for the Church.
URL:https://visitpetrolia.ca/event/blow-away-the-blahs/
LOCATION:St. Paul’s United Church\, 4169 Petrolia Line\, Petrolia\, Ontario\, N0N1R0\, Canada
ORGANIZER;CN="St. Paul's United Petrolia":MAILTO:office@stpaulsunitedpetrolia.net
END:VEVENT
BEGIN:VEVENT
DTSTART;TZID=America/Toronto:20250216T113000
DTEND;TZID=America/Toronto:20250216T140000
DTSTAMP:20260422T091430
CREATED:20250130T171945Z
LAST-MODIFIED:20250130T171945Z
UID:10015476-1739705400-1739714400@visitpetrolia.ca
SUMMARY:St. Paul's United Church Family Fun Day
DESCRIPTION:Join us for lunch and games.  Lunch will consist of a variety of soups and sandwiches.\nBring your favourite board game or play one that is here.\nR.S.V.P. to Tammy in the Office.
URL:https://visitpetrolia.ca/event/st-pauls-united-church-family-fun-day/
LOCATION:St. Paul’s United Church\, 4169 Petrolia Line\, Petrolia\, Ontario\, N0N1R0\, Canada
ATTACH;FMTTYPE=image/jpeg:https://visitpetrolia.ca/wp-content/uploads/2025/01/Family-Day-Feb-16-2025-scaled.jpg
ORGANIZER;CN="St. Paul's United Petrolia":MAILTO:office@stpaulsunitedpetrolia.net
END:VEVENT
BEGIN:VEVENT
DTSTART;TZID=America/Toronto:20250130T110000
DTEND;TZID=America/Toronto:20250130T140000
DTSTAMP:20260422T091430
CREATED:20250130T174814Z
LAST-MODIFIED:20250130T174814Z
UID:10015478-1738234800-1738245600@visitpetrolia.ca
SUMMARY:St. Paul's  United Church 160th Anniversary Lunch
DESCRIPTION:
URL:https://visitpetrolia.ca/event/st-pauls-united-church-160th-anniversary-lunch/
LOCATION:St. Paul’s United Church\, 4169 Petrolia Line\, Petrolia\, Ontario\, N0N1R0\, Canada
ORGANIZER;CN="St. Paul's United Petrolia":MAILTO:office@stpaulsunitedpetrolia.net
END:VEVENT
BEGIN:VEVENT
DTSTART;TZID=America/Toronto:20240622T100000
DTEND;TZID=America/Toronto:20240622T140000
DTSTAMP:20260422T091430
CREATED:20240521T134502Z
LAST-MODIFIED:20240521T135143Z
UID:10015036-1719050400-1719064800@visitpetrolia.ca
SUMMARY:Victorian Wedding and Reception Tea Luncheon
DESCRIPTION:Come celebrate as the Petrolia Community Theatre presents  a Victorian Wedding / Play at St. Paul’s United Church Petrolia cost is $15 per person.  If you purchase the full event for $40 you will join us downstairs in the CE Centre for the  Victorian reception / luncheon following the wedding.  Arrive dressed in your wedding finery.  Period clothing is appreciated but not required.  Chair lift accessible through the Parking lot door.
URL:https://visitpetrolia.ca/event/victorian-wedding-and-reception-tea-luncheon/
LOCATION:St. Paul’s United Church\, 4169 Petrolia Line\, Petrolia\, Ontario\, N0N1R0\, Canada
ATTACH;FMTTYPE=image/jpeg:https://visitpetrolia.ca/wp-content/uploads/2024/05/Wedding-Poster-June-22-2024.jpg
ORGANIZER;CN="St. Paul's United Petrolia":MAILTO:office@stpaulsunitedpetrolia.net
END:VEVENT
BEGIN:VEVENT
DTSTART;TZID=America/Toronto:20240428T113000
DTEND;TZID=America/Toronto:20240428T123000
DTSTAMP:20260422T091430
CREATED:20240403T121530Z
LAST-MODIFIED:20240403T121530Z
UID:10015025-1714303800-1714307400@visitpetrolia.ca
SUMMARY:Fundraising Takeout Brunch
DESCRIPTION:Fundraising Takeout Brunch April 28th by freewill offering ( approximate value  $20 )  with pickup starting at 11:30am  PREORDERS ONLY
URL:https://visitpetrolia.ca/event/fundraising-takeout-brunch/
LOCATION:St. Paul’s United Church\, 4169 Petrolia Line\, Petrolia\, Ontario\, N0N1R0\, Canada
ORGANIZER;CN="St. Paul's United Petrolia":MAILTO:office@stpaulsunitedpetrolia.net
END:VEVENT
BEGIN:VEVENT
DTSTART;TZID=America/Toronto:20240210T130000
DTEND;TZID=America/Toronto:20240210T160000
DTSTAMP:20260422T091430
CREATED:20240116T193644Z
LAST-MODIFIED:20240116T193644Z
UID:10014874-1707570000-1707580800@visitpetrolia.ca
SUMMARY:Chocolate Truffle Workshop
DESCRIPTION:Learn to make chocolate truffles with all supplies included and truffles to take home. \nCost $25 Per Person \nAdvanced Registration and Payment Required.\nRegister with Ruth Syer by email arsyer@brktel.on.ca or Text 519-383-9085\nPayments can be accepted at the Office at St. Paul’s or by etransfer to office@stpaulsunitedpetrolia.net \nFinal Date to register is Feb 5\, 2024
URL:https://visitpetrolia.ca/event/chocolate-truffle-workshop/
LOCATION:St. Paul’s United Church\, 4169 Petrolia Line\, Petrolia\, Ontario\, N0N1R0\, Canada
ATTACH;FMTTYPE=image/jpeg:https://visitpetrolia.ca/wp-content/uploads/2024/01/Ava-Poster-for-printing.jpg
ORGANIZER;CN="St. Paul's United Petrolia":MAILTO:office@stpaulsunitedpetrolia.net
END:VEVENT
BEGIN:VEVENT
DTSTART;TZID=America/Toronto:20231125T100000
DTEND;TZID=America/Toronto:20231125T150000
DTSTAMP:20260422T091430
CREATED:20231003T130255Z
LAST-MODIFIED:20231016T120636Z
UID:10014870-1700906400-1700924400@visitpetrolia.ca
SUMMARY:ChristmasFest Craft & Gift Show
DESCRIPTION:A very exciting one day shopping event of handcrafted\, homemade\, home baked one of a kind treasures made by local talent.  Some gift vendors as well. Get your Christmas Shopping done early. \nThe Kitchen will be open with food\, beverage and sweets for Sale \nFree Admission with Door Prizes \nChair Lift Available
URL:https://visitpetrolia.ca/event/christmasfest-craft-gift-show/
LOCATION:St. Paul’s United Church\, 4169 Petrolia Line\, Petrolia\, Ontario\, N0N1R0\, Canada
ATTACH;FMTTYPE=image/jpeg:https://visitpetrolia.ca/wp-content/uploads/2023/09/ChristmasFest-Poster-2023-with-QR-and-phone.jpg
ORGANIZER;CN="St. Paul's United Petrolia":MAILTO:office@stpaulsunitedpetrolia.net
END:VEVENT
BEGIN:VEVENT
DTSTART;TZID=America/Toronto:20231021T163000
DTEND;TZID=America/Toronto:20231021T183000
DTSTAMP:20260422T091430
CREATED:20231003T130423Z
LAST-MODIFIED:20231003T130423Z
UID:10014295-1697905800-1697913000@visitpetrolia.ca
SUMMARY:Roast Beef Dinner to Go
DESCRIPTION:Roast Beef Dinner \nAdvance ordering required by Oct. 16th  \nScheduled pick up times every 15 minutes from 4:30-6:30.  \nPlease call / text Ruth Syer at 519-383-9085 or emailarsyer@brktel.on.ca to place your order \nE-transfers can be sent to the church at office@stpaulsunitedpetrolia.net
URL:https://visitpetrolia.ca/event/roast-beef-dinner-to-go/
LOCATION:St. Paul’s United Church\, 4169 Petrolia Line\, Petrolia\, Ontario\, N0N1R0\, Canada
ATTACH;FMTTYPE=image/jpeg:https://visitpetrolia.ca/wp-content/uploads/2023/09/Beef-dinner-to-go-Oct-16-2023-poster.jpg
ORGANIZER;CN="St. Paul's United Petrolia":MAILTO:office@stpaulsunitedpetrolia.net
END:VEVENT
BEGIN:VEVENT
DTSTART;TZID=America/Toronto:20230421T190000
DTEND;TZID=America/Toronto:20230421T220000
DTSTAMP:20260422T091430
CREATED:20230404T121306Z
LAST-MODIFIED:20230404T121306Z
UID:10014599-1682103600-1682114400@visitpetrolia.ca
SUMMARY:Jazz Vespers
DESCRIPTION:A relaxed gathering to share some meditation time and prayers and celebrate the talented musician’s we have in our community through the gift of jazz and light rock n’ roll.
URL:https://visitpetrolia.ca/event/jazz-vespers/
LOCATION:St. Paul’s United Church\, 4169 Petrolia Line\, Petrolia\, Ontario\, N0N1R0\, Canada
ATTACH;FMTTYPE=image/jpeg:https://visitpetrolia.ca/wp-content/uploads/2023/04/Jazz-Vespers-Apr-21-2023.jpg
ORGANIZER;CN="St. Paul's United Petrolia":MAILTO:office@stpaulsunitedpetrolia.net
END:VEVENT
BEGIN:VEVENT
DTSTART;TZID=America/Toronto:20230416T100000
DTEND;TZID=America/Toronto:20230423T200000
DTSTAMP:20260422T091430
CREATED:20230327T120837Z
LAST-MODIFIED:20230327T120837Z
UID:10014271-1681639200-1682280000@visitpetrolia.ca
SUMMARY:St. Paul's  United Petrolia Facebook auction
DESCRIPTION:Many items are up for auction on our Facebook Group at www.facebook.com/groups/908539857129026/\nFunds raised are going to Capital Projects for our Historic Building.
URL:https://visitpetrolia.ca/event/st-pauls-united-petrolia-facebook-auction/
LOCATION:St. Paul’s United Church\, 4169 Petrolia Line\, Petrolia\, Ontario\, N0N1R0\, Canada
ATTACH;FMTTYPE=image/jpeg:https://visitpetrolia.ca/wp-content/uploads/2023/03/Facebook-Online-Auction-2023-poster-QR-Ver-2.jpg
ORGANIZER;CN="St. Paul's United Petrolia":MAILTO:office@stpaulsunitedpetrolia.net
END:VEVENT
BEGIN:VEVENT
DTSTART;TZID=America/Toronto:20230323T080000
DTEND;TZID=America/Toronto:20230323T170000
DTSTAMP:20260422T091430
CREATED:20230303T154713Z
LAST-MODIFIED:20230303T154713Z
UID:10014399-1679558400-1679590800@visitpetrolia.ca
SUMMARY:Easter Flower Fundraiser
DESCRIPTION:
URL:https://visitpetrolia.ca/event/easter-flower-fundraiser-2/
LOCATION:St. Paul’s United Church\, 4169 Petrolia Line\, Petrolia\, Ontario\, N0N1R0\, Canada
ORGANIZER;CN="St. Paul's United Petrolia":MAILTO:office@stpaulsunitedpetrolia.net
END:VEVENT
BEGIN:VEVENT
DTSTART;TZID=America/Toronto:20230317T180000
DTEND;TZID=America/Toronto:20230317T200000
DTSTAMP:20260422T091430
CREATED:20230221T195425Z
LAST-MODIFIED:20230221T195425Z
UID:10014342-1679076000-1679083200@visitpetrolia.ca
SUMMARY:St. Patrick's 4 Course Eat In Dinner
DESCRIPTION:PREORDER ONLY by March 11th.\nContact Ruth Syer by calling or texting 519-383-9085 or emailing arsyer@brktel.on.ca \nDinner — Your Choice of Entree – Sheperd’s Pie or Beef Stew Plus Irish Veggie Soup\, Coleslaw\, Irish Soda Bread and Sticky Toffee Pudding\nMusical Entertainment by the Lambton County Fiddlers\nPrice per ticket $35.00 with payment by etransfer to office@stpaulsunitedpetrolia.net \nGluten Free available on request.
URL:https://visitpetrolia.ca/event/st-patricks-4-course-eat-in-dinner/
LOCATION:St. Paul’s United Church\, 4169 Petrolia Line\, Petrolia\, Ontario\, N0N1R0\, Canada
ATTACH;FMTTYPE=image/jpeg:https://visitpetrolia.ca/wp-content/uploads/2023/02/2023-St-Patricks-4-Course-Dinner.jpeg.jpg
ORGANIZER;CN="St. Paul's United Petrolia":MAILTO:office@stpaulsunitedpetrolia.net
END:VEVENT
BEGIN:VEVENT
DTSTART;TZID=America/Toronto:20230214T163000
DTEND;TZID=America/Toronto:20230214T183000
DTSTAMP:20260422T091430
CREATED:20230125T174136Z
LAST-MODIFIED:20230125T174136Z
UID:10014325-1676392200-1676399400@visitpetrolia.ca
SUMMARY:St. Paul's United Petrolia - Italian Valentines Take Out Dinner
DESCRIPTION:This Valentines Take Out dinner is Chicken Alfredo\, Caesar Salad\, Focaccia Bread\, Cherry Cheesecake & Truffles for $25.00. Gluten Free on Request. Advance Tickets ONLY! Each order will be given a 15 minute timeslot for pickup. Order cutoff is Feb 8\, 2023 See poster for ordering and payment.
URL:https://visitpetrolia.ca/event/st-pauls-united-petrolia-italian-valentines-take-out-dinner/
LOCATION:St. Paul’s United Church\, 4169 Petrolia Line\, Petrolia\, Ontario\, N0N1R0\, Canada
ATTACH;FMTTYPE=image/jpeg:https://visitpetrolia.ca/wp-content/uploads/2023/01/Valentines-Dinner-2023.jpeg
ORGANIZER;CN="St. Paul's United Petrolia":MAILTO:office@stpaulsunitedpetrolia.net
END:VEVENT
BEGIN:VEVENT
DTSTART;TZID=America/Toronto:20220925T163000
DTEND;TZID=America/Toronto:20220925T190000
DTSTAMP:20260422T091430
CREATED:20220308T135612Z
LAST-MODIFIED:20220419T144144Z
UID:10013929-1664123400-1664132400@visitpetrolia.ca
SUMMARY:Chicken to Go Dinner
DESCRIPTION:Dinners prepared by Burn’s Dinner
URL:https://visitpetrolia.ca/event/chicken-to-go-dinner/2022-09-25/
LOCATION:St. Paul’s United Church\, 4169 Petrolia Line\, Petrolia\, Ontario\, N0N1R0\, Canada
ORGANIZER;CN="St. Paul's United Petrolia":MAILTO:office@stpaulsunitedpetrolia.net
END:VEVENT
BEGIN:VEVENT
DTSTART;TZID=America/Toronto:20220813T163000
DTEND;TZID=America/Toronto:20220813T190000
DTSTAMP:20260422T091430
CREATED:20220308T135612Z
LAST-MODIFIED:20220419T144144Z
UID:10013928-1660408200-1660417200@visitpetrolia.ca
SUMMARY:Chicken to Go Dinner
DESCRIPTION:Dinners prepared by Burn’s Dinner
URL:https://visitpetrolia.ca/event/chicken-to-go-dinner/2022-08-13/
LOCATION:St. Paul’s United Church\, 4169 Petrolia Line\, Petrolia\, Ontario\, N0N1R0\, Canada
ORGANIZER;CN="St. Paul's United Petrolia":MAILTO:office@stpaulsunitedpetrolia.net
END:VEVENT
BEGIN:VEVENT
DTSTART;VALUE=DATE:20220616
DTEND;VALUE=DATE:20220617
DTSTAMP:20260422T091430
CREATED:20220308T141825Z
LAST-MODIFIED:20220308T141825Z
UID:10014198-1655337600-1655423999@visitpetrolia.ca
SUMMARY:Talent Auction
DESCRIPTION:For more information or tickets call or text Ruth Syer at 519-383-9085 or email arsyer@brktel.on.ca
URL:https://visitpetrolia.ca/event/talent-auction/
LOCATION:St. Paul’s United Church\, 4169 Petrolia Line\, Petrolia\, Ontario\, N0N1R0\, Canada
ORGANIZER;CN="St. Paul's United Petrolia":MAILTO:office@stpaulsunitedpetrolia.net
END:VEVENT
BEGIN:VEVENT
DTSTART;TZID=America/Toronto:20220507T140000
DTEND;TZID=America/Toronto:20220507T160000
DTSTAMP:20260422T091430
CREATED:20220308T141551Z
LAST-MODIFIED:20220308T141551Z
UID:10014197-1651932000-1651939200@visitpetrolia.ca
SUMMARY:Sister of Choice Concert/ Take out Ham and Scalloped Potato Dinner
DESCRIPTION:
URL:https://visitpetrolia.ca/event/sister-of-choice-concert-take-out-ham-and-scalloped-potato-dinner/
LOCATION:St. Paul’s United Church\, 4169 Petrolia Line\, Petrolia\, Ontario\, N0N1R0\, Canada
ORGANIZER;CN="St. Paul's United Petrolia":MAILTO:office@stpaulsunitedpetrolia.net
END:VEVENT
BEGIN:VEVENT
DTSTART;TZID=America/Toronto:20220416T160000
DTEND;TZID=America/Toronto:20220416T190000
DTSTAMP:20260422T091430
CREATED:20220325T172743Z
LAST-MODIFIED:20220325T172743Z
UID:10014320-1650124800-1650135600@visitpetrolia.ca
SUMMARY:Chicken To Go Fundraiser
DESCRIPTION:
URL:https://visitpetrolia.ca/event/chicken-to-go-fundraiser/2022-04-16/
LOCATION:St. Paul’s United Church\, 4169 Petrolia Line\, Petrolia\, Ontario\, N0N1R0\, Canada
ORGANIZER;CN="St. Paul's United Petrolia":MAILTO:office@stpaulsunitedpetrolia.net
END:VEVENT
BEGIN:VEVENT
DTSTART;TZID=America/Toronto:20220409T080000
DTEND;TZID=America/Toronto:20220409T170000
DTSTAMP:20260422T091430
CREATED:20220307T195228Z
LAST-MODIFIED:20220308T142341Z
UID:10013927-1649491200-1649523600@visitpetrolia.ca
SUMMARY:Easter Flower Fundraiser
DESCRIPTION: 
URL:https://visitpetrolia.ca/event/easter-flower-fundraiser/
LOCATION:St. Paul’s United Church\, 4169 Petrolia Line\, Petrolia\, Ontario\, N0N1R0\, Canada
ORGANIZER;CN="St. Paul's United Petrolia":MAILTO:office@stpaulsunitedpetrolia.net
END:VEVENT
BEGIN:VEVENT
DTSTART;TZID=America/Toronto:20220325T080000
DTEND;TZID=America/Toronto:20220409T120000
DTSTAMP:20260422T091431
CREATED:20220325T172743Z
LAST-MODIFIED:20220325T172743Z
UID:10014319-1648195200-1649505600@visitpetrolia.ca
SUMMARY:Chicken To Go Fundraiser
DESCRIPTION:
URL:https://visitpetrolia.ca/event/chicken-to-go-fundraiser/2022-03-25/
LOCATION:St. Paul’s United Church\, 4169 Petrolia Line\, Petrolia\, Ontario\, N0N1R0\, Canada
ORGANIZER;CN="St. Paul's United Petrolia":MAILTO:office@stpaulsunitedpetrolia.net
END:VEVENT
END:VCALENDAR