BEGIN:VCALENDAR
VERSION:2.0
PRODID:-//Town of Petrolia - ECPv6.15.14//NONSGML v1.0//EN
CALSCALE:GREGORIAN
METHOD:PUBLISH
X-ORIGINAL-URL:https://visitpetrolia.ca
X-WR-CALDESC:Events for Town of Petrolia
REFRESH-INTERVAL;VALUE=DURATION:PT1H
X-Robots-Tag:noindex
X-PUBLISHED-TTL:PT1H
BEGIN:VTIMEZONE
TZID:America/Toronto
BEGIN:DAYLIGHT
TZOFFSETFROM:-0500
TZOFFSETTO:-0400
TZNAME:EDT
DTSTART:20220313T070000
END:DAYLIGHT
BEGIN:STANDARD
TZOFFSETFROM:-0400
TZOFFSETTO:-0500
TZNAME:EST
DTSTART:20221106T060000
END:STANDARD
BEGIN:DAYLIGHT
TZOFFSETFROM:-0500
TZOFFSETTO:-0400
TZNAME:EDT
DTSTART:20230312T070000
END:DAYLIGHT
BEGIN:STANDARD
TZOFFSETFROM:-0400
TZOFFSETTO:-0500
TZNAME:EST
DTSTART:20231105T060000
END:STANDARD
BEGIN:DAYLIGHT
TZOFFSETFROM:-0500
TZOFFSETTO:-0400
TZNAME:EDT
DTSTART:20240310T070000
END:DAYLIGHT
BEGIN:STANDARD
TZOFFSETFROM:-0400
TZOFFSETTO:-0500
TZNAME:EST
DTSTART:20241103T060000
END:STANDARD
BEGIN:DAYLIGHT
TZOFFSETFROM:-0500
TZOFFSETTO:-0400
TZNAME:EDT
DTSTART:20250309T070000
END:DAYLIGHT
BEGIN:STANDARD
TZOFFSETFROM:-0400
TZOFFSETTO:-0500
TZNAME:EST
DTSTART:20251102T060000
END:STANDARD
BEGIN:DAYLIGHT
TZOFFSETFROM:-0500
TZOFFSETTO:-0400
TZNAME:EDT
DTSTART:20260308T070000
END:DAYLIGHT
BEGIN:STANDARD
TZOFFSETFROM:-0400
TZOFFSETTO:-0500
TZNAME:EST
DTSTART:20261101T060000
END:STANDARD
END:VTIMEZONE
BEGIN:VEVENT
DTSTART;TZID=America/Toronto:20250517T140000
DTEND;TZID=America/Toronto:20250517T163000
DTSTAMP:20260424T112046
CREATED:20250129T194918Z
LAST-MODIFIED:20250129T195905Z
UID:10015110-1747490400-1747499400@visitpetrolia.ca
SUMMARY:Rockin' the '50s
DESCRIPTION:Feel the beat as we step back in time to the unforgettable decade that gave us doo-wop\, drive-in diners\, and dance crazes!  Relive the golden age of rock’n’roll\, catchy classics and timeless ballads\, as our crazy talented performers breathe new life into electrifying hits like “Jailhouse Rock”\, “Peggy Sue”\, “Mr. Sandman” and “Stand By Me.”  Tap your toes\, twist along and travel back to the joyful\, nostalgic sounds of the fabulous ’50s.
URL:https://visitpetrolia.ca/event/rockin-the-50s/2025-05-17/
LOCATION:Victoria Hall\, 411 Greenfield Street\, Petrolia\, ON\, N0N1R0\, Canada
CATEGORIES:Victoria Playhouse
ORGANIZER;CN="Victoria Playhouse Petrolia":MAILTO:boxoffice@petrolia.ca
END:VEVENT
BEGIN:VEVENT
DTSTART;TZID=America/Toronto:20250516T140000
DTEND;TZID=America/Toronto:20250516T163000
DTSTAMP:20260424T112046
CREATED:20250129T194918Z
LAST-MODIFIED:20250129T195905Z
UID:10015109-1747404000-1747413000@visitpetrolia.ca
SUMMARY:Rockin' the '50s
DESCRIPTION:Feel the beat as we step back in time to the unforgettable decade that gave us doo-wop\, drive-in diners\, and dance crazes!  Relive the golden age of rock’n’roll\, catchy classics and timeless ballads\, as our crazy talented performers breathe new life into electrifying hits like “Jailhouse Rock”\, “Peggy Sue”\, “Mr. Sandman” and “Stand By Me.”  Tap your toes\, twist along and travel back to the joyful\, nostalgic sounds of the fabulous ’50s.
URL:https://visitpetrolia.ca/event/rockin-the-50s/2025-05-16/
LOCATION:Victoria Hall\, 411 Greenfield Street\, Petrolia\, ON\, N0N1R0\, Canada
CATEGORIES:Victoria Playhouse
ORGANIZER;CN="Victoria Playhouse Petrolia":MAILTO:boxoffice@petrolia.ca
END:VEVENT
BEGIN:VEVENT
DTSTART;TZID=America/Toronto:20250515T140000
DTEND;TZID=America/Toronto:20250515T163000
DTSTAMP:20260424T112047
CREATED:20250129T194918Z
LAST-MODIFIED:20250129T195905Z
UID:10015108-1747317600-1747326600@visitpetrolia.ca
SUMMARY:Rockin' the '50s
DESCRIPTION:Feel the beat as we step back in time to the unforgettable decade that gave us doo-wop\, drive-in diners\, and dance crazes!  Relive the golden age of rock’n’roll\, catchy classics and timeless ballads\, as our crazy talented performers breathe new life into electrifying hits like “Jailhouse Rock”\, “Peggy Sue”\, “Mr. Sandman” and “Stand By Me.”  Tap your toes\, twist along and travel back to the joyful\, nostalgic sounds of the fabulous ’50s.
URL:https://visitpetrolia.ca/event/rockin-the-50s/2025-05-15/
LOCATION:Victoria Hall\, 411 Greenfield Street\, Petrolia\, ON\, N0N1R0\, Canada
CATEGORIES:Victoria Playhouse
ORGANIZER;CN="Victoria Playhouse Petrolia":MAILTO:boxoffice@petrolia.ca
END:VEVENT
BEGIN:VEVENT
DTSTART;TZID=America/Toronto:20250514T140000
DTEND;TZID=America/Toronto:20250514T163000
DTSTAMP:20260424T112047
CREATED:20250129T194918Z
LAST-MODIFIED:20250129T195905Z
UID:10015107-1747231200-1747240200@visitpetrolia.ca
SUMMARY:Rockin' the '50s
DESCRIPTION:Feel the beat as we step back in time to the unforgettable decade that gave us doo-wop\, drive-in diners\, and dance crazes!  Relive the golden age of rock’n’roll\, catchy classics and timeless ballads\, as our crazy talented performers breathe new life into electrifying hits like “Jailhouse Rock”\, “Peggy Sue”\, “Mr. Sandman” and “Stand By Me.”  Tap your toes\, twist along and travel back to the joyful\, nostalgic sounds of the fabulous ’50s.
URL:https://visitpetrolia.ca/event/rockin-the-50s/2025-05-14/
LOCATION:Victoria Hall\, 411 Greenfield Street\, Petrolia\, ON\, N0N1R0\, Canada
CATEGORIES:Victoria Playhouse
ORGANIZER;CN="Victoria Playhouse Petrolia":MAILTO:boxoffice@petrolia.ca
END:VEVENT
BEGIN:VEVENT
DTSTART;TZID=America/Toronto:20250513T140000
DTEND;TZID=America/Toronto:20250513T163000
DTSTAMP:20260424T112047
CREATED:20250129T194918Z
LAST-MODIFIED:20250129T195905Z
UID:10015106-1747144800-1747153800@visitpetrolia.ca
SUMMARY:Rockin' the '50s
DESCRIPTION:Feel the beat as we step back in time to the unforgettable decade that gave us doo-wop\, drive-in diners\, and dance crazes!  Relive the golden age of rock’n’roll\, catchy classics and timeless ballads\, as our crazy talented performers breathe new life into electrifying hits like “Jailhouse Rock”\, “Peggy Sue”\, “Mr. Sandman” and “Stand By Me.”  Tap your toes\, twist along and travel back to the joyful\, nostalgic sounds of the fabulous ’50s.
URL:https://visitpetrolia.ca/event/rockin-the-50s/2025-05-13/
LOCATION:Victoria Hall\, 411 Greenfield Street\, Petrolia\, ON\, N0N1R0\, Canada
CATEGORIES:Victoria Playhouse
ORGANIZER;CN="Victoria Playhouse Petrolia":MAILTO:boxoffice@petrolia.ca
END:VEVENT
BEGIN:VEVENT
DTSTART;TZID=America/Toronto:20250430T193000
DTEND;TZID=America/Toronto:20250430T223000
DTSTAMP:20260424T112047
CREATED:20250129T194918Z
LAST-MODIFIED:20250129T195905Z
UID:10015105-1746041400-1746052200@visitpetrolia.ca
SUMMARY:Rockin' the '50s
DESCRIPTION:Feel the beat as we step back in time to the unforgettable decade that gave us doo-wop\, drive-in diners\, and dance crazes!  Relive the golden age of rock’n’roll\, catchy classics and timeless ballads\, as our crazy talented performers breathe new life into electrifying hits like “Jailhouse Rock”\, “Peggy Sue”\, “Mr. Sandman” and “Stand By Me.”  Tap your toes\, twist along and travel back to the joyful\, nostalgic sounds of the fabulous ’50s.
URL:https://visitpetrolia.ca/event/rockin-the-50s/2025-04-30/
LOCATION:Victoria Hall\, 411 Greenfield Street\, Petrolia\, ON\, N0N1R0\, Canada
CATEGORIES:Victoria Playhouse
ORGANIZER;CN="Victoria Playhouse Petrolia":MAILTO:boxoffice@petrolia.ca
END:VEVENT
BEGIN:VEVENT
DTSTART;TZID=America/Toronto:20250427T140000
DTEND;TZID=America/Toronto:20250427T163000
DTSTAMP:20260424T112047
CREATED:20250129T194034Z
LAST-MODIFIED:20250129T194034Z
UID:10015104-1745762400-1745771400@visitpetrolia.ca
SUMMARY:Make 'Em Laugh
DESCRIPTION:Join us for an unforgettable new variety show with Canadian comedy sensation Neil Aitchison.  Neil will have you in stitches with his sharp observations\, relatable tales\, and good old- fashioned tomfoolery.  Adding to the hilarity are vaudevillian style entertainers delivering songs and skits that are certain to have you laughing and singing along.  Get ready for a performance packed with clever punchlines\, downright silliness and infectious tunes!
URL:https://visitpetrolia.ca/event/make-em-laugh/2025-04-27/
LOCATION:Victoria Hall\, 411 Greenfield Street\, Petrolia\, ON\, N0N1R0\, Canada
CATEGORIES:Victoria Playhouse
ORGANIZER;CN="Victoria Playhouse Petrolia":MAILTO:boxoffice@petrolia.ca
END:VEVENT
BEGIN:VEVENT
DTSTART;TZID=America/Toronto:20250426T193000
DTEND;TZID=America/Toronto:20250426T230000
DTSTAMP:20260424T112047
CREATED:20250129T194034Z
LAST-MODIFIED:20250129T194034Z
UID:10015103-1745695800-1745708400@visitpetrolia.ca
SUMMARY:Make 'Em Laugh
DESCRIPTION:Join us for an unforgettable new variety show with Canadian comedy sensation Neil Aitchison.  Neil will have you in stitches with his sharp observations\, relatable tales\, and good old- fashioned tomfoolery.  Adding to the hilarity are vaudevillian style entertainers delivering songs and skits that are certain to have you laughing and singing along.  Get ready for a performance packed with clever punchlines\, downright silliness and infectious tunes!
URL:https://visitpetrolia.ca/event/make-em-laugh/2025-04-26/2/
LOCATION:Victoria Hall\, 411 Greenfield Street\, Petrolia\, ON\, N0N1R0\, Canada
CATEGORIES:Victoria Playhouse
ORGANIZER;CN="Victoria Playhouse Petrolia":MAILTO:boxoffice@petrolia.ca
END:VEVENT
BEGIN:VEVENT
DTSTART;TZID=America/Toronto:20250426T140000
DTEND;TZID=America/Toronto:20250426T163000
DTSTAMP:20260424T112047
CREATED:20250129T194034Z
LAST-MODIFIED:20250129T194034Z
UID:10015102-1745676000-1745685000@visitpetrolia.ca
SUMMARY:Make 'Em Laugh
DESCRIPTION:Join us for an unforgettable new variety show with Canadian comedy sensation Neil Aitchison.  Neil will have you in stitches with his sharp observations\, relatable tales\, and good old- fashioned tomfoolery.  Adding to the hilarity are vaudevillian style entertainers delivering songs and skits that are certain to have you laughing and singing along.  Get ready for a performance packed with clever punchlines\, downright silliness and infectious tunes!
URL:https://visitpetrolia.ca/event/make-em-laugh/2025-04-26/1/
LOCATION:Victoria Hall\, 411 Greenfield Street\, Petrolia\, ON\, N0N1R0\, Canada
CATEGORIES:Victoria Playhouse
ORGANIZER;CN="Victoria Playhouse Petrolia":MAILTO:boxoffice@petrolia.ca
END:VEVENT
BEGIN:VEVENT
DTSTART;TZID=America/Toronto:20250425T140000
DTEND;TZID=America/Toronto:20250425T163000
DTSTAMP:20260424T112047
CREATED:20250129T194034Z
LAST-MODIFIED:20250129T194034Z
UID:10015101-1745589600-1745598600@visitpetrolia.ca
SUMMARY:Make 'Em Laugh
DESCRIPTION:Join us for an unforgettable new variety show with Canadian comedy sensation Neil Aitchison.  Neil will have you in stitches with his sharp observations\, relatable tales\, and good old- fashioned tomfoolery.  Adding to the hilarity are vaudevillian style entertainers delivering songs and skits that are certain to have you laughing and singing along.  Get ready for a performance packed with clever punchlines\, downright silliness and infectious tunes!
URL:https://visitpetrolia.ca/event/make-em-laugh/2025-04-25/
LOCATION:Victoria Hall\, 411 Greenfield Street\, Petrolia\, ON\, N0N1R0\, Canada
CATEGORIES:Victoria Playhouse
ORGANIZER;CN="Victoria Playhouse Petrolia":MAILTO:boxoffice@petrolia.ca
END:VEVENT
BEGIN:VEVENT
DTSTART;TZID=America/Toronto:20250424T140000
DTEND;TZID=America/Toronto:20250424T163000
DTSTAMP:20260424T112047
CREATED:20250129T194034Z
LAST-MODIFIED:20250129T194034Z
UID:10015100-1745503200-1745512200@visitpetrolia.ca
SUMMARY:Make 'Em Laugh
DESCRIPTION:Join us for an unforgettable new variety show with Canadian comedy sensation Neil Aitchison.  Neil will have you in stitches with his sharp observations\, relatable tales\, and good old- fashioned tomfoolery.  Adding to the hilarity are vaudevillian style entertainers delivering songs and skits that are certain to have you laughing and singing along.  Get ready for a performance packed with clever punchlines\, downright silliness and infectious tunes!
URL:https://visitpetrolia.ca/event/make-em-laugh/2025-04-24/
LOCATION:Victoria Hall\, 411 Greenfield Street\, Petrolia\, ON\, N0N1R0\, Canada
CATEGORIES:Victoria Playhouse
ORGANIZER;CN="Victoria Playhouse Petrolia":MAILTO:boxoffice@petrolia.ca
END:VEVENT
BEGIN:VEVENT
DTSTART;TZID=America/Toronto:20250423T140000
DTEND;TZID=America/Toronto:20250423T163000
DTSTAMP:20260424T112047
CREATED:20250129T194034Z
LAST-MODIFIED:20250129T194034Z
UID:10015099-1745416800-1745425800@visitpetrolia.ca
SUMMARY:Make 'Em Laugh
DESCRIPTION:Join us for an unforgettable new variety show with Canadian comedy sensation Neil Aitchison.  Neil will have you in stitches with his sharp observations\, relatable tales\, and good old- fashioned tomfoolery.  Adding to the hilarity are vaudevillian style entertainers delivering songs and skits that are certain to have you laughing and singing along.  Get ready for a performance packed with clever punchlines\, downright silliness and infectious tunes!
URL:https://visitpetrolia.ca/event/make-em-laugh/2025-04-23/
LOCATION:Victoria Hall\, 411 Greenfield Street\, Petrolia\, ON\, N0N1R0\, Canada
CATEGORIES:Victoria Playhouse
ORGANIZER;CN="Victoria Playhouse Petrolia":MAILTO:boxoffice@petrolia.ca
END:VEVENT
BEGIN:VEVENT
DTSTART;TZID=America/Toronto:20250422T140000
DTEND;TZID=America/Toronto:20250422T163000
DTSTAMP:20260424T112047
CREATED:20250129T194034Z
LAST-MODIFIED:20250129T194034Z
UID:10015098-1745330400-1745339400@visitpetrolia.ca
SUMMARY:Make 'Em Laugh
DESCRIPTION:Join us for an unforgettable new variety show with Canadian comedy sensation Neil Aitchison.  Neil will have you in stitches with his sharp observations\, relatable tales\, and good old- fashioned tomfoolery.  Adding to the hilarity are vaudevillian style entertainers delivering songs and skits that are certain to have you laughing and singing along.  Get ready for a performance packed with clever punchlines\, downright silliness and infectious tunes!
URL:https://visitpetrolia.ca/event/make-em-laugh/2025-04-22/
LOCATION:Victoria Hall\, 411 Greenfield Street\, Petrolia\, ON\, N0N1R0\, Canada
CATEGORIES:Victoria Playhouse
ORGANIZER;CN="Victoria Playhouse Petrolia":MAILTO:boxoffice@petrolia.ca
END:VEVENT
BEGIN:VEVENT
DTSTART;TZID=America/Toronto:20250330T140000
DTEND;TZID=America/Toronto:20250330T163000
DTSTAMP:20260424T112047
CREATED:20250130T140946Z
LAST-MODIFIED:20250130T140946Z
UID:10015404-1743343200-1743352200@visitpetrolia.ca
SUMMARY:Hilda's Yard
DESCRIPTION:Hilda and Sam are empty nesters until their children return unexpectedly with hilarious results.
URL:https://visitpetrolia.ca/event/hildas-yard/2025-03-30/
LOCATION:Victoria Hall\, 411 Greenfield Street\, Petrolia\, ON\, N0N1R0\, Canada
END:VEVENT
BEGIN:VEVENT
DTSTART;TZID=America/Toronto:20250329T140000
DTEND;TZID=America/Toronto:20250329T163000
DTSTAMP:20260424T112047
CREATED:20250130T140946Z
LAST-MODIFIED:20250130T140946Z
UID:10015403-1743256800-1743265800@visitpetrolia.ca
SUMMARY:Hilda's Yard
DESCRIPTION:Hilda and Sam are empty nesters until their children return unexpectedly with hilarious results.
URL:https://visitpetrolia.ca/event/hildas-yard/2025-03-29/
LOCATION:Victoria Hall\, 411 Greenfield Street\, Petrolia\, ON\, N0N1R0\, Canada
END:VEVENT
BEGIN:VEVENT
DTSTART;TZID=America/Toronto:20250328T193000
DTEND;TZID=America/Toronto:20250328T213000
DTSTAMP:20260424T112047
CREATED:20250130T140946Z
LAST-MODIFIED:20250130T140946Z
UID:10015402-1743190200-1743197400@visitpetrolia.ca
SUMMARY:Hilda's Yard
DESCRIPTION:Hilda and Sam are empty nesters until their children return unexpectedly with hilarious results.
URL:https://visitpetrolia.ca/event/hildas-yard/2025-03-28/
LOCATION:Victoria Hall\, 411 Greenfield Street\, Petrolia\, ON\, N0N1R0\, Canada
END:VEVENT
BEGIN:VEVENT
DTSTART;TZID=America/Toronto:20250327T193000
DTEND;TZID=America/Toronto:20250327T213000
DTSTAMP:20260424T112047
CREATED:20250130T140946Z
LAST-MODIFIED:20250130T140946Z
UID:10015401-1743103800-1743111000@visitpetrolia.ca
SUMMARY:Hilda's Yard
DESCRIPTION:Hilda and Sam are empty nesters until their children return unexpectedly with hilarious results.
URL:https://visitpetrolia.ca/event/hildas-yard/2025-03-27/
LOCATION:Victoria Hall\, 411 Greenfield Street\, Petrolia\, ON\, N0N1R0\, Canada
END:VEVENT
BEGIN:VEVENT
DTSTART;TZID=America/Toronto:20231217T140000
DTEND;TZID=America/Toronto:20231217T170000
DTSTAMP:20260424T112047
CREATED:20251216T202834Z
LAST-MODIFIED:20251216T202834Z
UID:10014200-1702821600-1702832400@visitpetrolia.ca
SUMMARY:The VPP Holiday Jamboree
DESCRIPTION:
URL:https://visitpetrolia.ca/event/the-vpp-holiday-jamboree/2023-12-17/
LOCATION:Victoria Hall\, 411 Greenfield Street\, Petrolia\, ON\, N0N1R0\, Canada
ORGANIZER;CN="Victoria Playhouse Petrolia":MAILTO:boxoffice@petrolia.ca
END:VEVENT
BEGIN:VEVENT
DTSTART;TZID=America/Toronto:20231216T193000
DTEND;TZID=America/Toronto:20231216T230000
DTSTAMP:20260424T112047
CREATED:20230306T152914Z
LAST-MODIFIED:20230306T152914Z
UID:10014196-1702755000-1702767600@visitpetrolia.ca
SUMMARY:The VPP Holiday Jamboree
DESCRIPTION:
URL:https://visitpetrolia.ca/event/the-vpp-holiday-jamboree/2023-12-16/
LOCATION:Victoria Hall\, 411 Greenfield Street\, Petrolia\, ON\, N0N1R0\, Canada
ORGANIZER;CN="Victoria Playhouse Petrolia":MAILTO:boxoffice@petrolia.ca
END:VEVENT
BEGIN:VEVENT
DTSTART;TZID=America/Toronto:20231216T140000
DTEND;TZID=America/Toronto:20231216T170000
DTSTAMP:20260424T112047
CREATED:20251216T202834Z
LAST-MODIFIED:20251216T202834Z
UID:10014199-1702735200-1702746000@visitpetrolia.ca
SUMMARY:The VPP Holiday Jamboree
DESCRIPTION:
URL:https://visitpetrolia.ca/event/the-vpp-holiday-jamboree/2023-12-16/
LOCATION:Victoria Hall\, 411 Greenfield Street\, Petrolia\, ON\, N0N1R0\, Canada
ORGANIZER;CN="Victoria Playhouse Petrolia":MAILTO:boxoffice@petrolia.ca
END:VEVENT
BEGIN:VEVENT
DTSTART;TZID=America/Toronto:20231215T193000
DTEND;TZID=America/Toronto:20231215T230000
DTSTAMP:20260424T112047
CREATED:20230306T152914Z
LAST-MODIFIED:20230306T152914Z
UID:10014195-1702668600-1702681200@visitpetrolia.ca
SUMMARY:The VPP Holiday Jamboree
DESCRIPTION:
URL:https://visitpetrolia.ca/event/the-vpp-holiday-jamboree/2023-12-15/
LOCATION:Victoria Hall\, 411 Greenfield Street\, Petrolia\, ON\, N0N1R0\, Canada
ORGANIZER;CN="Victoria Playhouse Petrolia":MAILTO:boxoffice@petrolia.ca
END:VEVENT
BEGIN:VEVENT
DTSTART;TZID=America/Toronto:20231210T140000
DTEND;TZID=America/Toronto:20231210T170000
DTSTAMP:20260424T112047
CREATED:20230306T152302Z
LAST-MODIFIED:20230306T152302Z
UID:10014192-1702216800-1702227600@visitpetrolia.ca
SUMMARY:Starbright Christmas 2023
DESCRIPTION:
URL:https://visitpetrolia.ca/event/starbright-christmas-2023/2023-12-10/
LOCATION:Victoria Hall\, 411 Greenfield Street\, Petrolia\, ON\, N0N1R0\, Canada
ORGANIZER;CN="Victoria Playhouse Petrolia":MAILTO:boxoffice@petrolia.ca
END:VEVENT
BEGIN:VEVENT
DTSTART;TZID=America/Toronto:20231209T140000
DTEND;TZID=America/Toronto:20231209T170000
DTSTAMP:20260424T112047
CREATED:20230306T152302Z
LAST-MODIFIED:20230306T152302Z
UID:10014191-1702130400-1702141200@visitpetrolia.ca
SUMMARY:Starbright Christmas 2023
DESCRIPTION:
URL:https://visitpetrolia.ca/event/starbright-christmas-2023/2023-12-09/
LOCATION:Victoria Hall\, 411 Greenfield Street\, Petrolia\, ON\, N0N1R0\, Canada
ORGANIZER;CN="Victoria Playhouse Petrolia":MAILTO:boxoffice@petrolia.ca
END:VEVENT
BEGIN:VEVENT
DTSTART;TZID=America/Toronto:20231208T140000
DTEND;TZID=America/Toronto:20231208T170000
DTSTAMP:20260424T112047
CREATED:20230306T152302Z
LAST-MODIFIED:20230306T152302Z
UID:10014190-1702044000-1702054800@visitpetrolia.ca
SUMMARY:Starbright Christmas 2023
DESCRIPTION:
URL:https://visitpetrolia.ca/event/starbright-christmas-2023/2023-12-08/
LOCATION:Victoria Hall\, 411 Greenfield Street\, Petrolia\, ON\, N0N1R0\, Canada
ORGANIZER;CN="Victoria Playhouse Petrolia":MAILTO:boxoffice@petrolia.ca
END:VEVENT
BEGIN:VEVENT
DTSTART;TZID=America/Toronto:20231207T140000
DTEND;TZID=America/Toronto:20231207T170000
DTSTAMP:20260424T112047
CREATED:20230306T152302Z
LAST-MODIFIED:20230306T152302Z
UID:10014189-1701957600-1701968400@visitpetrolia.ca
SUMMARY:Starbright Christmas 2023
DESCRIPTION:
URL:https://visitpetrolia.ca/event/starbright-christmas-2023/2023-12-07/
LOCATION:Victoria Hall\, 411 Greenfield Street\, Petrolia\, ON\, N0N1R0\, Canada
ORGANIZER;CN="Victoria Playhouse Petrolia":MAILTO:boxoffice@petrolia.ca
END:VEVENT
BEGIN:VEVENT
DTSTART;TZID=America/Toronto:20231206T140000
DTEND;TZID=America/Toronto:20231206T170000
DTSTAMP:20260424T112047
CREATED:20230306T152302Z
LAST-MODIFIED:20230306T152302Z
UID:10014188-1701871200-1701882000@visitpetrolia.ca
SUMMARY:Starbright Christmas 2023
DESCRIPTION:
URL:https://visitpetrolia.ca/event/starbright-christmas-2023/2023-12-06/
LOCATION:Victoria Hall\, 411 Greenfield Street\, Petrolia\, ON\, N0N1R0\, Canada
ORGANIZER;CN="Victoria Playhouse Petrolia":MAILTO:boxoffice@petrolia.ca
END:VEVENT
BEGIN:VEVENT
DTSTART;TZID=America/Toronto:20231205T140000
DTEND;TZID=America/Toronto:20231205T170000
DTSTAMP:20260424T112047
CREATED:20230306T152302Z
LAST-MODIFIED:20230306T152302Z
UID:10014187-1701784800-1701795600@visitpetrolia.ca
SUMMARY:Starbright Christmas 2023
DESCRIPTION:
URL:https://visitpetrolia.ca/event/starbright-christmas-2023/2023-12-05/
LOCATION:Victoria Hall\, 411 Greenfield Street\, Petrolia\, ON\, N0N1R0\, Canada
ORGANIZER;CN="Victoria Playhouse Petrolia":MAILTO:boxoffice@petrolia.ca
END:VEVENT
BEGIN:VEVENT
DTSTART;TZID=America/Toronto:20231203T140000
DTEND;TZID=America/Toronto:20231203T170000
DTSTAMP:20260424T112047
CREATED:20230306T152302Z
LAST-MODIFIED:20230306T152302Z
UID:10014186-1701612000-1701622800@visitpetrolia.ca
SUMMARY:Starbright Christmas 2023
DESCRIPTION:
URL:https://visitpetrolia.ca/event/starbright-christmas-2023/2023-12-03/
LOCATION:Victoria Hall\, 411 Greenfield Street\, Petrolia\, ON\, N0N1R0\, Canada
ORGANIZER;CN="Victoria Playhouse Petrolia":MAILTO:boxoffice@petrolia.ca
END:VEVENT
BEGIN:VEVENT
DTSTART;TZID=America/Toronto:20231202T193000
DTEND;TZID=America/Toronto:20231202T230000
DTSTAMP:20260424T112047
CREATED:20230306T152302Z
LAST-MODIFIED:20230306T152302Z
UID:10014185-1701545400-1701558000@visitpetrolia.ca
SUMMARY:Starbright Christmas 2023
DESCRIPTION:
URL:https://visitpetrolia.ca/event/starbright-christmas-2023/2023-12-02/2/
LOCATION:Victoria Hall\, 411 Greenfield Street\, Petrolia\, ON\, N0N1R0\, Canada
ORGANIZER;CN="Victoria Playhouse Petrolia":MAILTO:boxoffice@petrolia.ca
END:VEVENT
BEGIN:VEVENT
DTSTART;TZID=America/Toronto:20231202T140000
DTEND;TZID=America/Toronto:20231202T170000
DTSTAMP:20260424T112047
CREATED:20230306T152302Z
LAST-MODIFIED:20230306T152302Z
UID:10014184-1701525600-1701536400@visitpetrolia.ca
SUMMARY:Starbright Christmas 2023
DESCRIPTION:
URL:https://visitpetrolia.ca/event/starbright-christmas-2023/2023-12-02/1/
LOCATION:Victoria Hall\, 411 Greenfield Street\, Petrolia\, ON\, N0N1R0\, Canada
ORGANIZER;CN="Victoria Playhouse Petrolia":MAILTO:boxoffice@petrolia.ca
END:VEVENT
END:VCALENDAR