BEGIN:VCALENDAR
VERSION:2.0
PRODID:-//Town of Petrolia - ECPv6.15.14//NONSGML v1.0//EN
CALSCALE:GREGORIAN
METHOD:PUBLISH
X-WR-CALNAME:Town of Petrolia
X-ORIGINAL-URL:https://visitpetrolia.ca
X-WR-CALDESC:Events for Town of Petrolia
REFRESH-INTERVAL;VALUE=DURATION:PT1H
X-Robots-Tag:noindex
X-PUBLISHED-TTL:PT1H
BEGIN:VTIMEZONE
TZID:America/Toronto
BEGIN:DAYLIGHT
TZOFFSETFROM:-0500
TZOFFSETTO:-0400
TZNAME:EDT
DTSTART:20220313T070000
END:DAYLIGHT
BEGIN:STANDARD
TZOFFSETFROM:-0400
TZOFFSETTO:-0500
TZNAME:EST
DTSTART:20221106T060000
END:STANDARD
BEGIN:DAYLIGHT
TZOFFSETFROM:-0500
TZOFFSETTO:-0400
TZNAME:EDT
DTSTART:20230312T070000
END:DAYLIGHT
BEGIN:STANDARD
TZOFFSETFROM:-0400
TZOFFSETTO:-0500
TZNAME:EST
DTSTART:20231105T060000
END:STANDARD
BEGIN:DAYLIGHT
TZOFFSETFROM:-0500
TZOFFSETTO:-0400
TZNAME:EDT
DTSTART:20240310T070000
END:DAYLIGHT
BEGIN:STANDARD
TZOFFSETFROM:-0400
TZOFFSETTO:-0500
TZNAME:EST
DTSTART:20241103T060000
END:STANDARD
END:VTIMEZONE
BEGIN:VEVENT
DTSTART;TZID=America/Toronto:20230707T140000
DTEND;TZID=America/Toronto:20230707T170000
DTSTAMP:20260425T222126
CREATED:20230306T151028Z
LAST-MODIFIED:20230327T154719Z
UID:10014549-1688738400-1688749200@visitpetrolia.ca
SUMMARY:Yesterday Once More
DESCRIPTION:
URL:https://visitpetrolia.ca/event/yesterday-once-more/2023-07-07/
LOCATION:Victoria Hall\, 411 Greenfield Street\, Petrolia\, ON\, N0N1R0\, Canada
CATEGORIES:Farmers Market
ORGANIZER;CN="Victoria Playhouse Petrolia":MAILTO:boxoffice@petrolia.ca
END:VEVENT
BEGIN:VEVENT
DTSTART;TZID=America/Toronto:20230706T140000
DTEND;TZID=America/Toronto:20230706T170000
DTSTAMP:20260425T222126
CREATED:20230306T151028Z
LAST-MODIFIED:20230327T154719Z
UID:10014548-1688652000-1688662800@visitpetrolia.ca
SUMMARY:Yesterday Once More
DESCRIPTION:
URL:https://visitpetrolia.ca/event/yesterday-once-more/2023-07-06/
LOCATION:Victoria Hall\, 411 Greenfield Street\, Petrolia\, ON\, N0N1R0\, Canada
CATEGORIES:Farmers Market
ORGANIZER;CN="Victoria Playhouse Petrolia":MAILTO:boxoffice@petrolia.ca
END:VEVENT
BEGIN:VEVENT
DTSTART;TZID=America/Toronto:20230705T140000
DTEND;TZID=America/Toronto:20230705T170000
DTSTAMP:20260425T222126
CREATED:20230306T151028Z
LAST-MODIFIED:20230327T154719Z
UID:10014547-1688565600-1688576400@visitpetrolia.ca
SUMMARY:Yesterday Once More
DESCRIPTION:
URL:https://visitpetrolia.ca/event/yesterday-once-more/2023-07-05/
LOCATION:Victoria Hall\, 411 Greenfield Street\, Petrolia\, ON\, N0N1R0\, Canada
CATEGORIES:Farmers Market
ORGANIZER;CN="Victoria Playhouse Petrolia":MAILTO:boxoffice@petrolia.ca
END:VEVENT
BEGIN:VEVENT
DTSTART;TZID=America/Toronto:20230704T140000
DTEND;TZID=America/Toronto:20230704T170000
DTSTAMP:20260425T222126
CREATED:20230306T151028Z
LAST-MODIFIED:20230327T154719Z
UID:10014546-1688479200-1688490000@visitpetrolia.ca
SUMMARY:Yesterday Once More
DESCRIPTION:
URL:https://visitpetrolia.ca/event/yesterday-once-more/2023-07-04/
LOCATION:Victoria Hall\, 411 Greenfield Street\, Petrolia\, ON\, N0N1R0\, Canada
CATEGORIES:Farmers Market
ORGANIZER;CN="Victoria Playhouse Petrolia":MAILTO:boxoffice@petrolia.ca
END:VEVENT
BEGIN:VEVENT
DTSTART;TZID=America/Toronto:20230625T140000
DTEND;TZID=America/Toronto:20230625T170000
DTSTAMP:20260425T222126
CREATED:20230306T150320Z
LAST-MODIFIED:20230327T154643Z
UID:10014544-1687701600-1687712400@visitpetrolia.ca
SUMMARY:Where The Heart Is
DESCRIPTION:
URL:https://visitpetrolia.ca/event/where-the-heart-is/2023-06-25/
LOCATION:Victoria Hall\, 411 Greenfield Street\, Petrolia\, ON\, N0N1R0\, Canada
CATEGORIES:Victoria Playhouse
ORGANIZER;CN="Victoria Playhouse Petrolia":MAILTO:boxoffice@petrolia.ca
END:VEVENT
BEGIN:VEVENT
DTSTART;TZID=America/Toronto:20230624T140000
DTEND;TZID=America/Toronto:20230624T170000
DTSTAMP:20260425T222126
CREATED:20230306T150320Z
LAST-MODIFIED:20230327T154643Z
UID:10014543-1687615200-1687626000@visitpetrolia.ca
SUMMARY:Where The Heart Is
DESCRIPTION:
URL:https://visitpetrolia.ca/event/where-the-heart-is/2023-06-24/
LOCATION:Victoria Hall\, 411 Greenfield Street\, Petrolia\, ON\, N0N1R0\, Canada
CATEGORIES:Victoria Playhouse
ORGANIZER;CN="Victoria Playhouse Petrolia":MAILTO:boxoffice@petrolia.ca
END:VEVENT
BEGIN:VEVENT
DTSTART;TZID=America/Toronto:20230623T193000
DTEND;TZID=America/Toronto:20230623T230000
DTSTAMP:20260425T222126
CREATED:20230306T150320Z
LAST-MODIFIED:20230327T154643Z
UID:10014542-1687548600-1687561200@visitpetrolia.ca
SUMMARY:Where The Heart Is
DESCRIPTION:
URL:https://visitpetrolia.ca/event/where-the-heart-is/2023-06-23/
LOCATION:Victoria Hall\, 411 Greenfield Street\, Petrolia\, ON\, N0N1R0\, Canada
CATEGORIES:Victoria Playhouse
ORGANIZER;CN="Victoria Playhouse Petrolia":MAILTO:boxoffice@petrolia.ca
END:VEVENT
BEGIN:VEVENT
DTSTART;TZID=America/Toronto:20230622T140000
DTEND;TZID=America/Toronto:20230622T170000
DTSTAMP:20260425T222126
CREATED:20230306T150320Z
LAST-MODIFIED:20230327T154643Z
UID:10014541-1687442400-1687453200@visitpetrolia.ca
SUMMARY:Where The Heart Is
DESCRIPTION:
URL:https://visitpetrolia.ca/event/where-the-heart-is/2023-06-22/
LOCATION:Victoria Hall\, 411 Greenfield Street\, Petrolia\, ON\, N0N1R0\, Canada
CATEGORIES:Victoria Playhouse
ORGANIZER;CN="Victoria Playhouse Petrolia":MAILTO:boxoffice@petrolia.ca
END:VEVENT
BEGIN:VEVENT
DTSTART;TZID=America/Toronto:20230621T140000
DTEND;TZID=America/Toronto:20230621T170000
DTSTAMP:20260425T222126
CREATED:20230306T150320Z
LAST-MODIFIED:20230327T154643Z
UID:10014540-1687356000-1687366800@visitpetrolia.ca
SUMMARY:Where The Heart Is
DESCRIPTION:
URL:https://visitpetrolia.ca/event/where-the-heart-is/2023-06-21/
LOCATION:Victoria Hall\, 411 Greenfield Street\, Petrolia\, ON\, N0N1R0\, Canada
CATEGORIES:Victoria Playhouse
ORGANIZER;CN="Victoria Playhouse Petrolia":MAILTO:boxoffice@petrolia.ca
END:VEVENT
BEGIN:VEVENT
DTSTART;TZID=America/Toronto:20230620T140000
DTEND;TZID=America/Toronto:20230620T170000
DTSTAMP:20260425T222126
CREATED:20230306T150320Z
LAST-MODIFIED:20230327T154643Z
UID:10014539-1687269600-1687280400@visitpetrolia.ca
SUMMARY:Where The Heart Is
DESCRIPTION:
URL:https://visitpetrolia.ca/event/where-the-heart-is/2023-06-20/
LOCATION:Victoria Hall\, 411 Greenfield Street\, Petrolia\, ON\, N0N1R0\, Canada
CATEGORIES:Victoria Playhouse
ORGANIZER;CN="Victoria Playhouse Petrolia":MAILTO:boxoffice@petrolia.ca
END:VEVENT
BEGIN:VEVENT
DTSTART;TZID=America/Toronto:20230618T140000
DTEND;TZID=America/Toronto:20230618T170000
DTSTAMP:20260425T222126
CREATED:20230306T150320Z
LAST-MODIFIED:20230327T154643Z
UID:10014538-1687096800-1687107600@visitpetrolia.ca
SUMMARY:Where The Heart Is
DESCRIPTION:
URL:https://visitpetrolia.ca/event/where-the-heart-is/2023-06-18/
LOCATION:Victoria Hall\, 411 Greenfield Street\, Petrolia\, ON\, N0N1R0\, Canada
CATEGORIES:Victoria Playhouse
ORGANIZER;CN="Victoria Playhouse Petrolia":MAILTO:boxoffice@petrolia.ca
END:VEVENT
BEGIN:VEVENT
DTSTART;TZID=America/Toronto:20230617T140000
DTEND;TZID=America/Toronto:20230617T170000
DTSTAMP:20260425T222126
CREATED:20230306T150320Z
LAST-MODIFIED:20230327T154643Z
UID:10014537-1687010400-1687021200@visitpetrolia.ca
SUMMARY:Where The Heart Is
DESCRIPTION:
URL:https://visitpetrolia.ca/event/where-the-heart-is/2023-06-17/
LOCATION:Victoria Hall\, 411 Greenfield Street\, Petrolia\, ON\, N0N1R0\, Canada
CATEGORIES:Victoria Playhouse
ORGANIZER;CN="Victoria Playhouse Petrolia":MAILTO:boxoffice@petrolia.ca
END:VEVENT
BEGIN:VEVENT
DTSTART;TZID=America/Toronto:20230615T140000
DTEND;TZID=America/Toronto:20230615T170000
DTSTAMP:20260425T222126
CREATED:20230306T150320Z
LAST-MODIFIED:20230327T154643Z
UID:10014536-1686837600-1686848400@visitpetrolia.ca
SUMMARY:Where The Heart Is
DESCRIPTION:
URL:https://visitpetrolia.ca/event/where-the-heart-is/2023-06-15/
LOCATION:Victoria Hall\, 411 Greenfield Street\, Petrolia\, ON\, N0N1R0\, Canada
CATEGORIES:Victoria Playhouse
ORGANIZER;CN="Victoria Playhouse Petrolia":MAILTO:boxoffice@petrolia.ca
END:VEVENT
BEGIN:VEVENT
DTSTART;TZID=America/Toronto:20230614T140000
DTEND;TZID=America/Toronto:20230614T170000
DTSTAMP:20260425T222126
CREATED:20230306T150320Z
LAST-MODIFIED:20230327T154643Z
UID:10014535-1686751200-1686762000@visitpetrolia.ca
SUMMARY:Where The Heart Is
DESCRIPTION:
URL:https://visitpetrolia.ca/event/where-the-heart-is/2023-06-14/
LOCATION:Victoria Hall\, 411 Greenfield Street\, Petrolia\, ON\, N0N1R0\, Canada
CATEGORIES:Victoria Playhouse
ORGANIZER;CN="Victoria Playhouse Petrolia":MAILTO:boxoffice@petrolia.ca
END:VEVENT
BEGIN:VEVENT
DTSTART;TZID=America/Toronto:20230613T140000
DTEND;TZID=America/Toronto:20230613T170000
DTSTAMP:20260425T222126
CREATED:20230306T150320Z
LAST-MODIFIED:20230327T154643Z
UID:10014534-1686664800-1686675600@visitpetrolia.ca
SUMMARY:Where The Heart Is
DESCRIPTION:
URL:https://visitpetrolia.ca/event/where-the-heart-is/2023-06-13/
LOCATION:Victoria Hall\, 411 Greenfield Street\, Petrolia\, ON\, N0N1R0\, Canada
CATEGORIES:Victoria Playhouse
ORGANIZER;CN="Victoria Playhouse Petrolia":MAILTO:boxoffice@petrolia.ca
END:VEVENT
BEGIN:VEVENT
DTSTART;TZID=America/Toronto:20230611T140000
DTEND;TZID=America/Toronto:20230611T170000
DTSTAMP:20260425T222126
CREATED:20230306T150320Z
LAST-MODIFIED:20230327T154643Z
UID:10014533-1686492000-1686502800@visitpetrolia.ca
SUMMARY:Where The Heart Is
DESCRIPTION:
URL:https://visitpetrolia.ca/event/where-the-heart-is/2023-06-11/
LOCATION:Victoria Hall\, 411 Greenfield Street\, Petrolia\, ON\, N0N1R0\, Canada
CATEGORIES:Victoria Playhouse
ORGANIZER;CN="Victoria Playhouse Petrolia":MAILTO:boxoffice@petrolia.ca
END:VEVENT
BEGIN:VEVENT
DTSTART;TZID=America/Toronto:20230610T140000
DTEND;TZID=America/Toronto:20230610T170000
DTSTAMP:20260425T222126
CREATED:20230306T150320Z
LAST-MODIFIED:20230327T154643Z
UID:10014532-1686405600-1686416400@visitpetrolia.ca
SUMMARY:Where The Heart Is
DESCRIPTION:
URL:https://visitpetrolia.ca/event/where-the-heart-is/2023-06-10/
LOCATION:Victoria Hall\, 411 Greenfield Street\, Petrolia\, ON\, N0N1R0\, Canada
CATEGORIES:Victoria Playhouse
ORGANIZER;CN="Victoria Playhouse Petrolia":MAILTO:boxoffice@petrolia.ca
END:VEVENT
BEGIN:VEVENT
DTSTART;TZID=America/Toronto:20230608T140000
DTEND;TZID=America/Toronto:20230608T170000
DTSTAMP:20260425T222126
CREATED:20230306T150320Z
LAST-MODIFIED:20230327T154643Z
UID:10014531-1686232800-1686243600@visitpetrolia.ca
SUMMARY:Where The Heart Is
DESCRIPTION:
URL:https://visitpetrolia.ca/event/where-the-heart-is/2023-06-08/
LOCATION:Victoria Hall\, 411 Greenfield Street\, Petrolia\, ON\, N0N1R0\, Canada
CATEGORIES:Victoria Playhouse
ORGANIZER;CN="Victoria Playhouse Petrolia":MAILTO:boxoffice@petrolia.ca
END:VEVENT
BEGIN:VEVENT
DTSTART;TZID=America/Toronto:20230607T140000
DTEND;TZID=America/Toronto:20230607T170000
DTSTAMP:20260425T222126
CREATED:20230306T150320Z
LAST-MODIFIED:20230327T154643Z
UID:10014530-1686146400-1686157200@visitpetrolia.ca
SUMMARY:Where The Heart Is
DESCRIPTION:
URL:https://visitpetrolia.ca/event/where-the-heart-is/2023-06-07/
LOCATION:Victoria Hall\, 411 Greenfield Street\, Petrolia\, ON\, N0N1R0\, Canada
CATEGORIES:Victoria Playhouse
ORGANIZER;CN="Victoria Playhouse Petrolia":MAILTO:boxoffice@petrolia.ca
END:VEVENT
BEGIN:VEVENT
DTSTART;TZID=America/Toronto:20230606T140000
DTEND;TZID=America/Toronto:20230606T170000
DTSTAMP:20260425T222126
CREATED:20230306T150320Z
LAST-MODIFIED:20230327T154643Z
UID:10014529-1686060000-1686070800@visitpetrolia.ca
SUMMARY:Where The Heart Is
DESCRIPTION:
URL:https://visitpetrolia.ca/event/where-the-heart-is/2023-06-06/
LOCATION:Victoria Hall\, 411 Greenfield Street\, Petrolia\, ON\, N0N1R0\, Canada
CATEGORIES:Victoria Playhouse
ORGANIZER;CN="Victoria Playhouse Petrolia":MAILTO:boxoffice@petrolia.ca
END:VEVENT
BEGIN:VEVENT
DTSTART;TZID=America/Toronto:20230521T140000
DTEND;TZID=America/Toronto:20230521T170000
DTSTAMP:20260425T222126
CREATED:20230306T145023Z
LAST-MODIFIED:20230327T154554Z
UID:10014528-1684677600-1684688400@visitpetrolia.ca
SUMMARY:Jesse's Country Jubilee
DESCRIPTION:
URL:https://visitpetrolia.ca/event/jesses-country-jubilee/2023-05-21/
LOCATION:Victoria Hall\, 411 Greenfield Street\, Petrolia\, ON\, N0N1R0\, Canada
CATEGORIES:Victoria Playhouse
ORGANIZER;CN="Victoria Playhouse Petrolia":MAILTO:boxoffice@petrolia.ca
END:VEVENT
BEGIN:VEVENT
DTSTART;TZID=America/Toronto:20230520T140000
DTEND;TZID=America/Toronto:20230520T170000
DTSTAMP:20260425T222126
CREATED:20230306T145023Z
LAST-MODIFIED:20230327T154554Z
UID:10014527-1684591200-1684602000@visitpetrolia.ca
SUMMARY:Jesse's Country Jubilee
DESCRIPTION:
URL:https://visitpetrolia.ca/event/jesses-country-jubilee/2023-05-20/
LOCATION:Victoria Hall\, 411 Greenfield Street\, Petrolia\, ON\, N0N1R0\, Canada
CATEGORIES:Victoria Playhouse
ORGANIZER;CN="Victoria Playhouse Petrolia":MAILTO:boxoffice@petrolia.ca
END:VEVENT
BEGIN:VEVENT
DTSTART;TZID=America/Toronto:20230519T193000
DTEND;TZID=America/Toronto:20230519T230000
DTSTAMP:20260425T222126
CREATED:20230306T145023Z
LAST-MODIFIED:20230327T154554Z
UID:10014526-1684524600-1684537200@visitpetrolia.ca
SUMMARY:Jesse's Country Jubilee
DESCRIPTION:
URL:https://visitpetrolia.ca/event/jesses-country-jubilee/2023-05-19/
LOCATION:Victoria Hall\, 411 Greenfield Street\, Petrolia\, ON\, N0N1R0\, Canada
CATEGORIES:Victoria Playhouse
ORGANIZER;CN="Victoria Playhouse Petrolia":MAILTO:boxoffice@petrolia.ca
END:VEVENT
BEGIN:VEVENT
DTSTART;TZID=America/Toronto:20230518T140000
DTEND;TZID=America/Toronto:20230518T170000
DTSTAMP:20260425T222126
CREATED:20230306T145023Z
LAST-MODIFIED:20230327T154554Z
UID:10014525-1684418400-1684429200@visitpetrolia.ca
SUMMARY:Jesse's Country Jubilee
DESCRIPTION:
URL:https://visitpetrolia.ca/event/jesses-country-jubilee/2023-05-18/
LOCATION:Victoria Hall\, 411 Greenfield Street\, Petrolia\, ON\, N0N1R0\, Canada
CATEGORIES:Victoria Playhouse
ORGANIZER;CN="Victoria Playhouse Petrolia":MAILTO:boxoffice@petrolia.ca
END:VEVENT
BEGIN:VEVENT
DTSTART;TZID=America/Toronto:20230517T140000
DTEND;TZID=America/Toronto:20230517T170000
DTSTAMP:20260425T222126
CREATED:20230306T145023Z
LAST-MODIFIED:20230327T154554Z
UID:10014524-1684332000-1684342800@visitpetrolia.ca
SUMMARY:Jesse's Country Jubilee
DESCRIPTION:
URL:https://visitpetrolia.ca/event/jesses-country-jubilee/2023-05-17/
LOCATION:Victoria Hall\, 411 Greenfield Street\, Petrolia\, ON\, N0N1R0\, Canada
CATEGORIES:Victoria Playhouse
ORGANIZER;CN="Victoria Playhouse Petrolia":MAILTO:boxoffice@petrolia.ca
END:VEVENT
BEGIN:VEVENT
DTSTART;TZID=America/Toronto:20230516T140000
DTEND;TZID=America/Toronto:20230516T170000
DTSTAMP:20260425T222126
CREATED:20230306T145023Z
LAST-MODIFIED:20230327T154554Z
UID:10014523-1684245600-1684256400@visitpetrolia.ca
SUMMARY:Jesse's Country Jubilee
DESCRIPTION:
URL:https://visitpetrolia.ca/event/jesses-country-jubilee/2023-05-16/
LOCATION:Victoria Hall\, 411 Greenfield Street\, Petrolia\, ON\, N0N1R0\, Canada
CATEGORIES:Victoria Playhouse
ORGANIZER;CN="Victoria Playhouse Petrolia":MAILTO:boxoffice@petrolia.ca
END:VEVENT
BEGIN:VEVENT
DTSTART;TZID=America/Toronto:20230513T140000
DTEND;TZID=America/Toronto:20230513T170000
DTSTAMP:20260425T222126
CREATED:20230306T145023Z
LAST-MODIFIED:20230327T154554Z
UID:10014522-1683986400-1683997200@visitpetrolia.ca
SUMMARY:Jesse's Country Jubilee
DESCRIPTION:
URL:https://visitpetrolia.ca/event/jesses-country-jubilee/2023-05-13/
LOCATION:Victoria Hall\, 411 Greenfield Street\, Petrolia\, ON\, N0N1R0\, Canada
CATEGORIES:Victoria Playhouse
ORGANIZER;CN="Victoria Playhouse Petrolia":MAILTO:boxoffice@petrolia.ca
END:VEVENT
BEGIN:VEVENT
DTSTART;TZID=America/Toronto:20230512T140000
DTEND;TZID=America/Toronto:20230512T170000
DTSTAMP:20260425T222126
CREATED:20230306T145023Z
LAST-MODIFIED:20230327T154554Z
UID:10014521-1683900000-1683910800@visitpetrolia.ca
SUMMARY:Jesse's Country Jubilee
DESCRIPTION:
URL:https://visitpetrolia.ca/event/jesses-country-jubilee/2023-05-12/
LOCATION:Victoria Hall\, 411 Greenfield Street\, Petrolia\, ON\, N0N1R0\, Canada
CATEGORIES:Victoria Playhouse
ORGANIZER;CN="Victoria Playhouse Petrolia":MAILTO:boxoffice@petrolia.ca
END:VEVENT
BEGIN:VEVENT
DTSTART;TZID=America/Toronto:20230511T140000
DTEND;TZID=America/Toronto:20230511T170000
DTSTAMP:20260425T222126
CREATED:20230306T145023Z
LAST-MODIFIED:20230327T154554Z
UID:10014520-1683813600-1683824400@visitpetrolia.ca
SUMMARY:Jesse's Country Jubilee
DESCRIPTION:
URL:https://visitpetrolia.ca/event/jesses-country-jubilee/2023-05-11/
LOCATION:Victoria Hall\, 411 Greenfield Street\, Petrolia\, ON\, N0N1R0\, Canada
CATEGORIES:Victoria Playhouse
ORGANIZER;CN="Victoria Playhouse Petrolia":MAILTO:boxoffice@petrolia.ca
END:VEVENT
BEGIN:VEVENT
DTSTART;TZID=America/Toronto:20230510T140000
DTEND;TZID=America/Toronto:20230510T170000
DTSTAMP:20260425T222126
CREATED:20230306T145023Z
LAST-MODIFIED:20230327T154554Z
UID:10014519-1683727200-1683738000@visitpetrolia.ca
SUMMARY:Jesse's Country Jubilee
DESCRIPTION:
URL:https://visitpetrolia.ca/event/jesses-country-jubilee/2023-05-10/
LOCATION:Victoria Hall\, 411 Greenfield Street\, Petrolia\, ON\, N0N1R0\, Canada
CATEGORIES:Victoria Playhouse
ORGANIZER;CN="Victoria Playhouse Petrolia":MAILTO:boxoffice@petrolia.ca
END:VEVENT
END:VCALENDAR